{"text_format":"1","workbook":"xlsx","n_sheets":10,"sheets":["Participation Client Census","Client Census","Paychex Internal Census","PeoType","NM Zips","Properties","Backup1","Backup2","shComments","Employees"],"not_rendered":{"charts":0,"images":1,"macros":1,"external_links":0,"defined_names":10,"comments":0,"pivot_tables":0},"unopened":[],"bounds":{"document_bytes":16777216,"sheet_cells":100000,"rows_first":2000,"rows_last":500,"rows_between":2000,"halvings":0,"cell_chars":16384,"cell_head_chars":4096},"cells_cut":0,"cells_raw":0,"read":"whole","date_system":"1900"}

{"sheet":"Participation Client Census","index":0,"n_rows":13,"n_cols":10,"rows_kept":13,"cut":false,"hidden":true,"merged":[]}
[]
["# of FT employees",{"$f":"COUNTIFS('Client Census'!$H:$H,\"Employee\") + COUNTIFS('Client Census'!$H:$H,\"EE\")","v":0}]
["# Eligible employees",{"$f":"B2-B5-B6-B9","v":0}]
["# of enrolled",{"$f":"(D4+F4+H4+J4)-B5","v":0},"EE only",{"$f":"COUNTIFS('Client Census'!O:O,\"EE\",'Client Census'!$H:$H,\"Employee\") + COUNTIFS('Client Census'!O:O,\"Employee Only\",'Client Census'!$H:$H,\"Employee\") + COUNTIFS('Client Census'!O:O,\"EE\",'Client Census'!$H:$H,\"EE\") + COUNTIFS('Client Census'!O:O,\"Employee Only\",'Client Census'!$H:$H,\"EE\")","v":0},"ES",{"$f":"COUNTIFS('Client Census'!O:O,\"ES\",'Client Census'!$H:$H,\"Employee\") + COUNTIFS('Client Census'!O:O,\"Employee + Spouse\",'Client Census'!$H:$H,\"Employee\") + COUNTIFS('Client Census'!O:O,\"ES\",'Client Census'!$H:$H,\"EE\") + COUNTIFS('Client Census'!O:O,\"Employee + Spouse\",'Client Census'!$H:$H,\"EE\")","v":0},"EC",{"$f":"COUNTIFS('Client Census'!O:O,\"EC\",'Client Census'!$H:$H,\"Employee\")+COUNTIFS('Client Census'!O:O,\"Employee + Children\",'Client Census'!$H:$H,\"Employee\")+COUNTIFS('Client Census'!O:O,\"EC\",'Client Census'!$H:$H,\"EE\")+COUNTIFS('Client Census'!O:O,\"Employee + Children\",'Client Census'!$H:$H,\"EE\")","v":0},"Fam",{"$f":"COUNTIFS('Client Census'!O:O,\"Fam\",'Client Census'!$H:$H,\"Employee\") + COUNTIFS('Client Census'!O:O,\"Employee + Family\",'Client Census'!$H:$H,\"Employee\") + COUNTIFS('Client Census'!O:O,\"Fam\",'Client Census'!$H:$H,\"EE\") + COUNTIFS('Client Census'!O:O,\"Employee + Family\",'Client Census'!$H:$H,\"EE\")","v":0}]
["# of COBRA participants",{"$f":"COUNTIFS('Client Census'!$P:$P,\"Y\",'Client Census'!$H:$H,\"Employee\") +COUNTIFS('Client Census'!$P:$P,\"Y\",'Client Census'!$H:$H,\"EE\")","v":0}]
["# of waiting employees",{"$f":"COUNTIFS('Client Census'!O:O,\"WP\",'Client Census'!$H:$H,\"Employee\") + COUNTIFS('Client Census'!O:O,\"Waiting Period\",'Client Census'!$H:$H,\"Employee\") + COUNTIFS('Client Census'!O:O,\"WP\",'Client Census'!$H:$H,\"EE\") + COUNTIFS('Client Census'!O:O,\"Waiting Period\",'Client Census'!$H:$H,\"EE\")","v":0}]
["# Valid waivers",{"$f":"COUNTIFS('Client Census'!O:O,\"WO\",'Client Census'!$H:$H,\"Employee\") + COUNTIFS('Client Census'!O:O,\"Waived/Other Coverage\",'Client Census'!$H:$H,\"Employee\") + COUNTIFS('Client Census'!O:O,\"WO\",'Client Census'!$H:$H,\"EE\") + COUNTIFS('Client Census'!O:O,\"Waived/Other Coverage\",'Client Census'!$H:$H,\"EE\")","v":0}]
["# Refusing coverage",{"$f":"COUNTIFS('Client Census'!O:O,\"RC\",'Client Census'!$H:$H,\"Employee\") + COUNTIFS('Client Census'!O:O,\"Refusing Coverage\",'Client Census'!$H:$H,\"Employee\") + COUNTIFS('Client Census'!O:O,\"RC\",'Client Census'!$H:$H,\"EE\") + COUNTIFS('Client Census'!O:O,\"Refusing Coverage\",'Client Census'!$H:$H,\"EE\")","v":0}]
["# Class Out Employees",{"$f":"COUNTIFS('Client Census'!O:O,\"NE\",'Client Census'!$H:$H,\"Employee\") + COUNTIFS('Client Census'!O:O,\"Not Eligible\",'Client Census'!$H:$H,\"Employee\") + COUNTIFS('Client Census'!O:O,\"NE\",'Client Census'!$H:$H,\"EE\") + COUNTIFS('Client Census'!O:O,\"Not Eligible\",'Client Census'!$H:$H,\"EE\")","v":0}]
["Participation %",{"$f":"B4/B3","v":"#DIV/0!"}]
[]
[]
[null,{"$f":"COUNTIFS('Client Census'!B16:B5515,\"<>\")","v":30}]

{"sheet":"Client Census","index":1,"n_rows":5515,"n_cols":20,"rows_kept":5515,"cut":false,"hidden":false,"merged":[[13,1,14,1],[13,2,14,2],[13,3,14,3],[13,4,14,4],[13,5,14,5],[13,7,14,7],[13,6,14,6],[13,16,14,16],[13,17,14,17],[13,18,14,18],[13,13,14,13],[13,14,14,14],[13,15,14,15],[13,8,14,8],[13,9,14,9],[13,10,14,10],[13,11,14,11],[13,12,14,12],[6,2,6,3],[10,1,10,5],[13,0,14,0],[1,2,1,15],[2,2,2,15],[5,2,5,13],[12,1,12,15]]}
[]
[null,null,"Census",null,null,null,null,null,null,null,null,null,null,null,null,null,null,null,null,"Version: 10.0.1\nLast Updated: 09/05/2023"]
[]
[]
[]
[null,"Company Name:","LLPS, Inc."]
[null,"Fed Tax Id #:","38-3468792"]
[null,"Zip:",48917.0]
[]
[]
[null,"PINK FILLED CELLS = HAVE INSURANCE POLICIES"]
[]
[null,"Mandatory Fields"]
[null,"First Name*","Last Name*","Gender*","Date of Birth*","Home Zip Code*","Policy Type","Spouse","Spouse's DOB","Child #1 Name","Child #1                   DOB ","Child #1 Gender","Child #2 Name","Child #2                  DOB ","Child #2 Gender","COBRA Participant*\n(Select From Drop Down List)","Estimated Annual Wages","Job Title","Plan Name"]
[]
["1","Daniel","Austin","M","1984-05-21",48917.0,"Self"]
[2.0,"Michael","Bartlett","M","1985-04-25",48910.0]
["3","Celeste ","Bishop","F","1967-04-17",48917.0]
["4","Michael","Bishop","M","1965-01-25",48917.0,"Self + 1","Celeste Bishop","1967-04-17"]
["5","Amber","Blais","F","1982-03-09",48917.0,"Family (3)",null,null,"Alexis Jackson","2003-08-01","F","Jerry Jackson Jr.","2005-01-15","M"]
["6","Laura","Brock","F","1998-03-10",48910.0]
["7","Limika","Carter","F","1985-05-12",48917.0]
["8","Rachel","Christensen","F","1989-07-10",48917.0]
["9","Kathy","Connors","F","1993-03-30",48910.0,"Family (4)","Zachary Connors","1987-10-14","Isaiah Connors","2021-02-09","M","Zion Connors","2023-03-10","M"]
["10","Anthony","Duckett","M","1965-12-22",48823.0]
["11","Lisa","Eckert","F","1998-04-02",48911.0]
["12","Alexander","Fata","M","1989-01-06",48917.0,"Self"]
["13","Anthony","Fata","M","1960-04-02",48917.0,"Self + 1","Lianna Fata","1961-04-21"]
["14","Gino","Fata","M","1999-03-21",48917.0]
["15","Joseph","Fata","M","1957-01-06",48917.0,"Family (3)","Michelle Fata","1978-03-06","Gem Fata","2012-05-28","M"]
["16","Justin","Fata","M","1987-09-20",49686.0,"Family (4)","Amanda Fata","1988-04-08","Josephina Fata","2014-10-23","F","Enzo fata","2018-03-01"]
["17","Thomas","Fata","M","1958-05-28",48917.0,"Family (3)","Susanna Fata","1979-05-24","Diego Lopez ","2003-01-26","M"]
["18","Amy","Fisher","F","1973-05-19",48837.0]
["19","Christopher","Gaffney","M","1996-11-09",48911.0]
["20","Jennifer","Hosmer","F","1985-05-19",48837.0,"Self"]
["21","Marquita","Jones","F","1985-08-06",48917.0]
["22","Taryn","Jones","F","1991-11-16",48910.0]
["23","Jennifer","Kidwell","F","1980-09-15",48823.0]
["24","Melissa","Peterson","F","1977-11-08",48917.0]
["25","Cameron","Stenzel","M","2005-07-08",48906.0]
["26","Joseph","Stenzel","M","1986-04-07",48917.0,"Self"]
["27","Nicklas","Thoren","M","2002-12-25",48910.0]
["28","Kristi","Turpin","F","1992-02-02",48911.0]
["29","Hannah","Warner","F","1998-03-22",48837.0]
["30","Cynthia","Wilson","F","1966-01-12",48906.0]
["31"]
["32"]
["33"]
["34"]
["35"]
["36"]
["37"]
["38"]
["39"]
["40"]
["41"]
["42"]
["43"]
["44"]
["45"]
["46"]
["47"]
["48"]
["49"]
["50"]
["51"]
["52"]
["53"]
["54"]
["55"]
["56"]
["57"]
["58"]
["59"]
["60"]
["61"]
["62"]
["63"]
["64"]
["65"]
["66"]
["67"]
["68"]
["69"]
["70"]
["71"]
["72"]
["73"]
["74"]
["75"]
["76"]
["77"]
["78"]
["79"]
["80"]
["81"]
["82"]
["83"]
["84"]
["85"]
["86"]
["87"]
["88"]
["89"]
["90"]
["91"]
["92"]
["93"]
["94"]
["95"]
["96"]
["97"]
["98"]
["99"]
["100"]
["101"]
["102"]
["103"]
["104"]
["105"]
["106"]
["107"]
["108"]
["109"]
["110"]
["111"]
["112"]
["113"]
["114"]
["115"]
["116"]
["117"]
["118"]
["119"]
["120"]
["121"]
["122"]
["123"]
["124"]
["125"]
["126"]
["127"]
["128"]
["129"]
["130"]
["131"]
["132"]
["133"]
["134"]
["135"]
["136"]
["137"]
["138"]
["139"]
["140"]
["141"]
["142"]
["143"]
["144"]
["145"]
["146"]
["147"]
["148"]
["149"]
["150"]
["151"]
["152"]
["153"]
["154"]
["155"]
["156"]
["157"]
["158"]
["159"]
["160"]
["161"]
["162"]
["163"]
["164"]
["165"]
["166"]
["167"]
["168"]
["169"]
["170"]
["171"]
["172"]
["173"]
["174"]
["175"]
["176"]
["177"]
["178"]
["179"]
["180"]
["181"]
["182"]
["183"]
["184"]
["185"]
["186"]
["187"]
["188"]
["189"]
["190"]
["191"]
["192"]
["193"]
["194"]
["195"]
["196"]
["197"]
["198"]
["199"]
["200"]
["201"]
["202"]
["203"]
["204"]
["205"]
["206"]
["207"]
["208"]
["209"]
["210"]
["211"]
["212"]
["213"]
["214"]
["215"]
["216"]
["217"]
["218"]
["219"]
["220"]
["221"]
["222"]
["223"]
["224"]
["225"]
[{"$f":"A240+1","v":226}]
[227]
[228]
[229]
[230]
[231]
[232]
[233]
[234]
[235]
[236]
[237]
[238]
[239]
[240]
[241]
[242]
[243]
[244]
[245]
[246]
[247]
[248]
[249]
[250]
[251]
[252]
[253]
[254]
[255]
[256]
[257]
[258]
[259]
[260]
[261]
[262]
[263]
[264]
[265]
[266]
[267]
[268]
[269]
[270]
[271]
[272]
[273]
[274]
[275]
[276]
[277]
[278]
[279]
[280]
[281]
[282]
[283]
[284]
[285]
[286]
[287]
[288]
[289]
[290]
[291]
[292]
[293]
[294]
[295]
[296]
[297]
[298]
[299]
[300]
[301]
[302]
[303]
[304]
[305]
[306]
[307]
[308]
[309]
[310]
[311]
[312]
[313]
[314]
[315]
[316]
[317]
[318]
[319]
[320]
[321]
[322]
[323]
[324]
[325]
[326]
[327]
[328]
[329]
[330]
[331]
[332]
[333]
[334]
[335]
[336]
[337]
[338]
[339]
[340]
[341]
[342]
[343]
[344]
[345]
[346]
[347]
[348]
[349]
[350]
[351]
[352]
[353]
[354]
[355]
[356]
[357]
[358]
[359]
[360]
[361]
[362]
[363]
[364]
[365]
[366]
[367]
[368]
[369]
[370]
[371]
[372]
[373]
[374]
[375]
[376]
[377]
[378]
[379]
[380]
[381]
[382]
[383]
[384]
[385]
[386]
[387]
[388]
[389]
[390]
[391]
[392]
[393]
[394]
[395]
[396]
[397]
[398]
[399]
[400]
[401]
[402]
[403]
[404]
[405]
[406]
[407]
[408]
[409]
[410]
[411]
[412]
[413]
[414]
[415]
[416]
[417]
[418]
[419]
[420]
[421]
[422]
[423]
[424]
[425]
[426]
[427]
[428]
[429]
[430]
[431]
[432]
[433]
[434]
[435]
[436]
[437]
[438]
[439]
[440]
[441]
[442]
[443]
[444]
[445]
[446]
[447]
[448]
[449]
[450]
[451]
[452]
[453]
[454]
[455]
[456]
[457]
[458]
[459]
[460]
[461]
[462]
[463]
[464]
[465]
[466]
[467]
[468]
[469]
[470]
[471]
[472]
[473]
[474]
[475]
[476]
[477]
[478]
[479]
[480]
[481]
[482]
[483]
[484]
[485]
[486]
[487]
[488]
[489]
[490]
[491]
[492]
[493]
[494]
[495]
[496]
[497]
[498]
[499]
[500]
[501]
[502]
[503]
[504]
[505]
[506]
[507]
[508]
[509]
[510]
[511]
[512]
[513]
[514]
[515]
[516]
[517]
[518]
[519]
[520]
[521]
[522]
[523]
[524]
[525]
[526]
[527]
[528]
[529]
[530]
[531]
[532]
[533]
[534]
[535]
[536]
[537]
[538]
[539]
[540]
[541]
[542]
[543]
[544]
[545]
[546]
[547]
[548]
[549]
[550]
[551]
[552]
[553]
[554]
[555]
[556]
[557]
[558]
[559]
[560]
[561]
[562]
[563]
[564]
[565]
[566]
[567]
[568]
[569]
[570]
[571]
[572]
[573]
[574]
[575]
[576]
[577]
[578]
[579]
[580]
[581]
[582]
[583]
[584]
[585]
[586]
[587]
[588]
[589]
[590]
[591]
[592]
[593]
[594]
[595]
[596]
[597]
[598]
[599]
[600]
[601]
[602]
[603]
[604]
[605]
[606]
[607]
[608]
[609]
[610]
[611]
[612]
[613]
[614]
[615]
[616]
[617]
[618]
[619]
[620]
[621]
[622]
[623]
[624]
[625]
[626]
[627]
[628]
[629]
[630]
[631]
[632]
[633]
[634]
[635]
[636]
[637]
[638]
[639]
[640]
[641]
[642]
[643]
[644]
[645]
[646]
[647]
[648]
[649]
[650]
[651]
[652]
[653]
[654]
[655]
[656]
[657]
[658]
[659]
[660]
[661]
[662]
[663]
[664]
[665]
[666]
[667]
[668]
[669]
[670]
[671]
[672]
[673]
[674]
[675]
[676]
[677]
[678]
[679]
[680]
[681]
[682]
[683]
[684]
[685]
[686]
[687]
[688]
[689]
[690]
[691]
[692]
[693]
[694]
[695]
[696]
[697]
[698]
[699]
[700]
[701]
[702]
[703]
[704]
[705]
[706]
[707]
[708]
[709]
[710]
[711]
[712]
[713]
[714]
[715]
[716]
[717]
[718]
[719]
[720]
[721]
[722]
[723]
[724]
[725]
[726]
[727]
[728]
[729]
[730]
[731]
[732]
[733]
[734]
[735]
[736]
[737]
[738]
[739]
[740]
[741]
[742]
[743]
[744]
[745]
[746]
[747]
[748]
[749]
[750]
[751]
[752]
[753]
[754]
[755]
[756]
[757]
[758]
[759]
[760]
[761]
[762]
[763]
[764]
[765]
[766]
[767]
[768]
[769]
[770]
[771]
[772]
[773]
[774]
[775]
[776]
[777]
[778]
[779]
[780]
[781]
[782]
[783]
[784]
[785]
[786]
[787]
[788]
[789]
[790]
[791]
[792]
[793]
[794]
[795]
[796]
[797]
[798]
[799]
[800]
[801]
[802]
[803]
[804]
[805]
[806]
[807]
[808]
[809]
[810]
[811]
[812]
[813]
[814]
[815]
[816]
[817]
[818]
[819]
[820]
[821]
[822]
[823]
[824]
[825]
[826]
[827]
[828]
[829]
[830]
[831]
[832]
[833]
[834]
[835]
[836]
[837]
[838]
[839]
[840]
[841]
[842]
[843]
[844]
[845]
[846]
[847]
[848]
[849]
[850]
[851]
[852]
[853]
[854]
[855]
[856]
[857]
[858]
[859]
[860]
[861]
[862]
[863]
[864]
[865]
[866]
[867]
[868]
[869]
[870]
[871]
[872]
[873]
[874]
[875]
[876]
[877]
[878]
[879]
[880]
[881]
[882]
[883]
[884]
[885]
[886]
[887]
[888]
[889]
[890]
[891]
[892]
[893]
[894]
[895]
[896]
[897]
[898]
[899]
[900]
[901]
[902]
[903]
[904]
[905]
[906]
[907]
[908]
[909]
[910]
[911]
[912]
[913]
[914]
[915]
[916]
[917]
[918]
[919]
[920]
[921]
[922]
[923]
[924]
[925]
[926]
[927]
[928]
[929]
[930]
[931]
[932]
[933]
[934]
[935]
[936]
[937]
[938]
[939]
[940]
[941]
[942]
[943]
[944]
[945]
[946]
[947]
[948]
[949]
[950]
[951]
[952]
[953]
[954]
[955]
[956]
[957]
[958]
[959]
[960]
[961]
[962]
[963]
[964]
[965]
[966]
[967]
[968]
[969]
[970]
[971]
[972]
[973]
[974]
[975]
[976]
[977]
[978]
[979]
[980]
[981]
[982]
[983]
[984]
[985]
[986]
[987]
[988]
[989]
[990]
[991]
[992]
[993]
[994]
[995]
[996]
[997]
[998]
[999]
[1000]
[1001]
[1002]
[1003]
[1004]
[1005]
[1006]
[1007]
[1008]
[1009]
[1010]
[1011]
[1012]
[1013]
[1014]
[1015]
[1016]
[1017]
[1018]
[1019]
[1020]
[1021]
[1022]
[1023]
[1024]
[1025]
[1026]
[1027]
[1028]
[1029]
[1030]
[1031]
[1032]
[1033]
[1034]
[1035]
[1036]
[1037]
[1038]
[1039]
[1040]
[1041]
[1042]
[1043]
[1044]
[1045]
[1046]
[1047]
[1048]
[1049]
[1050]
[1051]
[1052]
[1053]
[1054]
[1055]
[1056]
[1057]
[1058]
[1059]
[1060]
[1061]
[1062]
[1063]
[1064]
[1065]
[1066]
[1067]
[1068]
[1069]
[1070]
[1071]
[1072]
[1073]
[1074]
[1075]
[1076]
[1077]
[1078]
[1079]
[1080]
[1081]
[1082]
[1083]
[1084]
[1085]
[1086]
[1087]
[1088]
[1089]
[1090]
[1091]
[1092]
[1093]
[1094]
[1095]
[1096]
[1097]
[1098]
[1099]
[1100]
[1101]
[1102]
[1103]
[1104]
[1105]
[1106]
[1107]
[1108]
[1109]
[1110]
[1111]
[1112]
[1113]
[1114]
[1115]
[1116]
[1117]
[1118]
[1119]
[1120]
[1121]
[1122]
[1123]
[1124]
[1125]
[1126]
[1127]
[1128]
[1129]
[1130]
[1131]
[1132]
[1133]
[1134]
[1135]
[1136]
[1137]
[1138]
[1139]
[1140]
[1141]
[1142]
[1143]
[1144]
[1145]
[1146]
[1147]
[1148]
[1149]
[1150]
[1151]
[1152]
[1153]
[1154]
[1155]
[1156]
[1157]
[1158]
[1159]
[1160]
[1161]
[1162]
[1163]
[1164]
[1165]
[1166]
[1167]
[1168]
[1169]
[1170]
[1171]
[1172]
[1173]
[1174]
[1175]
[1176]
[1177]
[1178]
[1179]
[1180]
[1181]
[1182]
[1183]
[1184]
[1185]
[1186]
[1187]
[1188]
[1189]
[1190]
[1191]
[1192]
[1193]
[1194]
[1195]
[1196]
[1197]
[1198]
[1199]
[1200]
[1201]
[1202]
[1203]
[1204]
[1205]
[1206]
[1207]
[1208]
[1209]
[1210]
[1211]
[1212]
[1213]
[1214]
[1215]
[1216]
[1217]
[1218]
[1219]
[1220]
[1221]
[1222]
[1223]
[1224]
[1225]
[1226]
[1227]
[1228]
[1229]
[1230]
[1231]
[1232]
[1233]
[1234]
[1235]
[1236]
[1237]
[1238]
[1239]
[1240]
[1241]
[1242]
[1243]
[1244]
[1245]
[1246]
[1247]
[1248]
[1249]
[1250]
[1251]
[1252]
[1253]
[1254]
[1255]
[1256]
[1257]
[1258]
[1259]
[1260]
[1261]
[1262]
[1263]
[1264]
[1265]
[1266]
[1267]
[1268]
[1269]
[1270]
[1271]
[1272]
[1273]
[1274]
[1275]
[1276]
[1277]
[1278]
[1279]
[1280]
[1281]
[1282]
[1283]
[1284]
[1285]
[1286]
[1287]
[1288]
[1289]
[1290]
[1291]
[1292]
[1293]
[1294]
[1295]
[1296]
[1297]
[1298]
[1299]
[1300]
[1301]
[1302]
[1303]
[1304]
[1305]
[1306]
[1307]
[1308]
[1309]
[1310]
[1311]
[1312]
[1313]
[1314]
[1315]
[1316]
[1317]
[1318]
[1319]
[1320]
[1321]
[1322]
[1323]
[1324]
[1325]
[1326]
[1327]
[1328]
[1329]
[1330]
[1331]
[1332]
[1333]
[1334]
[1335]
[1336]
[1337]
[1338]
[1339]
[1340]
[1341]
[1342]
[1343]
[1344]
[1345]
[1346]
[1347]
[1348]
[1349]
[1350]
[1351]
[1352]
[1353]
[1354]
[1355]
[1356]
[1357]
[1358]
[1359]
[1360]
[1361]
[1362]
[1363]
[1364]
[1365]
[1366]
[1367]
[1368]
[1369]
[1370]
[1371]
[1372]
[1373]
[1374]
[1375]
[1376]
[1377]
[1378]
[1379]
[1380]
[1381]
[1382]
[1383]
[1384]
[1385]
[1386]
[1387]
[1388]
[1389]
[1390]
[1391]
[1392]
[1393]
[1394]
[1395]
[1396]
[1397]
[1398]
[1399]
[1400]
[1401]
[1402]
[1403]
[1404]
[1405]
[1406]
[1407]
[1408]
[1409]
[1410]
[1411]
[1412]
[1413]
[1414]
[1415]
[1416]
[1417]
[1418]
[1419]
[1420]
[1421]
[1422]
[1423]
[1424]
[1425]
[1426]
[1427]
[1428]
[1429]
[1430]
[1431]
[1432]
[1433]
[1434]
[1435]
[1436]
[1437]
[1438]
[1439]
[1440]
[1441]
[1442]
[1443]
[1444]
[1445]
[1446]
[1447]
[1448]
[1449]
[1450]
[1451]
[1452]
[1453]
[1454]
[1455]
[1456]
[1457]
[1458]
[1459]
[1460]
[1461]
[1462]
[1463]
[1464]
[1465]
[1466]
[1467]
[1468]
[1469]
[1470]
[1471]
[1472]
[1473]
[1474]
[1475]
[1476]
[1477]
[1478]
[1479]
[1480]
[1481]
[1482]
[1483]
[1484]
[1485]
[1486]
[1487]
[1488]
[1489]
[1490]
[1491]
[1492]
[1493]
[1494]
[1495]
[1496]
[1497]
[1498]
[1499]
[1500]
[1501]
[1502]
[1503]
[1504]
[1505]
[1506]
[1507]
[1508]
[1509]
[1510]
[1511]
[1512]
[1513]
[1514]
[1515]
[1516]
[1517]
[1518]
[1519]
[1520]
[1521]
[1522]
[1523]
[1524]
[1525]
[1526]
[1527]
[1528]
[1529]
[1530]
[1531]
[1532]
[1533]
[1534]
[1535]
[1536]
[1537]
[1538]
[1539]
[1540]
[1541]
[1542]
[1543]
[1544]
[1545]
[1546]
[1547]
[1548]
[1549]
[1550]
[1551]
[1552]
[1553]
[1554]
[1555]
[1556]
[1557]
[1558]
[1559]
[1560]
[1561]
[1562]
[1563]
[1564]
[1565]
[1566]
[1567]
[1568]
[1569]
[1570]
[1571]
[1572]
[1573]
[1574]
[1575]
[1576]
[1577]
[1578]
[1579]
[1580]
[1581]
[1582]
[1583]
[1584]
[1585]
[1586]
[1587]
[1588]
[1589]
[1590]
[1591]
[1592]
[1593]
[1594]
[1595]
[1596]
[1597]
[1598]
[1599]
[1600]
[1601]
[1602]
[1603]
[1604]
[1605]
[1606]
[1607]
[1608]
[1609]
[1610]
[1611]
[1612]
[1613]
[1614]
[1615]
[1616]
[1617]
[1618]
[1619]
[1620]
[1621]
[1622]
[1623]
[1624]
[1625]
[1626]
[1627]
[1628]
[1629]
[1630]
[1631]
[1632]
[1633]
[1634]
[1635]
[1636]
[1637]
[1638]
[1639]
[1640]
[1641]
[1642]
[1643]
[1644]
[1645]
[1646]
[1647]
[1648]
[1649]
[1650]
[1651]
[1652]
[1653]
[1654]
[1655]
[1656]
[1657]
[1658]
[1659]
[1660]
[1661]
[1662]
[1663]
[1664]
[1665]
[1666]
[1667]
[1668]
[1669]
[1670]
[1671]
[1672]
[1673]
[1674]
[1675]
[1676]
[1677]
[1678]
[1679]
[1680]
[1681]
[1682]
[1683]
[1684]
[1685]
[1686]
[1687]
[1688]
[1689]
[1690]
[1691]
[1692]
[1693]
[1694]
[1695]
[1696]
[1697]
[1698]
[1699]
[1700]
[1701]
[1702]
[1703]
[1704]
[1705]
[1706]
[1707]
[1708]
[1709]
[1710]
[1711]
[1712]
[1713]
[1714]
[1715]
[1716]
[1717]
[1718]
[1719]
[1720]
[1721]
[1722]
[1723]
[1724]
[1725]
[1726]
[1727]
[1728]
[1729]
[1730]
[1731]
[1732]
[1733]
[1734]
[1735]
[1736]
[1737]
[1738]
[1739]
[1740]
[1741]
[1742]
[1743]
[1744]
[1745]
[1746]
[1747]
[1748]
[1749]
[1750]
[1751]
[1752]
[1753]
[1754]
[1755]
[1756]
[1757]
[1758]
[1759]
[1760]
[1761]
[1762]
[1763]
[1764]
[1765]
[1766]
[1767]
[1768]
[1769]
[1770]
[1771]
[1772]
[1773]
[1774]
[1775]
[1776]
[1777]
[1778]
[1779]
[1780]
[1781]
[1782]
[1783]
[1784]
[1785]
[1786]
[1787]
[1788]
[1789]
[1790]
[1791]
[1792]
[1793]
[1794]
[1795]
[1796]
[1797]
[1798]
[1799]
[1800]
[1801]
[1802]
[1803]
[1804]
[1805]
[1806]
[1807]
[1808]
[1809]
[1810]
[1811]
[1812]
[1813]
[1814]
[1815]
[1816]
[1817]
[1818]
[1819]
[1820]
[1821]
[1822]
[1823]
[1824]
[1825]
[1826]
[1827]
[1828]
[1829]
[1830]
[1831]
[1832]
[1833]
[1834]
[1835]
[1836]
[1837]
[1838]
[1839]
[1840]
[1841]
[1842]
[1843]
[1844]
[1845]
[1846]
[1847]
[1848]
[1849]
[1850]
[1851]
[1852]
[1853]
[1854]
[1855]
[1856]
[1857]
[1858]
[1859]
[1860]
[1861]
[1862]
[1863]
[1864]
[1865]
[1866]
[1867]
[1868]
[1869]
[1870]
[1871]
[1872]
[1873]
[1874]
[1875]
[1876]
[1877]
[1878]
[1879]
[1880]
[1881]
[1882]
[1883]
[1884]
[1885]
[1886]
[1887]
[1888]
[1889]
[1890]
[1891]
[1892]
[1893]
[1894]
[1895]
[1896]
[1897]
[1898]
[1899]
[1900]
[1901]
[1902]
[1903]
[1904]
[1905]
[1906]
[1907]
[1908]
[1909]
[1910]
[1911]
[1912]
[1913]
[1914]
[1915]
[1916]
[1917]
[1918]
[1919]
[1920]
[1921]
[1922]
[1923]
[1924]
[1925]
[1926]
[1927]
[1928]
[1929]
[1930]
[1931]
[1932]
[1933]
[1934]
[1935]
[1936]
[1937]
[1938]
[1939]
[1940]
[1941]
[1942]
[1943]
[1944]
[1945]
[1946]
[1947]
[1948]
[1949]
[1950]
[1951]
[1952]
[1953]
[1954]
[1955]
[1956]
[1957]
[1958]
[1959]
[1960]
[1961]
[1962]
[1963]
[1964]
[1965]
[1966]
[1967]
[1968]
[1969]
[1970]
[1971]
[1972]
[1973]
[1974]
[1975]
[1976]
[1977]
[1978]
[1979]
[1980]
[1981]
[1982]
[1983]
[1984]
[1985]
[1986]
[1987]
[1988]
[1989]
[1990]
[1991]
[1992]
[1993]
[1994]
[1995]
[1996]
[1997]
[1998]
[1999]
[2000]
[2001]
[2002]
[2003]
[2004]
[2005]
[2006]
[2007]
[2008]
[2009]
[2010]
[2011]
[2012]
[2013]
[2014]
[2015]
[2016]
[2017]
[2018]
[2019]
[2020]
[2021]
[2022]
[2023]
[2024]
[2025]
[2026]
[2027]
[2028]
[2029]
[2030]
[2031]
[2032]
[2033]
[2034]
[2035]
[2036]
[2037]
[2038]
[2039]
[2040]
[2041]
[2042]
[2043]
[2044]
[2045]
[2046]
[2047]
[2048]
[2049]
[2050]
[2051]
[2052]
[2053]
[2054]
[2055]
[2056]
[2057]
[2058]
[2059]
[2060]
[2061]
[2062]
[2063]
[2064]
[2065]
[2066]
[2067]
[2068]
[2069]
[2070]
[2071]
[2072]
[2073]
[2074]
[2075]
[2076]
[2077]
[2078]
[2079]
[2080]
[2081]
[2082]
[2083]
[2084]
[2085]
[2086]
[2087]
[2088]
[2089]
[2090]
[2091]
[2092]
[2093]
[2094]
[2095]
[2096]
[2097]
[2098]
[2099]
[2100]
[2101]
[2102]
[2103]
[2104]
[2105]
[2106]
[2107]
[2108]
[2109]
[2110]
[2111]
[2112]
[2113]
[2114]
[2115]
[2116]
[2117]
[2118]
[2119]
[2120]
[2121]
[2122]
[2123]
[2124]
[2125]
[2126]
[2127]
[2128]
[2129]
[2130]
[2131]
[2132]
[2133]
[2134]
[2135]
[2136]
[2137]
[2138]
[2139]
[2140]
[2141]
[2142]
[2143]
[2144]
[2145]
[2146]
[2147]
[2148]
[2149]
[2150]
[2151]
[2152]
[2153]
[2154]
[2155]
[2156]
[2157]
[2158]
[2159]
[2160]
[2161]
[2162]
[2163]
[2164]
[2165]
[2166]
[2167]
[2168]
[2169]
[2170]
[2171]
[2172]
[2173]
[2174]
[2175]
[2176]
[2177]
[2178]
[2179]
[2180]
[2181]
[2182]
[2183]
[2184]
[2185]
[2186]
[2187]
[2188]
[2189]
[2190]
[2191]
[2192]
[2193]
[2194]
[2195]
[2196]
[2197]
[2198]
[2199]
[2200]
[2201]
[2202]
[2203]
[2204]
[2205]
[2206]
[2207]
[2208]
[2209]
[2210]
[2211]
[2212]
[2213]
[2214]
[2215]
[2216]
[2217]
[2218]
[2219]
[2220]
[2221]
[2222]
[2223]
[2224]
[2225]
[2226]
[2227]
[2228]
[2229]
[2230]
[2231]
[2232]
[2233]
[2234]
[2235]
[2236]
[2237]
[2238]
[2239]
[2240]
[2241]
[2242]
[2243]
[2244]
[2245]
[2246]
[2247]
[2248]
[2249]
[2250]
[2251]
[2252]
[2253]
[2254]
[2255]
[2256]
[2257]
[2258]
[2259]
[2260]
[2261]
[2262]
[2263]
[2264]
[2265]
[2266]
[2267]
[2268]
[2269]
[2270]
[2271]
[2272]
[2273]
[2274]
[2275]
[2276]
[2277]
[2278]
[2279]
[2280]
[2281]
[2282]
[2283]
[2284]
[2285]
[2286]
[2287]
[2288]
[2289]
[2290]
[2291]
[2292]
[2293]
[2294]
[2295]
[2296]
[2297]
[2298]
[2299]
[2300]
[2301]
[2302]
[2303]
[2304]
[2305]
[2306]
[2307]
[2308]
[2309]
[2310]
[2311]
[2312]
[2313]
[2314]
[2315]
[2316]
[2317]
[2318]
[2319]
[2320]
[2321]
[2322]
[2323]
[2324]
[2325]
[2326]
[2327]
[2328]
[2329]
[2330]
[2331]
[2332]
[2333]
[2334]
[2335]
[2336]
[2337]
[2338]
[2339]
[2340]
[2341]
[2342]
[2343]
[2344]
[2345]
[2346]
[2347]
[2348]
[2349]
[2350]
[2351]
[2352]
[2353]
[2354]
[2355]
[2356]
[2357]
[2358]
[2359]
[2360]
[2361]
[2362]
[2363]
[2364]
[2365]
[2366]
[2367]
[2368]
[2369]
[2370]
[2371]
[2372]
[2373]
[2374]
[2375]
[2376]
[2377]
[2378]
[2379]
[2380]
[2381]
[2382]
[2383]
[2384]
[2385]
[2386]
[2387]
[2388]
[2389]
[2390]
[2391]
[2392]
[2393]
[2394]
[2395]
[2396]
[2397]
[2398]
[2399]
[2400]
[2401]
[2402]
[2403]
[2404]
[2405]
[2406]
[2407]
[2408]
[2409]
[2410]
[2411]
[2412]
[2413]
[2414]
[2415]
[2416]
[2417]
[2418]
[2419]
[2420]
[2421]
[2422]
[2423]
[2424]
[2425]
[2426]
[2427]
[2428]
[2429]
[2430]
[2431]
[2432]
[2433]
[2434]
[2435]
[2436]
[2437]
[2438]
[2439]
[2440]
[2441]
[2442]
[2443]
[2444]
[2445]
[2446]
[2447]
[2448]
[2449]
[2450]
[2451]
[2452]
[2453]
[2454]
[2455]
[2456]
[2457]
[2458]
[2459]
[2460]
[2461]
[2462]
[2463]
[2464]
[2465]
[2466]
[2467]
[2468]
[2469]
[2470]
[2471]
[2472]
[2473]
[2474]
[2475]
[2476]
[2477]
[2478]
[2479]
[2480]
[2481]
[2482]
[2483]
[2484]
[2485]
[2486]
[2487]
[2488]
[2489]
[2490]
[2491]
[2492]
[2493]
[2494]
[2495]
[2496]
[2497]
[2498]
[2499]
[2500]
[2501]
[2502]
[2503]
[2504]
[2505]
[2506]
[2507]
[2508]
[2509]
[2510]
[2511]
[2512]
[2513]
[2514]
[2515]
[2516]
[2517]
[2518]
[2519]
[2520]
[2521]
[2522]
[2523]
[2524]
[2525]
[2526]
[2527]
[2528]
[2529]
[2530]
[2531]
[2532]
[2533]
[2534]
[2535]
[2536]
[2537]
[2538]
[2539]
[2540]
[2541]
[2542]
[2543]
[2544]
[2545]
[2546]
[2547]
[2548]
[2549]
[2550]
[2551]
[2552]
[2553]
[2554]
[2555]
[2556]
[2557]
[2558]
[2559]
[2560]
[2561]
[2562]
[2563]
[2564]
[2565]
[2566]
[2567]
[2568]
[2569]
[2570]
[2571]
[2572]
[2573]
[2574]
[2575]
[2576]
[2577]
[2578]
[2579]
[2580]
[2581]
[2582]
[2583]
[2584]
[2585]
[2586]
[2587]
[2588]
[2589]
[2590]
[2591]
[2592]
[2593]
[2594]
[2595]
[2596]
[2597]
[2598]
[2599]
[2600]
[2601]
[2602]
[2603]
[2604]
[2605]
[2606]
[2607]
[2608]
[2609]
[2610]
[2611]
[2612]
[2613]
[2614]
[2615]
[2616]
[2617]
[2618]
[2619]
[2620]
[2621]
[2622]
[2623]
[2624]
[2625]
[2626]
[2627]
[2628]
[2629]
[2630]
[2631]
[2632]
[2633]
[2634]
[2635]
[2636]
[2637]
[2638]
[2639]
[2640]
[2641]
[2642]
[2643]
[2644]
[2645]
[2646]
[2647]
[2648]
[2649]
[2650]
[2651]
[2652]
[2653]
[2654]
[2655]
[2656]
[2657]
[2658]
[2659]
[2660]
[2661]
[2662]
[2663]
[2664]
[2665]
[2666]
[2667]
[2668]
[2669]
[2670]
[2671]
[2672]
[2673]
[2674]
[2675]
[2676]
[2677]
[2678]
[2679]
[2680]
[2681]
[2682]
[2683]
[2684]
[2685]
[2686]
[2687]
[2688]
[2689]
[2690]
[2691]
[2692]
[2693]
[2694]
[2695]
[2696]
[2697]
[2698]
[2699]
[2700]
[2701]
[2702]
[2703]
[2704]
[2705]
[2706]
[2707]
[2708]
[2709]
[2710]
[2711]
[2712]
[2713]
[2714]
[2715]
[2716]
[2717]
[2718]
[2719]
[2720]
[2721]
[2722]
[2723]
[2724]
[2725]
[2726]
[2727]
[2728]
[2729]
[2730]
[2731]
[2732]
[2733]
[2734]
[2735]
[2736]
[2737]
[2738]
[2739]
[2740]
[2741]
[2742]
[2743]
[2744]
[2745]
[2746]
[2747]
[2748]
[2749]
[2750]
[2751]
[2752]
[2753]
[2754]
[2755]
[2756]
[2757]
[2758]
[2759]
[2760]
[2761]
[2762]
[2763]
[2764]
[2765]
[2766]
[2767]
[2768]
[2769]
[2770]
[2771]
[2772]
[2773]
[2774]
[2775]
[2776]
[2777]
[2778]
[2779]
[2780]
[2781]
[2782]
[2783]
[2784]
[2785]
[2786]
[2787]
[2788]
[2789]
[2790]
[2791]
[2792]
[2793]
[2794]
[2795]
[2796]
[2797]
[2798]
[2799]
[2800]
[2801]
[2802]
[2803]
[2804]
[2805]
[2806]
[2807]
[2808]
[2809]
[2810]
[2811]
[2812]
[2813]
[2814]
[2815]
[2816]
[2817]
[2818]
[2819]
[2820]
[2821]
[2822]
[2823]
[2824]
[2825]
[2826]
[2827]
[2828]
[2829]
[2830]
[2831]
[2832]
[2833]
[2834]
[2835]
[2836]
[2837]
[2838]
[2839]
[2840]
[2841]
[2842]
[2843]
[2844]
[2845]
[2846]
[2847]
[2848]
[2849]
[2850]
[2851]
[2852]
[2853]
[2854]
[2855]
[2856]
[2857]
[2858]
[2859]
[2860]
[2861]
[2862]
[2863]
[2864]
[2865]
[2866]
[2867]
[2868]
[2869]
[2870]
[2871]
[2872]
[2873]
[2874]
[2875]
[2876]
[2877]
[2878]
[2879]
[2880]
[2881]
[2882]
[2883]
[2884]
[2885]
[2886]
[2887]
[2888]
[2889]
[2890]
[2891]
[2892]
[2893]
[2894]
[2895]
[2896]
[2897]
[2898]
[2899]
[2900]
[2901]
[2902]
[2903]
[2904]
[2905]
[2906]
[2907]
[2908]
[2909]
[2910]
[2911]
[2912]
[2913]
[2914]
[2915]
[2916]
[2917]
[2918]
[2919]
[2920]
[2921]
[2922]
[2923]
[2924]
[2925]
[2926]
[2927]
[2928]
[2929]
[2930]
[2931]
[2932]
[2933]
[2934]
[2935]
[2936]
[2937]
[2938]
[2939]
[2940]
[2941]
[2942]
[2943]
[2944]
[2945]
[2946]
[2947]
[2948]
[2949]
[2950]
[2951]
[2952]
[2953]
[2954]
[2955]
[2956]
[2957]
[2958]
[2959]
[2960]
[2961]
[2962]
[2963]
[2964]
[2965]
[2966]
[2967]
[2968]
[2969]
[2970]
[2971]
[2972]
[2973]
[2974]
[2975]
[2976]
[2977]
[2978]
[2979]
[2980]
[2981]
[2982]
[2983]
[2984]
[2985]
[2986]
[2987]
[2988]
[2989]
[2990]
[2991]
[2992]
[2993]
[2994]
[2995]
[2996]
[2997]
[2998]
[2999]
[3000]
[3001]
[3002]
[3003]
[3004]
[3005]
[3006]
[3007]
[3008]
[3009]
[3010]
[3011]
[3012]
[3013]
[3014]
[3015]
[3016]
[3017]
[3018]
[3019]
[3020]
[3021]
[3022]
[3023]
[3024]
[3025]
[3026]
[3027]
[3028]
[3029]
[3030]
[3031]
[3032]
[3033]
[3034]
[3035]
[3036]
[3037]
[3038]
[3039]
[3040]
[3041]
[3042]
[3043]
[3044]
[3045]
[3046]
[3047]
[3048]
[3049]
[3050]
[3051]
[3052]
[3053]
[3054]
[3055]
[3056]
[3057]
[3058]
[3059]
[3060]
[3061]
[3062]
[3063]
[3064]
[3065]
[3066]
[3067]
[3068]
[3069]
[3070]
[3071]
[3072]
[3073]
[3074]
[3075]
[3076]
[3077]
[3078]
[3079]
[3080]
[3081]
[3082]
[3083]
[3084]
[3085]
[3086]
[3087]
[3088]
[3089]
[3090]
[3091]
[3092]
[3093]
[3094]
[3095]
[3096]
[3097]
[3098]
[3099]
[3100]
[3101]
[3102]
[3103]
[3104]
[3105]
[3106]
[3107]
[3108]
[3109]
[3110]
[3111]
[3112]
[3113]
[3114]
[3115]
[3116]
[3117]
[3118]
[3119]
[3120]
[3121]
[3122]
[3123]
[3124]
[3125]
[3126]
[3127]
[3128]
[3129]
[3130]
[3131]
[3132]
[3133]
[3134]
[3135]
[3136]
[3137]
[3138]
[3139]
[3140]
[3141]
[3142]
[3143]
[3144]
[3145]
[3146]
[3147]
[3148]
[3149]
[3150]
[3151]
[3152]
[3153]
[3154]
[3155]
[3156]
[3157]
[3158]
[3159]
[3160]
[3161]
[3162]
[3163]
[3164]
[3165]
[3166]
[3167]
[3168]
[3169]
[3170]
[3171]
[3172]
[3173]
[3174]
[3175]
[3176]
[3177]
[3178]
[3179]
[3180]
[3181]
[3182]
[3183]
[3184]
[3185]
[3186]
[3187]
[3188]
[3189]
[3190]
[3191]
[3192]
[3193]
[3194]
[3195]
[3196]
[3197]
[3198]
[3199]
[3200]
[3201]
[3202]
[3203]
[3204]
[3205]
[3206]
[3207]
[3208]
[3209]
[3210]
[3211]
[3212]
[3213]
[3214]
[3215]
[3216]
[3217]
[3218]
[3219]
[3220]
[3221]
[3222]
[3223]
[3224]
[3225]
[3226]
[3227]
[3228]
[3229]
[3230]
[3231]
[3232]
[3233]
[3234]
[3235]
[3236]
[3237]
[3238]
[3239]
[3240]
[3241]
[3242]
[3243]
[3244]
[3245]
[3246]
[3247]
[3248]
[3249]
[3250]
[3251]
[3252]
[3253]
[3254]
[3255]
[3256]
[3257]
[3258]
[3259]
[3260]
[3261]
[3262]
[3263]
[3264]
[3265]
[3266]
[3267]
[3268]
[3269]
[3270]
[3271]
[3272]
[3273]
[3274]
[3275]
[3276]
[3277]
[3278]
[3279]
[3280]
[3281]
[3282]
[3283]
[3284]
[3285]
[3286]
[3287]
[3288]
[3289]
[3290]
[3291]
[3292]
[3293]
[3294]
[3295]
[3296]
[3297]
[3298]
[3299]
[3300]
[3301]
[3302]
[3303]
[3304]
[3305]
[3306]
[3307]
[3308]
[3309]
[3310]
[3311]
[3312]
[3313]
[3314]
[3315]
[3316]
[3317]
[3318]
[3319]
[3320]
[3321]
[3322]
[3323]
[3324]
[3325]
[3326]
[3327]
[3328]
[3329]
[3330]
[3331]
[3332]
[3333]
[3334]
[3335]
[3336]
[3337]
[3338]
[3339]
[3340]
[3341]
[3342]
[3343]
[3344]
[3345]
[3346]
[3347]
[3348]
[3349]
[3350]
[3351]
[3352]
[3353]
[3354]
[3355]
[3356]
[3357]
[3358]
[3359]
[3360]
[3361]
[3362]
[3363]
[3364]
[3365]
[3366]
[3367]
[3368]
[3369]
[3370]
[3371]
[3372]
[3373]
[3374]
[3375]
[3376]
[3377]
[3378]
[3379]
[3380]
[3381]
[3382]
[3383]
[3384]
[3385]
[3386]
[3387]
[3388]
[3389]
[3390]
[3391]
[3392]
[3393]
[3394]
[3395]
[3396]
[3397]
[3398]
[3399]
[3400]
[3401]
[3402]
[3403]
[3404]
[3405]
[3406]
[3407]
[3408]
[3409]
[3410]
[3411]
[3412]
[3413]
[3414]
[3415]
[3416]
[3417]
[3418]
[3419]
[3420]
[3421]
[3422]
[3423]
[3424]
[3425]
[3426]
[3427]
[3428]
[3429]
[3430]
[3431]
[3432]
[3433]
[3434]
[3435]
[3436]
[3437]
[3438]
[3439]
[3440]
[3441]
[3442]
[3443]
[3444]
[3445]
[3446]
[3447]
[3448]
[3449]
[3450]
[3451]
[3452]
[3453]
[3454]
[3455]
[3456]
[3457]
[3458]
[3459]
[3460]
[3461]
[3462]
[3463]
[3464]
[3465]
[3466]
[3467]
[3468]
[3469]
[3470]
[3471]
[3472]
[3473]
[3474]
[3475]
[3476]
[3477]
[3478]
[3479]
[3480]
[3481]
[3482]
[3483]
[3484]
[3485]
[3486]
[3487]
[3488]
[3489]
[3490]
[3491]
[3492]
[3493]
[3494]
[3495]
[3496]
[3497]
[3498]
[3499]
[3500]
[3501]
[3502]
[3503]
[3504]
[3505]
[3506]
[3507]
[3508]
[3509]
[3510]
[3511]
[3512]
[3513]
[3514]
[3515]
[3516]
[3517]
[3518]
[3519]
[3520]
[3521]
[3522]
[3523]
[3524]
[3525]
[3526]
[3527]
[3528]
[3529]
[3530]
[3531]
[3532]
[3533]
[3534]
[3535]
[3536]
[3537]
[3538]
[3539]
[3540]
[3541]
[3542]
[3543]
[3544]
[3545]
[3546]
[3547]
[3548]
[3549]
[3550]
[3551]
[3552]
[3553]
[3554]
[3555]
[3556]
[3557]
[3558]
[3559]
[3560]
[3561]
[3562]
[3563]
[3564]
[3565]
[3566]
[3567]
[3568]
[3569]
[3570]
[3571]
[3572]
[3573]
[3574]
[3575]
[3576]
[3577]
[3578]
[3579]
[3580]
[3581]
[3582]
[3583]
[3584]
[3585]
[3586]
[3587]
[3588]
[3589]
[3590]
[3591]
[3592]
[3593]
[3594]
[3595]
[3596]
[3597]
[3598]
[3599]
[3600]
[3601]
[3602]
[3603]
[3604]
[3605]
[3606]
[3607]
[3608]
[3609]
[3610]
[3611]
[3612]
[3613]
[3614]
[3615]
[3616]
[3617]
[3618]
[3619]
[3620]
[3621]
[3622]
[3623]
[3624]
[3625]
[3626]
[3627]
[3628]
[3629]
[3630]
[3631]
[3632]
[3633]
[3634]
[3635]
[3636]
[3637]
[3638]
[3639]
[3640]
[3641]
[3642]
[3643]
[3644]
[3645]
[3646]
[3647]
[3648]
[3649]
[3650]
[3651]
[3652]
[3653]
[3654]
[3655]
[3656]
[3657]
[3658]
[3659]
[3660]
[3661]
[3662]
[3663]
[3664]
[3665]
[3666]
[3667]
[3668]
[3669]
[3670]
[3671]
[3672]
[3673]
[3674]
[3675]
[3676]
[3677]
[3678]
[3679]
[3680]
[3681]
[3682]
[3683]
[3684]
[3685]
[3686]
[3687]
[3688]
[3689]
[3690]
[3691]
[3692]
[3693]
[3694]
[3695]
[3696]
[3697]
[3698]
[3699]
[3700]
[3701]
[3702]
[3703]
[3704]
[3705]
[3706]
[3707]
[3708]
[3709]
[3710]
[3711]
[3712]
[3713]
[3714]
[3715]
[3716]
[3717]
[3718]
[3719]
[3720]
[3721]
[3722]
[3723]
[3724]
[3725]
[3726]
[3727]
[3728]
[3729]
[3730]
[3731]
[3732]
[3733]
[3734]
[3735]
[3736]
[3737]
[3738]
[3739]
[3740]
[3741]
[3742]
[3743]
[3744]
[3745]
[3746]
[3747]
[3748]
[3749]
[3750]
[3751]
[3752]
[3753]
[3754]
[3755]
[3756]
[3757]
[3758]
[3759]
[3760]
[3761]
[3762]
[3763]
[3764]
[3765]
[3766]
[3767]
[3768]
[3769]
[3770]
[3771]
[3772]
[3773]
[3774]
[3775]
[3776]
[3777]
[3778]
[3779]
[3780]
[3781]
[3782]
[3783]
[3784]
[3785]
[3786]
[3787]
[3788]
[3789]
[3790]
[3791]
[3792]
[3793]
[3794]
[3795]
[3796]
[3797]
[3798]
[3799]
[3800]
[3801]
[3802]
[3803]
[3804]
[3805]
[3806]
[3807]
[3808]
[3809]
[3810]
[3811]
[3812]
[3813]
[3814]
[3815]
[3816]
[3817]
[3818]
[3819]
[3820]
[3821]
[3822]
[3823]
[3824]
[3825]
[3826]
[3827]
[3828]
[3829]
[3830]
[3831]
[3832]
[3833]
[3834]
[3835]
[3836]
[3837]
[3838]
[3839]
[3840]
[3841]
[3842]
[3843]
[3844]
[3845]
[3846]
[3847]
[3848]
[3849]
[3850]
[3851]
[3852]
[3853]
[3854]
[3855]
[3856]
[3857]
[3858]
[3859]
[3860]
[3861]
[3862]
[3863]
[3864]
[3865]
[3866]
[3867]
[3868]
[3869]
[3870]
[3871]
[3872]
[3873]
[3874]
[3875]
[3876]
[3877]
[3878]
[3879]
[3880]
[3881]
[3882]
[3883]
[3884]
[3885]
[3886]
[3887]
[3888]
[3889]
[3890]
[3891]
[3892]
[3893]
[3894]
[3895]
[3896]
[3897]
[3898]
[3899]
[3900]
[3901]
[3902]
[3903]
[3904]
[3905]
[3906]
[3907]
[3908]
[3909]
[3910]
[3911]
[3912]
[3913]
[3914]
[3915]
[3916]
[3917]
[3918]
[3919]
[3920]
[3921]
[3922]
[3923]
[3924]
[3925]
[3926]
[3927]
[3928]
[3929]
[3930]
[3931]
[3932]
[3933]
[3934]
[3935]
[3936]
[3937]
[3938]
[3939]
[3940]
[3941]
[3942]
[3943]
[3944]
[3945]
[3946]
[3947]
[3948]
[3949]
[3950]
[3951]
[3952]
[3953]
[3954]
[3955]
[3956]
[3957]
[3958]
[3959]
[3960]
[3961]
[3962]
[3963]
[3964]
[3965]
[3966]
[3967]
[3968]
[3969]
[3970]
[3971]
[3972]
[3973]
[3974]
[3975]
[3976]
[3977]
[3978]
[3979]
[3980]
[3981]
[3982]
[3983]
[3984]
[3985]
[3986]
[3987]
[3988]
[3989]
[3990]
[3991]
[3992]
[3993]
[3994]
[3995]
[3996]
[3997]
[3998]
[3999]
[4000]
[4001]
[4002]
[4003]
[4004]
[4005]
[4006]
[4007]
[4008]
[4009]
[4010]
[4011]
[4012]
[4013]
[4014]
[4015]
[4016]
[4017]
[4018]
[4019]
[4020]
[4021]
[4022]
[4023]
[4024]
[4025]
[4026]
[4027]
[4028]
[4029]
[4030]
[4031]
[4032]
[4033]
[4034]
[4035]
[4036]
[4037]
[4038]
[4039]
[4040]
[4041]
[4042]
[4043]
[4044]
[4045]
[4046]
[4047]
[4048]
[4049]
[4050]
[4051]
[4052]
[4053]
[4054]
[4055]
[4056]
[4057]
[4058]
[4059]
[4060]
[4061]
[4062]
[4063]
[4064]
[4065]
[4066]
[4067]
[4068]
[4069]
[4070]
[4071]
[4072]
[4073]
[4074]
[4075]
[4076]
[4077]
[4078]
[4079]
[4080]
[4081]
[4082]
[4083]
[4084]
[4085]
[4086]
[4087]
[4088]
[4089]
[4090]
[4091]
[4092]
[4093]
[4094]
[4095]
[4096]
[4097]
[4098]
[4099]
[4100]
[4101]
[4102]
[4103]
[4104]
[4105]
[4106]
[4107]
[4108]
[4109]
[4110]
[4111]
[4112]
[4113]
[4114]
[4115]
[4116]
[4117]
[4118]
[4119]
[4120]
[4121]
[4122]
[4123]
[4124]
[4125]
[4126]
[4127]
[4128]
[4129]
[4130]
[4131]
[4132]
[4133]
[4134]
[4135]
[4136]
[4137]
[4138]
[4139]
[4140]
[4141]
[4142]
[4143]
[4144]
[4145]
[4146]
[4147]
[4148]
[4149]
[4150]
[4151]
[4152]
[4153]
[4154]
[4155]
[4156]
[4157]
[4158]
[4159]
[4160]
[4161]
[4162]
[4163]
[4164]
[4165]
[4166]
[4167]
[4168]
[4169]
[4170]
[4171]
[4172]
[4173]
[4174]
[4175]
[4176]
[4177]
[4178]
[4179]
[4180]
[4181]
[4182]
[4183]
[4184]
[4185]
[4186]
[4187]
[4188]
[4189]
[4190]
[4191]
[4192]
[4193]
[4194]
[4195]
[4196]
[4197]
[4198]
[4199]
[4200]
[4201]
[4202]
[4203]
[4204]
[4205]
[4206]
[4207]
[4208]
[4209]
[4210]
[4211]
[4212]
[4213]
[4214]
[4215]
[4216]
[4217]
[4218]
[4219]
[4220]
[4221]
[4222]
[4223]
[4224]
[4225]
[4226]
[4227]
[4228]
[4229]
[4230]
[4231]
[4232]
[4233]
[4234]
[4235]
[4236]
[4237]
[4238]
[4239]
[4240]
[4241]
[4242]
[4243]
[4244]
[4245]
[4246]
[4247]
[4248]
[4249]
[4250]
[4251]
[4252]
[4253]
[4254]
[4255]
[4256]
[4257]
[4258]
[4259]
[4260]
[4261]
[4262]
[4263]
[4264]
[4265]
[4266]
[4267]
[4268]
[4269]
[4270]
[4271]
[4272]
[4273]
[4274]
[4275]
[4276]
[4277]
[4278]
[4279]
[4280]
[4281]
[4282]
[4283]
[4284]
[4285]
[4286]
[4287]
[4288]
[4289]
[4290]
[4291]
[4292]
[4293]
[4294]
[4295]
[4296]
[4297]
[4298]
[4299]
[4300]
[4301]
[4302]
[4303]
[4304]
[4305]
[4306]
[4307]
[4308]
[4309]
[4310]
[4311]
[4312]
[4313]
[4314]
[4315]
[4316]
[4317]
[4318]
[4319]
[4320]
[4321]
[4322]
[4323]
[4324]
[4325]
[4326]
[4327]
[4328]
[4329]
[4330]
[4331]
[4332]
[4333]
[4334]
[4335]
[4336]
[4337]
[4338]
[4339]
[4340]
[4341]
[4342]
[4343]
[4344]
[4345]
[4346]
[4347]
[4348]
[4349]
[4350]
[4351]
[4352]
[4353]
[4354]
[4355]
[4356]
[4357]
[4358]
[4359]
[4360]
[4361]
[4362]
[4363]
[4364]
[4365]
[4366]
[4367]
[4368]
[4369]
[4370]
[4371]
[4372]
[4373]
[4374]
[4375]
[4376]
[4377]
[4378]
[4379]
[4380]
[4381]
[4382]
[4383]
[4384]
[4385]
[4386]
[4387]
[4388]
[4389]
[4390]
[4391]
[4392]
[4393]
[4394]
[4395]
[4396]
[4397]
[4398]
[4399]
[4400]
[4401]
[4402]
[4403]
[4404]
[4405]
[4406]
[4407]
[4408]
[4409]
[4410]
[4411]
[4412]
[4413]
[4414]
[4415]
[4416]
[4417]
[4418]
[4419]
[4420]
[4421]
[4422]
[4423]
[4424]
[4425]
[4426]
[4427]
[4428]
[4429]
[4430]
[4431]
[4432]
[4433]
[4434]
[4435]
[4436]
[4437]
[4438]
[4439]
[4440]
[4441]
[4442]
[4443]
[4444]
[4445]
[4446]
[4447]
[4448]
[4449]
[4450]
[4451]
[4452]
[4453]
[4454]
[4455]
[4456]
[4457]
[4458]
[4459]
[4460]
[4461]
[4462]
[4463]
[4464]
[4465]
[4466]
[4467]
[4468]
[4469]
[4470]
[4471]
[4472]
[4473]
[4474]
[4475]
[4476]
[4477]
[4478]
[4479]
[4480]
[4481]
[4482]
[4483]
[4484]
[4485]
[4486]
[4487]
[4488]
[4489]
[4490]
[4491]
[4492]
[4493]
[4494]
[4495]
[4496]
[4497]
[4498]
[4499]
[4500]
[4501]
[4502]
[4503]
[4504]
[4505]
[4506]
[4507]
[4508]
[4509]
[4510]
[4511]
[4512]
[4513]
[4514]
[4515]
[4516]
[4517]
[4518]
[4519]
[4520]
[4521]
[4522]
[4523]
[4524]
[4525]
[4526]
[4527]
[4528]
[4529]
[4530]
[4531]
[4532]
[4533]
[4534]
[4535]
[4536]
[4537]
[4538]
[4539]
[4540]
[4541]
[4542]
[4543]
[4544]
[4545]
[4546]
[4547]
[4548]
[4549]
[4550]
[4551]
[4552]
[4553]
[4554]
[4555]
[4556]
[4557]
[4558]
[4559]
[4560]
[4561]
[4562]
[4563]
[4564]
[4565]
[4566]
[4567]
[4568]
[4569]
[4570]
[4571]
[4572]
[4573]
[4574]
[4575]
[4576]
[4577]
[4578]
[4579]
[4580]
[4581]
[4582]
[4583]
[4584]
[4585]
[4586]
[4587]
[4588]
[4589]
[4590]
[4591]
[4592]
[4593]
[4594]
[4595]
[4596]
[4597]
[4598]
[4599]
[4600]
[4601]
[4602]
[4603]
[4604]
[4605]
[4606]
[4607]
[4608]
[4609]
[4610]
[4611]
[4612]
[4613]
[4614]
[4615]
[4616]
[4617]
[4618]
[4619]
[4620]
[4621]
[4622]
[4623]
[4624]
[4625]
[4626]
[4627]
[4628]
[4629]
[4630]
[4631]
[4632]
[4633]
[4634]
[4635]
[4636]
[4637]
[4638]
[4639]
[4640]
[4641]
[4642]
[4643]
[4644]
[4645]
[4646]
[4647]
[4648]
[4649]
[4650]
[4651]
[4652]
[4653]
[4654]
[4655]
[4656]
[4657]
[4658]
[4659]
[4660]
[4661]
[4662]
[4663]
[4664]
[4665]
[4666]
[4667]
[4668]
[4669]
[4670]
[4671]
[4672]
[4673]
[4674]
[4675]
[4676]
[4677]
[4678]
[4679]
[4680]
[4681]
[4682]
[4683]
[4684]
[4685]
[4686]
[4687]
[4688]
[4689]
[4690]
[4691]
[4692]
[4693]
[4694]
[4695]
[4696]
[4697]
[4698]
[4699]
[4700]
[4701]
[4702]
[4703]
[4704]
[4705]
[4706]
[4707]
[4708]
[4709]
[4710]
[4711]
[4712]
[4713]
[4714]
[4715]
[4716]
[4717]
[4718]
[4719]
[4720]
[4721]
[4722]
[4723]
[4724]
[4725]
[4726]
[4727]
[4728]
[4729]
[4730]
[4731]
[4732]
[4733]
[4734]
[4735]
[4736]
[4737]
[4738]
[4739]
[4740]
[4741]
[4742]
[4743]
[4744]
[4745]
[4746]
[4747]
[4748]
[4749]
[4750]
[4751]
[4752]
[4753]
[4754]
[4755]
[4756]
[4757]
[4758]
[4759]
[4760]
[4761]
[4762]
[4763]
[4764]
[4765]
[4766]
[4767]
[4768]
[4769]
[4770]
[4771]
[4772]
[4773]
[4774]
[4775]
[4776]
[4777]
[4778]
[4779]
[4780]
[4781]
[4782]
[4783]
[4784]
[4785]
[4786]
[4787]
[4788]
[4789]
[4790]
[4791]
[4792]
[4793]
[4794]
[4795]
[4796]
[4797]
[4798]
[4799]
[4800]
[4801]
[4802]
[4803]
[4804]
[4805]
[4806]
[4807]
[4808]
[4809]
[4810]
[4811]
[4812]
[4813]
[4814]
[4815]
[4816]
[4817]
[4818]
[4819]
[4820]
[4821]
[4822]
[4823]
[4824]
[4825]
[4826]
[4827]
[4828]
[4829]
[4830]
[4831]
[4832]
[4833]
[4834]
[4835]
[4836]
[4837]
[4838]
[4839]
[4840]
[4841]
[4842]
[4843]
[4844]
[4845]
[4846]
[4847]
[4848]
[4849]
[4850]
[4851]
[4852]
[4853]
[4854]
[4855]
[4856]
[4857]
[4858]
[4859]
[4860]
[4861]
[4862]
[4863]
[4864]
[4865]
[4866]
[4867]
[4868]
[4869]
[4870]
[4871]
[4872]
[4873]
[4874]
[4875]
[4876]
[4877]
[4878]
[4879]
[4880]
[4881]
[4882]
[4883]
[4884]
[4885]
[4886]
[4887]
[4888]
[4889]
[4890]
[4891]
[4892]
[4893]
[4894]
[4895]
[4896]
[4897]
[4898]
[4899]
[4900]
[4901]
[4902]
[4903]
[4904]
[4905]
[4906]
[4907]
[4908]
[4909]
[4910]
[4911]
[4912]
[4913]
[4914]
[4915]
[4916]
[4917]
[4918]
[4919]
[4920]
[4921]
[4922]
[4923]
[4924]
[4925]
[4926]
[4927]
[4928]
[4929]
[4930]
[4931]
[4932]
[4933]
[4934]
[4935]
[4936]
[4937]
[4938]
[4939]
[4940]
[4941]
[4942]
[4943]
[4944]
[4945]
[4946]
[4947]
[4948]
[4949]
[4950]
[4951]
[4952]
[4953]
[4954]
[4955]
[4956]
[4957]
[4958]
[4959]
[4960]
[4961]
[4962]
[4963]
[4964]
[4965]
[4966]
[4967]
[4968]
[4969]
[4970]
[4971]
[4972]
[4973]
[4974]
[4975]
[4976]
[4977]
[4978]
[4979]
[4980]
[4981]
[4982]
[4983]
[4984]
[4985]
[4986]
[4987]
[4988]
[4989]
[4990]
[4991]
[4992]
[4993]
[4994]
[4995]
[4996]
[4997]
[4998]
[4999]
[5000]
[5001]
[5002]
[5003]
[5004]
[5005]
[5006]
[5007]
[5008]
[5009]
[5010]
[5011]
[5012]
[5013]
[5014]
[5015]
[5016]
[5017]
[5018]
[5019]
[5020]
[5021]
[5022]
[5023]
[5024]
[5025]
[5026]
[5027]
[5028]
[5029]
[5030]
[5031]
[5032]
[5033]
[5034]
[5035]
[5036]
[5037]
[5038]
[5039]
[5040]
[5041]
[5042]
[5043]
[5044]
[5045]
[5046]
[5047]
[5048]
[5049]
[5050]
[5051]
[5052]
[5053]
[5054]
[5055]
[5056]
[5057]
[5058]
[5059]
[5060]
[5061]
[5062]
[5063]
[5064]
[5065]
[5066]
[5067]
[5068]
[5069]
[5070]
[5071]
[5072]
[5073]
[5074]
[5075]
[5076]
[5077]
[5078]
[5079]
[5080]
[5081]
[5082]
[5083]
[5084]
[5085]
[5086]
[5087]
[5088]
[5089]
[5090]
[5091]
[5092]
[5093]
[5094]
[5095]
[5096]
[5097]
[5098]
[5099]
[5100]
[5101]
[5102]
[5103]
[5104]
[5105]
[5106]
[5107]
[5108]
[5109]
[5110]
[5111]
[5112]
[5113]
[5114]
[5115]
[5116]
[5117]
[5118]
[5119]
[5120]
[5121]
[5122]
[5123]
[5124]
[5125]
[5126]
[5127]
[5128]
[5129]
[5130]
[5131]
[5132]
[5133]
[5134]
[5135]
[5136]
[5137]
[5138]
[5139]
[5140]
[5141]
[5142]
[5143]
[5144]
[5145]
[5146]
[5147]
[5148]
[5149]
[5150]
[5151]
[5152]
[5153]
[5154]
[5155]
[5156]
[5157]
[5158]
[5159]
[5160]
[5161]
[5162]
[5163]
[5164]
[5165]
[5166]
[5167]
[5168]
[5169]
[5170]
[5171]
[5172]
[5173]
[5174]
[5175]
[5176]
[5177]
[5178]
[5179]
[5180]
[5181]
[5182]
[5183]
[5184]
[5185]
[5186]
[5187]
[5188]
[5189]
[5190]
[5191]
[5192]
[5193]
[5194]
[5195]
[5196]
[5197]
[5198]
[5199]
[5200]
[5201]
[5202]
[5203]
[5204]
[5205]
[5206]
[5207]
[5208]
[5209]
[5210]
[5211]
[5212]
[5213]
[5214]
[5215]
[5216]
[5217]
[5218]
[5219]
[5220]
[5221]
[5222]
[5223]
[5224]
[5225]
[5226]
[5227]
[5228]
[5229]
[5230]
[5231]
[5232]
[5233]
[5234]
[5235]
[5236]
[5237]
[5238]
[5239]
[5240]
[5241]
[5242]
[5243]
[5244]
[5245]
[5246]
[5247]
[5248]
[5249]
[5250]
[5251]
[5252]
[5253]
[5254]
[5255]
[5256]
[5257]
[5258]
[5259]
[5260]
[5261]
[5262]
[5263]
[5264]
[5265]
[5266]
[5267]
[5268]
[5269]
[5270]
[5271]
[5272]
[5273]
[5274]
[5275]
[5276]
[5277]
[5278]
[5279]
[5280]
[5281]
[5282]
[5283]
[5284]
[5285]
[5286]
[5287]
[5288]
[5289]
[5290]
[5291]
[5292]
[5293]
[5294]
[5295]
[5296]
[5297]
[5298]
[5299]
[5300]
[5301]
[5302]
[5303]
[5304]
[5305]
[5306]
[5307]
[5308]
[5309]
[5310]
[5311]
[5312]
[5313]
[5314]
[5315]
[5316]
[5317]
[5318]
[5319]
[5320]
[5321]
[5322]
[5323]
[5324]
[5325]
[5326]
[5327]
[5328]
[5329]
[5330]
[5331]
[5332]
[5333]
[5334]
[5335]
[5336]
[5337]
[5338]
[5339]
[5340]
[5341]
[5342]
[5343]
[5344]
[5345]
[5346]
[5347]
[5348]
[5349]
[5350]
[5351]
[5352]
[5353]
[5354]
[5355]
[5356]
[5357]
[5358]
[5359]
[5360]
[5361]
[5362]
[5363]
[5364]
[5365]
[5366]
[5367]
[5368]
[5369]
[5370]
[5371]
[5372]
[5373]
[5374]
[5375]
[5376]
[5377]
[5378]
[5379]
[5380]
[5381]
[5382]
[5383]
[5384]
[5385]
[5386]
[5387]
[5388]
[5389]
[5390]
[5391]
[5392]
[5393]
[5394]
[5395]
[5396]
[5397]
[5398]
[5399]
[5400]
[5401]
[5402]
[5403]
[5404]
[5405]
[5406]
[5407]
[5408]
[5409]
[5410]
[5411]
[5412]
[5413]
[5414]
[5415]
[5416]
[5417]
[5418]
[5419]
[5420]
[5421]
[5422]
[5423]
[5424]
[5425]
[5426]
[5427]
[5428]
[5429]
[5430]
[5431]
[5432]
[5433]
[5434]
[5435]
[5436]
[5437]
[5438]
[5439]
[5440]
[5441]
[5442]
[5443]
[5444]
[5445]
[5446]
[5447]
[5448]
[5449]
[5450]
[5451]
[5452]
[5453]
[5454]
[5455]
[5456]
[5457]
[5458]
[5459]
[5460]
[5461]
[5462]
[5463]
[5464]
[5465]
[5466]
[5467]
[5468]
[5469]
[5470]
[5471]
[5472]
[5473]
[5474]
[5475]
[5476]
[5477]
[5478]
[5479]
[5480]
[5481]
[5482]
[5483]
[5484]
[5485]
[5486]
[5487]
[5488]
[5489]
[5490]
[5491]
[5492]
[5493]
[5494]
[5495]
[5496]
[5497]
[5498]
[5499]
[5500]

{"sheet":"Paychex Internal Census","index":2,"n_rows":5519,"n_cols":52,"rows_kept":1125,"cut":true,"hidden":true,"merged":[[1,2,1,9],[1,14,1,15],[2,2,2,9],[2,14,2,15],[7,4,8,5],[14,1,14,3],[14,12,14,14],[17,5,18,5],[17,6,18,6],[17,7,18,7],[17,8,18,8],[17,9,18,9],[17,10,18,10],[17,11,18,11],[17,12,18,12],[17,14,17,18],[17,19,17,26],[16,1,16,9],[16,19,16,36],[17,0,18,0],[17,1,18,1],[17,2,18,2],[17,3,18,3],[17,4,18,4],[17,27,17,35]],"bounds":{"rows_first":500,"rows_last":125,"rows_between":500,"halvings":2}}
[]
[null,null,"Census",null,null,null,null,null,null,null,null,"*Coverage Tier Definitions:"]
[null,null,null,null,null,null,null,null,null,null,null,"EE: Employee Only","WO: Waived/Other Coverage"]
[null,null,null,null,null,null,null,null,null,null,null,"ES: Employee + Spouse","WP: Waiting Period"]
[null,null,null,null,null,null,null,null,null,null,null,"EC: Employee + Children","RC: Refusing Coverage"]
[null,"Company Name:",null,null,null,null,null,null,null,null,null,"Fam: Employee+ Family","NE: Not Eligible"]
[null,"Fed Tax Id #:"]
[null,"Zip:"]
[null,"County:",{"$error":"#N/A"}]
[]
[null,null,null,null,null,"Employee Count:",{"$f":"COUNTIF($G$20:$G$5519,\"Employee\") +COUNTIF($G$20:$G$5519,\"EE\")","v":0},"Enrolled Employee Count:",{"$f":"SUM(COUNTIFS($G$20:$G$5519,\"Employee\",$I$20:$I5519,{\"Employee Only\",\"EE\",\"Employee + Spouse\",\"ES\",\"Employee + Children\",\"EC\",\"Employee + Family\",\"Fam\"})) + SUM(COUNTIFS($G$20:$G$5519,\"EE\",$I$20:$I5519,{\"Employee Only\",\"EE\",\"Employee + Spouse\",\"ES\",\"Employee + Children\",\"EC\",\"Employee + Family\",\"Fam\"}))","v":0}]
[null,null,null,null,null,"Dependent Count:",{"$f":"COUNTIFS($G$20:$G$5519,\"<>Employee\",$G$20:$G$5519,\"<>\",$G$20:$G$5519,\"<>EE\")","v":0},"COBRA Participant Count:",{"$f":"COUNTIFS($G$20:$G$5519,\"Employee\",$J$20:$J$5519,\"Y\") +COUNTIFS($G$20:$G$5519,\"EE\",$J$20:$J$5519,\"Y\")","v":0}]
[]
[]
[null,"RED FILLED CELLS = MISSING  OR INACCURATE DATA"]
[null,null,null,null,null,null,null,null,null,null,"Participation",{"$f":"'Participation Client Census'!B10","v":"#DIV/0!"},"(Calculated for Aetna, FL Blue and UHC only)"]
[null,"Mandatory Fields",null,null,null,null,null,null,null,null,null,null,null,null,null,null,null,null,null,"Available Plans"]
[null,"First Name*","Last Name*","Gender*","Date of Birth*","Home Zip Code*","Relationship*","Linked Employee\n(Required for Dependents)","Coverage Tier*\n(Select From Drop Down List)","COBRA Participant*\n(Select From Drop Down List)","Estimated Annual Wages","Job Title","Plan Name",null,"INTERNAL USE ONLY - DO NOT ALTER COLUMNS OR WRITE IN CELLS",null,null,null,null,"AETNA (Paychex)",null,null,null,null,null,null,null,"AETNA (Oasis)",null,null,null,null,null,null,null,null,"Kaiser"]
[null,null,null,null,null,null,null,null,null,null,null,null,null,null,"Employee DOB Check","State","County","Plan","Premium","EPO","OAMC","ACO /  JV","PPO","Indemnity","CA AVN","CA Basic","CA HMO","EPO","OAMC","ACO /  JV","PPO","Indemnity","CA AVN","CA Basic","CA HMO","HNO","HMO","HIDE THIS COLUMN           Age Validation","Hide these 7 columns",null,null,null,null,null,null,null,"Gender Validation","Date of Birth Validation","Home Zip Code Validation","Coverage Tier Validation","Coverage Tier Validation","COBRA Participation Validation"]
["1",null,null,null,null,null,null,null,null,null,null,null,null,null,{"$f":"IF(+E20=\"\",\"\",(IF(AND(AL20>18, AL20<70),\"\",\"CHECK D/O/B\")))","v":""},{"$error":"#N/A"},{"$error":"#N/A"},null,null,null,null,null,null,null,null,null,null,null,null,null,null,null,null,null,null,null,null,{"$f":"DATEDIF(E20, NOW(),\"y\")","v":125},{"$f":"IF(I20=\"EE\",\"Yes\",IF(I20=\"ES\",\"Yes\",IF(I20=\"EC\",\"Yes\",IF(I20=\"FAM\",\"Yes\",\"No\"))))","v":"No"},{"$f":"IF(AM20=\"yes\", 1, 0)","v":0},{"$f":"D20","v":""},{"$f":"IF(AL20>64,\"65+\",IF(AL20>59,\"60-64\",IF(AL20>54,\"55-59\",IF(AL20>49,\"50-54\",IF(AL20>44,\"45-49\",IF(AL20>39,\"40-44\",IF(AL20>34,\"35-39\",IF(AL20>29,\"30-34\",IF(AL20>24,\"25-29\",\"<25\")))))))))","v":"65+"},{"$f":"IF(ISERROR(AP20), \"0\", AL20*AN20)","v":0},null,"M",null,{"$f":"IF($B20 & $C20=\"\",\"\", IF(ISBLANK(D20),\"BLANK\",\"\"))","v":""},"","",{"$f":"IF($B20 & $C20=\"\",\"\", IF(ISBLANK(I20),\"BLANK\",\"\"))","v":""},{"$f":"IF($B20 & $C20=\"\",\"\", IF(ISBLANK(I20),\"BLANK\",\"\"))","v":""},""]
[2.0,null,null,null,null,null,null,null,null,null,null,null,null,null,"",{"$error":"#N/A"},{"$error":"#N/A"},null,null,null,null,null,null,null,null,null,null,null,null,null,null,null,null,null,null,null,null,125,"No",0,"","65+",0,null,"F",null,{"$f":"IF($B21 & $C21=\"\",\"\", IF(ISBLANK(D21),\"BLANK\",\"\"))","v":""},"","","",{"$f":"IF($B21 & $C21=\"\",\"\", IF(ISBLANK(I21),\"BLANK\",\"\"))","v":""},""]
["3",null,null,null,null,null,null,null,null,null,null,null,null,null,"",{"$error":"#N/A"},{"$error":"#N/A"},null,null,null,null,null,null,null,null,null,null,null,null,null,null,null,null,null,null,null,null,125,"No",0,"","65+",0,null,null,null,{"$f":"IF($B22 & $C22=\"\",\"\", IF(ISBLANK(D22),\"BLANK\",\"\"))","v":""},"","","",{"$f":"IF($B22 & $C22=\"\",\"\", IF(ISBLANK(I22),\"BLANK\",\"\"))","v":""},""]
["4",null,null,null,null,null,null,null,null,null,null,null,null,null,"",{"$error":"#N/A"},{"$error":"#N/A"},null,null,null,null,null,null,null,null,null,null,null,null,null,null,null,null,null,null,null,null,125,"No",0,"","65+",0,null,null,null,{"$f":"IF($B23 & $C23=\"\",\"\", IF(ISBLANK(D23),\"BLANK\",\"\"))","v":""},"","","",{"$f":"IF($B23 & $C23=\"\",\"\", IF(ISBLANK(I23),\"BLANK\",\"\"))","v":""},""]
["5",null,null,null,null,null,null,null,null,null,null,null,null,null,"",{"$error":"#N/A"},{"$error":"#N/A"},null,null,null,null,null,null,null,null,null,null,null,null,null,null,null,null,null,null,null,null,125,"No",0,"","65+",0,null,null,null,{"$f":"IF($B24 & $C24=\"\",\"\", IF(ISBLANK(D24),\"BLANK\",\"\"))","v":""},"","","",{"$f":"IF($B24 & $C24=\"\",\"\", IF(ISBLANK(I24),\"BLANK\",\"\"))","v":""},""]
["6",null,null,null,null,null,null,null,null,null,null,null,null,null,"",{"$error":"#N/A"},{"$error":"#N/A"},null,null,null,null,null,null,null,null,null,null,null,null,null,null,null,null,null,null,null,null,125,"No",0,"","65+",0,null,null,null,{"$f":"IF($B25 & $C25=\"\",\"\", IF(ISBLANK(D25),\"BLANK\",\"\"))","v":""},"","","",{"$f":"IF($B25 & $C25=\"\",\"\", IF(ISBLANK(I25),\"BLANK\",\"\"))","v":""},""]
["7",null,null,null,null,null,null,null,null,null,null,null,null,null,"",{"$error":"#N/A"},{"$error":"#N/A"},null,null,null,null,null,null,null,null,null,null,null,null,null,null,null,null,null,null,null,null,125,"No",0,"","65+",0,null,null,null,{"$f":"IF($B26 & $C26=\"\",\"\", IF(ISBLANK(D26),\"BLANK\",\"\"))","v":""},"","","",{"$f":"IF($B26 & $C26=\"\",\"\", IF(ISBLANK(I26),\"BLANK\",\"\"))","v":""},""]
["8",null,null,null,null,null,null,null,null,null,null,null,null,null,"",{"$error":"#N/A"},{"$error":"#N/A"},null,null,null,null,null,null,null,null,null,null,null,null,null,null,null,null,null,null,null,null,125,"No",0,"","65+",0,null,null,null,{"$f":"IF($B27 & $C27=\"\",\"\", IF(ISBLANK(D27),\"BLANK\",\"\"))","v":""},"","","",{"$f":"IF($B27 & $C27=\"\",\"\", IF(ISBLANK(I27),\"BLANK\",\"\"))","v":""},""]
["9",null,null,null,null,null,null,null,null,null,null,null,null,null,"",{"$error":"#N/A"},{"$error":"#N/A"},null,null,null,null,null,null,null,null,null,null,null,null,null,null,null,null,null,null,null,null,125,"No",0,"","65+",0,null,null,null,{"$f":"IF($B28 & $C28=\"\",\"\", IF(ISBLANK(D28),\"BLANK\",\"\"))","v":""},"","","",{"$f":"IF($B28 & $C28=\"\",\"\", IF(ISBLANK(I28),\"BLANK\",\"\"))","v":""},""]
["10",null,null,null,null,null,null,null,null,null,null,null,null,null,"",{"$error":"#N/A"},{"$error":"#N/A"},null,null,null,null,null,null,null,null,null,null,null,null,null,null,null,null,null,null,null,null,125,"No",0,"","65+",0,null,null,null,{"$f":"IF($B29 & $C29=\"\",\"\", IF(ISBLANK(D29),\"BLANK\",\"\"))","v":""},"","","",{"$f":"IF($B29 & $C29=\"\",\"\", IF(ISBLANK(I29),\"BLANK\",\"\"))","v":""},""]
["11",null,null,null,null,null,null,null,null,null,null,null,null,null,"",{"$error":"#N/A"},{"$error":"#N/A"},null,null,null,null,null,null,null,null,null,null,null,null,null,null,null,null,null,null,null,null,125,"No",0,"","65+",0,null,null,null,{"$f":"IF($B30 & $C30=\"\",\"\", IF(ISBLANK(D30),\"BLANK\",\"\"))","v":""},"","","",{"$f":"IF($B30 & $C30=\"\",\"\", IF(ISBLANK(I30),\"BLANK\",\"\"))","v":""},""]
["12",null,null,null,null,null,null,null,null,null,null,null,null,null,"",{"$error":"#N/A"},{"$error":"#N/A"},null,null,null,null,null,null,null,null,null,null,null,null,null,null,null,null,null,null,null,null,125,"No",0,"","65+",0,null,null,null,{"$f":"IF($B31 & $C31=\"\",\"\", IF(ISBLANK(D31),\"BLANK\",\"\"))","v":""},"","","",{"$f":"IF($B31 & $C31=\"\",\"\", IF(ISBLANK(I31),\"BLANK\",\"\"))","v":""},""]
["13",null,null,null,null,null,null,null,null,null,null,null,null,null,"",{"$error":"#N/A"},{"$error":"#N/A"},null,null,null,null,null,null,null,null,null,null,null,null,null,null,null,null,null,null,null,null,125,"No",0,"","65+",0,null,null,null,{"$f":"IF($B32 & $C32=\"\",\"\", IF(ISBLANK(D32),\"BLANK\",\"\"))","v":""},"","","",{"$f":"IF($B32 & $C32=\"\",\"\", IF(ISBLANK(I32),\"BLANK\",\"\"))","v":""},""]
["14",null,null,null,null,null,null,null,null,null,null,null,null,null,"",{"$error":"#N/A"},{"$error":"#N/A"},null,null,null,null,null,null,null,null,null,null,null,null,null,null,null,null,null,null,null,null,125,"No",0,"","65+",0,null,null,null,{"$f":"IF($B33 & $C33=\"\",\"\", IF(ISBLANK(D33),\"BLANK\",\"\"))","v":""},"","","",{"$f":"IF($B33 & $C33=\"\",\"\", IF(ISBLANK(I33),\"BLANK\",\"\"))","v":""},""]
["15",null,null,null,null,null,null,null,null,null,null,null,null,null,"",{"$error":"#N/A"},{"$error":"#N/A"},null,null,null,null,null,null,null,null,null,null,null,null,null,null,null,null,null,null,null,null,125,"No",0,"","65+",0,null,null,null,{"$f":"IF($B34 & $C34=\"\",\"\", IF(ISBLANK(D34),\"BLANK\",\"\"))","v":""},"","","",{"$f":"IF($B34 & $C34=\"\",\"\", IF(ISBLANK(I34),\"BLANK\",\"\"))","v":""},""]
["16",null,null,null,null,null,null,null,null,null,null,null,null,null,"",{"$error":"#N/A"},{"$error":"#N/A"},null,null,null,null,null,null,null,null,null,null,null,null,null,null,null,null,null,null,null,null,125,"No",0,"","65+",0,null,null,null,{"$f":"IF($B35 & $C35=\"\",\"\", IF(ISBLANK(D35),\"BLANK\",\"\"))","v":""},"","","",{"$f":"IF($B35 & $C35=\"\",\"\", IF(ISBLANK(I35),\"BLANK\",\"\"))","v":""},""]
["17",null,null,null,null,null,null,null,null,null,null,null,null,null,"",{"$error":"#N/A"},{"$error":"#N/A"},null,null,null,null,null,null,null,null,null,null,null,null,null,null,null,null,null,null,null,null,125,"No",0,"","65+",0,null,null,null,{"$f":"IF($B36 & $C36=\"\",\"\", IF(ISBLANK(D36),\"BLANK\",\"\"))","v":""},"","","",{"$f":"IF($B36 & $C36=\"\",\"\", IF(ISBLANK(I36),\"BLANK\",\"\"))","v":""},""]
["18",null,null,null,null,null,null,null,null,null,null,null,null,null,"",{"$error":"#N/A"},{"$error":"#N/A"},null,null,null,null,null,null,null,null,null,null,null,null,null,null,null,null,null,null,null,null,125,"No",0,"","65+",0,null,null,null,{"$f":"IF($B37 & $C37=\"\",\"\", IF(ISBLANK(D37),\"BLANK\",\"\"))","v":""},"","","",{"$f":"IF($B37 & $C37=\"\",\"\", IF(ISBLANK(I37),\"BLANK\",\"\"))","v":""},""]
["19",null,null,null,null,null,null,null,null,null,null,null,null,null,"",{"$error":"#N/A"},{"$error":"#N/A"},null,null,null,null,null,null,null,null,null,null,null,null,null,null,null,null,null,null,null,null,125,"No",0,"","65+",0,null,null,null,{"$f":"IF($B38 & $C38=\"\",\"\", IF(ISBLANK(D38),\"BLANK\",\"\"))","v":""},"","","",{"$f":"IF($B38 & $C38=\"\",\"\", IF(ISBLANK(I38),\"BLANK\",\"\"))","v":""},""]
["20",null,null,null,null,null,null,null,null,null,null,null,null,null,"",{"$error":"#N/A"},{"$error":"#N/A"},null,null,null,null,null,null,null,null,null,null,null,null,null,null,null,null,null,null,null,null,125,"No",0,"","65+",0,null,null,null,{"$f":"IF($B39 & $C39=\"\",\"\", IF(ISBLANK(D39),\"BLANK\",\"\"))","v":""},"","","",{"$f":"IF($B39 & $C39=\"\",\"\", IF(ISBLANK(I39),\"BLANK\",\"\"))","v":""},""]
["21",null,null,null,null,null,null,null,null,null,null,null,null,null,"",{"$error":"#N/A"},{"$error":"#N/A"},null,null,null,null,null,null,null,null,null,null,null,null,null,null,null,null,null,null,null,null,125,"No",0,"","65+",0,null,null,null,{"$f":"IF($B40 & $C40=\"\",\"\", IF(ISBLANK(D40),\"BLANK\",\"\"))","v":""},"","","",{"$f":"IF($B40 & $C40=\"\",\"\", IF(ISBLANK(I40),\"BLANK\",\"\"))","v":""},""]
["22",null,null,null,null,null,null,null,null,null,null,null,null,null,"",{"$error":"#N/A"},{"$error":"#N/A"},null,null,null,null,null,null,null,null,null,null,null,null,null,null,null,null,null,null,null,null,125,"No",0,"","65+",0,null,null,null,{"$f":"IF($B41 & $C41=\"\",\"\", IF(ISBLANK(D41),\"BLANK\",\"\"))","v":""},"","","",{"$f":"IF($B41 & $C41=\"\",\"\", IF(ISBLANK(I41),\"BLANK\",\"\"))","v":""},""]
["23",null,null,null,null,null,null,null,null,null,null,null,null,null,"",{"$error":"#N/A"},{"$error":"#N/A"},null,null,null,null,null,null,null,null,null,null,null,null,null,null,null,null,null,null,null,null,125,"No",0,"","65+",0,null,null,null,{"$f":"IF($B42 & $C42=\"\",\"\", IF(ISBLANK(D42),\"BLANK\",\"\"))","v":""},"","","",{"$f":"IF($B42 & $C42=\"\",\"\", IF(ISBLANK(I42),\"BLANK\",\"\"))","v":""},""]
["24",null,null,null,null,null,null,null,null,null,null,null,null,null,"",{"$error":"#N/A"},{"$error":"#N/A"},null,null,null,null,null,null,null,null,null,null,null,null,null,null,null,null,null,null,null,null,125,"No",0,"","65+",0,null,null,null,{"$f":"IF($B43 & $C43=\"\",\"\", IF(ISBLANK(D43),\"BLANK\",\"\"))","v":""},"","","",{"$f":"IF($B43 & $C43=\"\",\"\", IF(ISBLANK(I43),\"BLANK\",\"\"))","v":""},""]
["25",null,null,null,null,null,null,null,null,null,null,null,null,null,"",{"$error":"#N/A"},{"$error":"#N/A"},null,null,null,null,null,null,null,null,null,null,null,null,null,null,null,null,null,null,null,null,125,"No",0,"","65+",0,null,null,null,{"$f":"IF($B44 & $C44=\"\",\"\", IF(ISBLANK(D44),\"BLANK\",\"\"))","v":""},"","","",{"$f":"IF($B44 & $C44=\"\",\"\", IF(ISBLANK(I44),\"BLANK\",\"\"))","v":""},""]
["26",null,null,null,null,null,null,null,null,null,null,null,null,null,"",{"$error":"#N/A"},{"$error":"#N/A"},null,null,null,null,null,null,null,null,null,null,null,null,null,null,null,null,null,null,null,null,125,"No",0,"","65+",0,null,null,null,{"$f":"IF($B45 & $C45=\"\",\"\", IF(ISBLANK(D45),\"BLANK\",\"\"))","v":""},"","","",{"$f":"IF($B45 & $C45=\"\",\"\", IF(ISBLANK(I45),\"BLANK\",\"\"))","v":""},""]
["27",null,null,null,null,null,null,null,null,null,null,null,null,null,"",{"$error":"#N/A"},{"$error":"#N/A"},null,null,null,null,null,null,null,null,null,null,null,null,null,null,null,null,null,null,null,null,125,"No",0,"","65+",0,null,null,null,{"$f":"IF($B46 & $C46=\"\",\"\", IF(ISBLANK(D46),\"BLANK\",\"\"))","v":""},"","","",{"$f":"IF($B46 & $C46=\"\",\"\", IF(ISBLANK(I46),\"BLANK\",\"\"))","v":""},""]
["28",null,null,null,null,null,null,null,null,null,null,null,null,null,"",{"$error":"#N/A"},{"$error":"#N/A"},null,null,null,null,null,null,null,null,null,null,null,null,null,null,null,null,null,null,null,null,125,"No",0,"","65+",0,null,null,null,{"$f":"IF($B47 & $C47=\"\",\"\", IF(ISBLANK(D47),\"BLANK\",\"\"))","v":""},"","","",{"$f":"IF($B47 & $C47=\"\",\"\", IF(ISBLANK(I47),\"BLANK\",\"\"))","v":""},""]
["29",null,null,null,null,null,null,null,null,null,null,null,null,null,"",{"$error":"#N/A"},{"$error":"#N/A"},null,null,null,null,null,null,null,null,null,null,null,null,null,null,null,null,null,null,null,null,125,"No",0,"","65+",0,null,null,null,{"$f":"IF($B48 & $C48=\"\",\"\", IF(ISBLANK(D48),\"BLANK\",\"\"))","v":""},"","","",{"$f":"IF($B48 & $C48=\"\",\"\", IF(ISBLANK(I48),\"BLANK\",\"\"))","v":""},""]
["30",null,null,null,null,null,null,null,null,null,null,null,null,null,"",{"$error":"#N/A"},{"$error":"#N/A"},null,null,null,null,null,null,null,null,null,null,null,null,null,null,null,null,null,null,null,null,125,"No",0,"","65+",0,null,null,null,{"$f":"IF($B49 & $C49=\"\",\"\", IF(ISBLANK(D49),\"BLANK\",\"\"))","v":""},"","","",{"$f":"IF($B49 & $C49=\"\",\"\", IF(ISBLANK(I49),\"BLANK\",\"\"))","v":""},""]
["31",null,null,null,null,null,null,null,null,null,null,null,null,null,"",{"$error":"#N/A"},{"$error":"#N/A"},null,null,null,null,null,null,null,null,null,null,null,null,null,null,null,null,null,null,null,null,125,"No",0,"","65+",0,null,null,null,{"$f":"IF($B50 & $C50=\"\",\"\", IF(ISBLANK(D50),\"BLANK\",\"\"))","v":""},"","","",{"$f":"IF($B50 & $C50=\"\",\"\", IF(ISBLANK(I50),\"BLANK\",\"\"))","v":""},""]
["32",null,null,null,null,null,null,null,null,null,null,null,null,null,"",{"$error":"#N/A"},{"$error":"#N/A"},null,null,null,null,null,null,null,null,null,null,null,null,null,null,null,null,null,null,null,null,125,"No",0,"","65+",0,null,null,null,{"$f":"IF($B51 & $C51=\"\",\"\", IF(ISBLANK(D51),\"BLANK\",\"\"))","v":""},"","","",{"$f":"IF($B51 & $C51=\"\",\"\", IF(ISBLANK(I51),\"BLANK\",\"\"))","v":""},""]
["33",null,null,null,null,null,null,null,null,null,null,null,null,null,"",{"$error":"#N/A"},{"$error":"#N/A"},null,null,null,null,null,null,null,null,null,null,null,null,null,null,null,null,null,null,null,null,125,"No",0,"","65+",0,null,null,null,{"$f":"IF($B52 & $C52=\"\",\"\", IF(ISBLANK(D52),\"BLANK\",\"\"))","v":""},"","","",{"$f":"IF($B52 & $C52=\"\",\"\", IF(ISBLANK(I52),\"BLANK\",\"\"))","v":""},""]
["34",null,null,null,null,null,null,null,null,null,null,null,null,null,"",{"$error":"#N/A"},{"$error":"#N/A"},null,null,null,null,null,null,null,null,null,null,null,null,null,null,null,null,null,null,null,null,125,"No",0,"","65+",0,null,null,null,{"$f":"IF($B53 & $C53=\"\",\"\", IF(ISBLANK(D53),\"BLANK\",\"\"))","v":""},"","","",{"$f":"IF($B53 & $C53=\"\",\"\", IF(ISBLANK(I53),\"BLANK\",\"\"))","v":""},""]
["35",null,null,null,null,null,null,null,null,null,null,null,null,null,"",{"$error":"#N/A"},{"$error":"#N/A"},null,null,null,null,null,null,null,null,null,null,null,null,null,null,null,null,null,null,null,null,125,"No",0,"","65+",0,null,null,null,{"$f":"IF($B54 & $C54=\"\",\"\", IF(ISBLANK(D54),\"BLANK\",\"\"))","v":""},"","","",{"$f":"IF($B54 & $C54=\"\",\"\", IF(ISBLANK(I54),\"BLANK\",\"\"))","v":""},""]
["36",null,null,null,null,null,null,null,null,null,null,null,null,null,"",{"$error":"#N/A"},{"$error":"#N/A"},null,null,null,null,null,null,null,null,null,null,null,null,null,null,null,null,null,null,null,null,125,"No",0,"","65+",0,null,null,null,{"$f":"IF($B55 & $C55=\"\",\"\", IF(ISBLANK(D55),\"BLANK\",\"\"))","v":""},"","","",{"$f":"IF($B55 & $C55=\"\",\"\", IF(ISBLANK(I55),\"BLANK\",\"\"))","v":""},""]
["37",null,null,null,null,null,null,null,null,null,null,null,null,null,"",{"$error":"#N/A"},{"$error":"#N/A"},null,null,null,null,null,null,null,null,null,null,null,null,null,null,null,null,null,null,null,null,125,"No",0,"","65+",0,null,null,null,{"$f":"IF($B56 & $C56=\"\",\"\", IF(ISBLANK(D56),\"BLANK\",\"\"))","v":""},"","","",{"$f":"IF($B56 & $C56=\"\",\"\", IF(ISBLANK(I56),\"BLANK\",\"\"))","v":""},""]
["38",null,null,null,null,null,null,null,null,null,null,null,null,null,"",{"$error":"#N/A"},{"$error":"#N/A"},null,null,null,null,null,null,null,null,null,null,null,null,null,null,null,null,null,null,null,null,125,"No",0,"","65+",0,null,null,null,{"$f":"IF($B57 & $C57=\"\",\"\", IF(ISBLANK(D57),\"BLANK\",\"\"))","v":""},"","","",{"$f":"IF($B57 & $C57=\"\",\"\", IF(ISBLANK(I57),\"BLANK\",\"\"))","v":""},""]
["39",null,null,null,null,null,null,null,null,null,null,null,null,null,"",{"$error":"#N/A"},{"$error":"#N/A"},null,null,null,null,null,null,null,null,null,null,null,null,null,null,null,null,null,null,null,null,125,"No",0,"","65+",0,null,null,null,{"$f":"IF($B58 & $C58=\"\",\"\", IF(ISBLANK(D58),\"BLANK\",\"\"))","v":""},"","","",{"$f":"IF($B58 & $C58=\"\",\"\", IF(ISBLANK(I58),\"BLANK\",\"\"))","v":""},""]
["40",null,null,null,null,null,null,null,null,null,null,null,null,null,"",{"$error":"#N/A"},{"$error":"#N/A"},null,null,null,null,null,null,null,null,null,null,null,null,null,null,null,null,null,null,null,null,125,"No",0,"","65+",0,null,null,null,{"$f":"IF($B59 & $C59=\"\",\"\", IF(ISBLANK(D59),\"BLANK\",\"\"))","v":""},"","","",{"$f":"IF($B59 & $C59=\"\",\"\", IF(ISBLANK(I59),\"BLANK\",\"\"))","v":""},""]
["41",null,null,null,null,null,null,null,null,null,null,null,null,null,"",{"$error":"#N/A"},{"$error":"#N/A"},null,null,null,null,null,null,null,null,null,null,null,null,null,null,null,null,null,null,null,null,125,"No",0,"","65+",0,null,null,null,{"$f":"IF($B60 & $C60=\"\",\"\", IF(ISBLANK(D60),\"BLANK\",\"\"))","v":""},"","","",{"$f":"IF($B60 & $C60=\"\",\"\", IF(ISBLANK(I60),\"BLANK\",\"\"))","v":""},""]
["42",null,null,null,null,null,null,null,null,null,null,null,null,null,"",{"$error":"#N/A"},{"$error":"#N/A"},null,null,null,null,null,null,null,null,null,null,null,null,null,null,null,null,null,null,null,null,125,"No",0,"","65+",0,null,null,null,{"$f":"IF($B61 & $C61=\"\",\"\", IF(ISBLANK(D61),\"BLANK\",\"\"))","v":""},"","","",{"$f":"IF($B61 & $C61=\"\",\"\", IF(ISBLANK(I61),\"BLANK\",\"\"))","v":""},""]
["43",null,null,null,null,null,null,null,null,null,null,null,null,null,"",{"$error":"#N/A"},{"$error":"#N/A"},null,null,null,null,null,null,null,null,null,null,null,null,null,null,null,null,null,null,null,null,125,"No",0,"","65+",0,null,null,null,{"$f":"IF($B62 & $C62=\"\",\"\", IF(ISBLANK(D62),\"BLANK\",\"\"))","v":""},"","","",{"$f":"IF($B62 & $C62=\"\",\"\", IF(ISBLANK(I62),\"BLANK\",\"\"))","v":""},""]
["44",null,null,null,null,null,null,null,null,null,null,null,null,null,"",{"$error":"#N/A"},{"$error":"#N/A"},null,null,null,null,null,null,null,null,null,null,null,null,null,null,null,null,null,null,null,null,125,"No",0,"","65+",0,null,null,null,{"$f":"IF($B63 & $C63=\"\",\"\", IF(ISBLANK(D63),\"BLANK\",\"\"))","v":""},"","","",{"$f":"IF($B63 & $C63=\"\",\"\", IF(ISBLANK(I63),\"BLANK\",\"\"))","v":""},""]
["45",null,null,null,null,null,null,null,null,null,null,null,null,null,"",{"$error":"#N/A"},{"$error":"#N/A"},null,null,null,null,null,null,null,null,null,null,null,null,null,null,null,null,null,null,null,null,125,"No",0,"","65+",0,null,null,null,{"$f":"IF($B64 & $C64=\"\",\"\", IF(ISBLANK(D64),\"BLANK\",\"\"))","v":""},"","","",{"$f":"IF($B64 & $C64=\"\",\"\", IF(ISBLANK(I64),\"BLANK\",\"\"))","v":""},""]
["46",null,null,null,null,null,null,null,null,null,null,null,null,null,"",{"$error":"#N/A"},{"$error":"#N/A"},null,null,null,null,null,null,null,null,null,null,null,null,null,null,null,null,null,null,null,null,125,"No",0,"","65+",0,null,null,null,{"$f":"IF($B65 & $C65=\"\",\"\", IF(ISBLANK(D65),\"BLANK\",\"\"))","v":""},"","","",{"$f":"IF($B65 & $C65=\"\",\"\", IF(ISBLANK(I65),\"BLANK\",\"\"))","v":""},""]
["47",null,null,null,null,null,null,null,null,null,null,null,null,null,"",{"$error":"#N/A"},{"$error":"#N/A"},null,null,null,null,null,null,null,null,null,null,null,null,null,null,null,null,null,null,null,null,125,"No",0,"","65+",0,null,null,null,{"$f":"IF($B66 & $C66=\"\",\"\", IF(ISBLANK(D66),\"BLANK\",\"\"))","v":""},"","","",{"$f":"IF($B66 & $C66=\"\",\"\", IF(ISBLANK(I66),\"BLANK\",\"\"))","v":""},""]
["48",null,null,null,null,null,null,null,null,null,null,null,null,null,"",{"$error":"#N/A"},{"$error":"#N/A"},null,null,null,null,null,null,null,null,null,null,null,null,null,null,null,null,null,null,null,null,125,"No",0,"","65+",0,null,null,null,{"$f":"IF($B67 & $C67=\"\",\"\", IF(ISBLANK(D67),\"BLANK\",\"\"))","v":""},"","","",{"$f":"IF($B67 & $C67=\"\",\"\", IF(ISBLANK(I67),\"BLANK\",\"\"))","v":""},""]
["49",null,null,null,null,null,null,null,null,null,null,null,null,null,"",{"$error":"#N/A"},{"$error":"#N/A"},null,null,null,null,null,null,null,null,null,null,null,null,null,null,null,null,null,null,null,null,125,"No",0,"","65+",0,null,null,null,{"$f":"IF($B68 & $C68=\"\",\"\", IF(ISBLANK(D68),\"BLANK\",\"\"))","v":""},"","","",{"$f":"IF($B68 & $C68=\"\",\"\", IF(ISBLANK(I68),\"BLANK\",\"\"))","v":""},""]
["50",null,null,null,null,null,null,null,null,null,null,null,null,null,"",{"$error":"#N/A"},{"$error":"#N/A"},null,null,null,null,null,null,null,null,null,null,null,null,null,null,null,null,null,null,null,null,125,"No",0,"","65+",0,null,null,null,{"$f":"IF($B69 & $C69=\"\",\"\", IF(ISBLANK(D69),\"BLANK\",\"\"))","v":""},"","","",{"$f":"IF($B69 & $C69=\"\",\"\", IF(ISBLANK(I69),\"BLANK\",\"\"))","v":""},""]
["51",null,null,null,null,null,null,null,null,null,null,null,null,null,"",{"$error":"#N/A"},{"$error":"#N/A"},null,null,null,null,null,null,null,null,null,null,null,null,null,null,null,null,null,null,null,null,125,"No",0,"","65+",0,null,null,null,{"$f":"IF($B70 & $C70=\"\",\"\", IF(ISBLANK(D70),\"BLANK\",\"\"))","v":""},"","","",{"$f":"IF($B70 & $C70=\"\",\"\", IF(ISBLANK(I70),\"BLANK\",\"\"))","v":""},""]
["52",null,null,null,null,null,null,null,null,null,null,null,null,null,"",{"$error":"#N/A"},{"$error":"#N/A"},null,null,null,null,null,null,null,null,null,null,null,null,null,null,null,null,null,null,null,null,125,"No",0,"","65+",0,null,null,null,{"$f":"IF($B71 & $C71=\"\",\"\", IF(ISBLANK(D71),\"BLANK\",\"\"))","v":""},"","","",{"$f":"IF($B71 & $C71=\"\",\"\", IF(ISBLANK(I71),\"BLANK\",\"\"))","v":""},""]
["53",null,null,null,null,null,null,null,null,null,null,null,null,null,"",{"$error":"#N/A"},{"$error":"#N/A"},null,null,null,null,null,null,null,null,null,null,null,null,null,null,null,null,null,null,null,null,125,"No",0,"","65+",0,null,null,null,{"$f":"IF($B72 & $C72=\"\",\"\", IF(ISBLANK(D72),\"BLANK\",\"\"))","v":""},"","","",{"$f":"IF($B72 & $C72=\"\",\"\", IF(ISBLANK(I72),\"BLANK\",\"\"))","v":""},""]
["54",null,null,null,null,null,null,null,null,null,null,null,null,null,"",{"$error":"#N/A"},{"$error":"#N/A"},null,null,null,null,null,null,null,null,null,null,null,null,null,null,null,null,null,null,null,null,125,"No",0,"","65+",0,null,null,null,{"$f":"IF($B73 & $C73=\"\",\"\", IF(ISBLANK(D73),\"BLANK\",\"\"))","v":""},"","","",{"$f":"IF($B73 & $C73=\"\",\"\", IF(ISBLANK(I73),\"BLANK\",\"\"))","v":""},""]
["55",null,null,null,null,null,null,null,null,null,null,null,null,null,"",{"$error":"#N/A"},{"$error":"#N/A"},null,null,null,null,null,null,null,null,null,null,null,null,null,null,null,null,null,null,null,null,125,"No",0,"","65+",0,null,null,null,{"$f":"IF($B74 & $C74=\"\",\"\", IF(ISBLANK(D74),\"BLANK\",\"\"))","v":""},"","","",{"$f":"IF($B74 & $C74=\"\",\"\", IF(ISBLANK(I74),\"BLANK\",\"\"))","v":""},""]
["56",null,null,null,null,null,null,null,null,null,null,null,null,null,"",{"$error":"#N/A"},{"$error":"#N/A"},null,null,null,null,null,null,null,null,null,null,null,null,null,null,null,null,null,null,null,null,125,"No",0,"","65+",0,null,null,null,{"$f":"IF($B75 & $C75=\"\",\"\", IF(ISBLANK(D75),\"BLANK\",\"\"))","v":""},"","","",{"$f":"IF($B75 & $C75=\"\",\"\", IF(ISBLANK(I75),\"BLANK\",\"\"))","v":""},""]
["57",null,null,null,null,null,null,null,null,null,null,null,null,null,"",{"$error":"#N/A"},{"$error":"#N/A"},null,null,null,null,null,null,null,null,null,null,null,null,null,null,null,null,null,null,null,null,125,"No",0,"","65+",0,null,null,null,{"$f":"IF($B76 & $C76=\"\",\"\", IF(ISBLANK(D76),\"BLANK\",\"\"))","v":""},"","","",{"$f":"IF($B76 & $C76=\"\",\"\", IF(ISBLANK(I76),\"BLANK\",\"\"))","v":""},""]
["58",null,null,null,null,null,null,null,null,null,null,null,null,null,"",{"$error":"#N/A"},{"$error":"#N/A"},null,null,null,null,null,null,null,null,null,null,null,null,null,null,null,null,null,null,null,null,125,"No",0,"","65+",0,null,null,null,{"$f":"IF($B77 & $C77=\"\",\"\", IF(ISBLANK(D77),\"BLANK\",\"\"))","v":""},"","","",{"$f":"IF($B77 & $C77=\"\",\"\", IF(ISBLANK(I77),\"BLANK\",\"\"))","v":""},""]
["59",null,null,null,null,null,null,null,null,null,null,null,null,null,"",{"$error":"#N/A"},{"$error":"#N/A"},null,null,null,null,null,null,null,null,null,null,null,null,null,null,null,null,null,null,null,null,125,"No",0,"","65+",0,null,null,null,{"$f":"IF($B78 & $C78=\"\",\"\", IF(ISBLANK(D78),\"BLANK\",\"\"))","v":""},"","","",{"$f":"IF($B78 & $C78=\"\",\"\", IF(ISBLANK(I78),\"BLANK\",\"\"))","v":""},""]
["60",null,null,null,null,null,null,null,null,null,null,null,null,null,"",{"$error":"#N/A"},{"$error":"#N/A"},null,null,null,null,null,null,null,null,null,null,null,null,null,null,null,null,null,null,null,null,125,"No",0,"","65+",0,null,null,null,{"$f":"IF($B79 & $C79=\"\",\"\", IF(ISBLANK(D79),\"BLANK\",\"\"))","v":""},"","","",{"$f":"IF($B79 & $C79=\"\",\"\", IF(ISBLANK(I79),\"BLANK\",\"\"))","v":""},""]
["61",null,null,null,null,null,null,null,null,null,null,null,null,null,"",{"$error":"#N/A"},{"$error":"#N/A"},null,null,null,null,null,null,null,null,null,null,null,null,null,null,null,null,null,null,null,null,125,"No",0,"","65+",0,null,null,null,{"$f":"IF($B80 & $C80=\"\",\"\", IF(ISBLANK(D80),\"BLANK\",\"\"))","v":""},"","","",{"$f":"IF($B80 & $C80=\"\",\"\", IF(ISBLANK(I80),\"BLANK\",\"\"))","v":""},""]
["62",null,null,null,null,null,null,null,null,null,null,null,null,null,"",{"$error":"#N/A"},{"$error":"#N/A"},null,null,null,null,null,null,null,null,null,null,null,null,null,null,null,null,null,null,null,null,125,"No",0,"","65+",0,null,null,null,{"$f":"IF($B81 & $C81=\"\",\"\", IF(ISBLANK(D81),\"BLANK\",\"\"))","v":""},"","","",{"$f":"IF($B81 & $C81=\"\",\"\", IF(ISBLANK(I81),\"BLANK\",\"\"))","v":""},""]
["63",null,null,null,null,null,null,null,null,null,null,null,null,null,"",{"$error":"#N/A"},{"$error":"#N/A"},null,null,null,null,null,null,null,null,null,null,null,null,null,null,null,null,null,null,null,null,125,"No",0,"","65+",0,null,null,null,{"$f":"IF($B82 & $C82=\"\",\"\", IF(ISBLANK(D82),\"BLANK\",\"\"))","v":""},"","","",{"$f":"IF($B82 & $C82=\"\",\"\", IF(ISBLANK(I82),\"BLANK\",\"\"))","v":""},""]
["64",null,null,null,null,null,null,null,null,null,null,null,null,null,"",{"$error":"#N/A"},{"$error":"#N/A"},null,null,null,null,null,null,null,null,null,null,null,null,null,null,null,null,null,null,null,null,125,"No",0,"","65+",0,null,null,null,{"$f":"IF($B83 & $C83=\"\",\"\", IF(ISBLANK(D83),\"BLANK\",\"\"))","v":""},"","","",{"$f":"IF($B83 & $C83=\"\",\"\", IF(ISBLANK(I83),\"BLANK\",\"\"))","v":""},""]
["65",null,null,null,null,null,null,null,null,null,null,null,null,null,"",{"$error":"#N/A"},{"$error":"#N/A"},null,null,null,null,null,null,null,null,null,null,null,null,null,null,null,null,null,null,null,null,125,"No",0,"","65+",0,null,null,null,{"$f":"IF($B84 & $C84=\"\",\"\", IF(ISBLANK(D84),\"BLANK\",\"\"))","v":""},"","","",{"$f":"IF($B84 & $C84=\"\",\"\", IF(ISBLANK(I84),\"BLANK\",\"\"))","v":""},""]
["66",null,null,null,null,null,null,null,null,null,null,null,null,null,"",{"$error":"#N/A"},{"$error":"#N/A"},null,null,null,null,null,null,null,null,null,null,null,null,null,null,null,null,null,null,null,null,125,"No",0,"","65+",0,null,null,null,{"$f":"IF($B85 & $C85=\"\",\"\", IF(ISBLANK(D85),\"BLANK\",\"\"))","v":""},"","","",{"$f":"IF($B85 & $C85=\"\",\"\", IF(ISBLANK(I85),\"BLANK\",\"\"))","v":""},""]
["67",null,null,null,null,null,null,null,null,null,null,null,null,null,"",{"$error":"#N/A"},{"$error":"#N/A"},null,null,null,null,null,null,null,null,null,null,null,null,null,null,null,null,null,null,null,null,125,"No",0,"","65+",0,null,null,null,{"$f":"IF($B86 & $C86=\"\",\"\", IF(ISBLANK(D86),\"BLANK\",\"\"))","v":""},"","","",{"$f":"IF($B86 & $C86=\"\",\"\", IF(ISBLANK(I86),\"BLANK\",\"\"))","v":""},""]
["68",null,null,null,null,null,null,null,null,null,null,null,null,null,"",{"$error":"#N/A"},{"$error":"#N/A"},null,null,null,null,null,null,null,null,null,null,null,null,null,null,null,null,null,null,null,null,125,"No",0,"","65+",0,null,null,null,{"$f":"IF($B87 & $C87=\"\",\"\", IF(ISBLANK(D87),\"BLANK\",\"\"))","v":""},"","","",{"$f":"IF($B87 & $C87=\"\",\"\", IF(ISBLANK(I87),\"BLANK\",\"\"))","v":""},""]
["69",null,null,null,null,null,null,null,null,null,null,null,null,null,"",{"$error":"#N/A"},{"$error":"#N/A"},null,null,null,null,null,null,null,null,null,null,null,null,null,null,null,null,null,null,null,null,125,"No",0,"","65+",0,null,null,null,{"$f":"IF($B88 & $C88=\"\",\"\", IF(ISBLANK(D88),\"BLANK\",\"\"))","v":""},"","","",{"$f":"IF($B88 & $C88=\"\",\"\", IF(ISBLANK(I88),\"BLANK\",\"\"))","v":""},""]
["70",null,null,null,null,null,null,null,null,null,null,null,null,null,"",{"$error":"#N/A"},{"$error":"#N/A"},null,null,null,null,null,null,null,null,null,null,null,null,null,null,null,null,null,null,null,null,125,"No",0,"","65+",0,null,null,null,{"$f":"IF($B89 & $C89=\"\",\"\", IF(ISBLANK(D89),\"BLANK\",\"\"))","v":""},"","","",{"$f":"IF($B89 & $C89=\"\",\"\", IF(ISBLANK(I89),\"BLANK\",\"\"))","v":""},""]
["71",null,null,null,null,null,null,null,null,null,null,null,null,null,"",{"$error":"#N/A"},{"$error":"#N/A"},null,null,null,null,null,null,null,null,null,null,null,null,null,null,null,null,null,null,null,null,125,"No",0,"","65+",0,null,null,null,{"$f":"IF($B90 & $C90=\"\",\"\", IF(ISBLANK(D90),\"BLANK\",\"\"))","v":""},"","","",{"$f":"IF($B90 & $C90=\"\",\"\", IF(ISBLANK(I90),\"BLANK\",\"\"))","v":""},""]
["72",null,null,null,null,null,null,null,null,null,null,null,null,null,"",{"$error":"#N/A"},{"$error":"#N/A"},null,null,null,null,null,null,null,null,null,null,null,null,null,null,null,null,null,null,null,null,125,"No",0,"","65+",0,null,null,null,{"$f":"IF($B91 & $C91=\"\",\"\", IF(ISBLANK(D91),\"BLANK\",\"\"))","v":""},"","","",{"$f":"IF($B91 & $C91=\"\",\"\", IF(ISBLANK(I91),\"BLANK\",\"\"))","v":""},""]
["73",null,null,null,null,null,null,null,null,null,null,null,null,null,"",{"$error":"#N/A"},{"$error":"#N/A"},null,null,null,null,null,null,null,null,null,null,null,null,null,null,null,null,null,null,null,null,125,"No",0,"","65+",0,null,null,null,{"$f":"IF($B92 & $C92=\"\",\"\", IF(ISBLANK(D92),\"BLANK\",\"\"))","v":""},"","","",{"$f":"IF($B92 & $C92=\"\",\"\", IF(ISBLANK(I92),\"BLANK\",\"\"))","v":""},""]
["74",null,null,null,null,null,null,null,null,null,null,null,null,null,"",{"$error":"#N/A"},{"$error":"#N/A"},null,null,null,null,null,null,null,null,null,null,null,null,null,null,null,null,null,null,null,null,125,"No",0,"","65+",0,null,null,null,{"$f":"IF($B93 & $C93=\"\",\"\", IF(ISBLANK(D93),\"BLANK\",\"\"))","v":""},"","","",{"$f":"IF($B93 & $C93=\"\",\"\", IF(ISBLANK(I93),\"BLANK\",\"\"))","v":""},""]
["75",null,null,null,null,null,null,null,null,null,null,null,null,null,"",{"$error":"#N/A"},{"$error":"#N/A"},null,null,null,null,null,null,null,null,null,null,null,null,null,null,null,null,null,null,null,null,125,"No",0,"","65+",0,null,null,null,{"$f":"IF($B94 & $C94=\"\",\"\", IF(ISBLANK(D94),\"BLANK\",\"\"))","v":""},"","","",{"$f":"IF($B94 & $C94=\"\",\"\", IF(ISBLANK(I94),\"BLANK\",\"\"))","v":""},""]
["76",null,null,null,null,null,null,null,null,null,null,null,null,null,"",{"$error":"#N/A"},{"$error":"#N/A"},null,null,null,null,null,null,null,null,null,null,null,null,null,null,null,null,null,null,null,null,125,"No",0,"","65+",0,null,null,null,{"$f":"IF($B95 & $C95=\"\",\"\", IF(ISBLANK(D95),\"BLANK\",\"\"))","v":""},"","","",{"$f":"IF($B95 & $C95=\"\",\"\", IF(ISBLANK(I95),\"BLANK\",\"\"))","v":""},""]
["77",null,null,null,null,null,null,null,null,null,null,null,null,null,"",{"$error":"#N/A"},{"$error":"#N/A"},null,null,null,null,null,null,null,null,null,null,null,null,null,null,null,null,null,null,null,null,125,"No",0,"","65+",0,null,null,null,{"$f":"IF($B96 & $C96=\"\",\"\", IF(ISBLANK(D96),\"BLANK\",\"\"))","v":""},"","","",{"$f":"IF($B96 & $C96=\"\",\"\", IF(ISBLANK(I96),\"BLANK\",\"\"))","v":""},""]
["78",null,null,null,null,null,null,null,null,null,null,null,null,null,"",{"$error":"#N/A"},{"$error":"#N/A"},null,null,null,null,null,null,null,null,null,null,null,null,null,null,null,null,null,null,null,null,125,"No",0,"","65+",0,null,null,null,{"$f":"IF($B97 & $C97=\"\",\"\", IF(ISBLANK(D97),\"BLANK\",\"\"))","v":""},"","","",{"$f":"IF($B97 & $C97=\"\",\"\", IF(ISBLANK(I97),\"BLANK\",\"\"))","v":""},""]
["79",null,null,null,null,null,null,null,null,null,null,null,null,null,"",{"$error":"#N/A"},{"$error":"#N/A"},null,null,null,null,null,null,null,null,null,null,null,null,null,null,null,null,null,null,null,null,125,"No",0,"","65+",0,null,null,null,{"$f":"IF($B98 & $C98=\"\",\"\", IF(ISBLANK(D98),\"BLANK\",\"\"))","v":""},"","","",{"$f":"IF($B98 & $C98=\"\",\"\", IF(ISBLANK(I98),\"BLANK\",\"\"))","v":""},""]
["80",null,null,null,null,null,null,null,null,null,null,null,null,null,"",{"$error":"#N/A"},{"$error":"#N/A"},null,null,null,null,null,null,null,null,null,null,null,null,null,null,null,null,null,null,null,null,125,"No",0,"","65+",0,null,null,null,{"$f":"IF($B99 & $C99=\"\",\"\", IF(ISBLANK(D99),\"BLANK\",\"\"))","v":""},"","","",{"$f":"IF($B99 & $C99=\"\",\"\", IF(ISBLANK(I99),\"BLANK\",\"\"))","v":""},""]
["81",null,null,null,null,null,null,null,null,null,null,null,null,null,"",{"$error":"#N/A"},{"$error":"#N/A"},null,null,null,null,null,null,null,null,null,null,null,null,null,null,null,null,null,null,null,null,125,"No",0,"","65+",0,null,null,null,{"$f":"IF($B100 & $C100=\"\",\"\", IF(ISBLANK(D100),\"BLANK\",\"\"))","v":""},"","","",{"$f":"IF($B100 & $C100=\"\",\"\", IF(ISBLANK(I100),\"BLANK\",\"\"))","v":""},""]
["82",null,null,null,null,null,null,null,null,null,null,null,null,null,"",{"$error":"#N/A"},{"$error":"#N/A"},null,null,null,null,null,null,null,null,null,null,null,null,null,null,null,null,null,null,null,null,125,"No",0,"","65+",0,null,null,null,{"$f":"IF($B101 & $C101=\"\",\"\", IF(ISBLANK(D101),\"BLANK\",\"\"))","v":""},"","","",{"$f":"IF($B101 & $C101=\"\",\"\", IF(ISBLANK(I101),\"BLANK\",\"\"))","v":""},""]
["83",null,null,null,null,null,null,null,null,null,null,null,null,null,"",{"$error":"#N/A"},{"$error":"#N/A"},null,null,null,null,null,null,null,null,null,null,null,null,null,null,null,null,null,null,null,null,125,"No",0,"","65+",0,null,null,null,{"$f":"IF($B102 & $C102=\"\",\"\", IF(ISBLANK(D102),\"BLANK\",\"\"))","v":""},"","","",{"$f":"IF($B102 & $C102=\"\",\"\", IF(ISBLANK(I102),\"BLANK\",\"\"))","v":""},""]
["84",null,null,null,null,null,null,null,null,null,null,null,null,null,"",{"$error":"#N/A"},{"$error":"#N/A"},null,null,null,null,null,null,null,null,null,null,null,null,null,null,null,null,null,null,null,null,125,"No",0,"","65+",0,null,null,null,{"$f":"IF($B103 & $C103=\"\",\"\", IF(ISBLANK(D103),\"BLANK\",\"\"))","v":""},"","","",{"$f":"IF($B103 & $C103=\"\",\"\", IF(ISBLANK(I103),\"BLANK\",\"\"))","v":""},""]
["85",null,null,null,null,null,null,null,null,null,null,null,null,null,"",{"$error":"#N/A"},{"$error":"#N/A"},null,null,null,null,null,null,null,null,null,null,null,null,null,null,null,null,null,null,null,null,125,"No",0,"","65+",0,null,null,null,{"$f":"IF($B104 & $C104=\"\",\"\", IF(ISBLANK(D104),\"BLANK\",\"\"))","v":""},"","","",{"$f":"IF($B104 & $C104=\"\",\"\", IF(ISBLANK(I104),\"BLANK\",\"\"))","v":""},""]
["86",null,null,null,null,null,null,null,null,null,null,null,null,null,"",{"$error":"#N/A"},{"$error":"#N/A"},null,null,null,null,null,null,null,null,null,null,null,null,null,null,null,null,null,null,null,null,125,"No",0,"","65+",0,null,null,null,{"$f":"IF($B105 & $C105=\"\",\"\", IF(ISBLANK(D105),\"BLANK\",\"\"))","v":""},"","","",{"$f":"IF($B105 & $C105=\"\",\"\", IF(ISBLANK(I105),\"BLANK\",\"\"))","v":""},""]
["87",null,null,null,null,null,null,null,null,null,null,null,null,null,"",{"$error":"#N/A"},{"$error":"#N/A"},null,null,null,null,null,null,null,null,null,null,null,null,null,null,null,null,null,null,null,null,125,"No",0,"","65+",0,null,null,null,{"$f":"IF($B106 & $C106=\"\",\"\", IF(ISBLANK(D106),\"BLANK\",\"\"))","v":""},"","","",{"$f":"IF($B106 & $C106=\"\",\"\", IF(ISBLANK(I106),\"BLANK\",\"\"))","v":""},""]
["88",null,null,null,null,null,null,null,null,null,null,null,null,null,"",{"$error":"#N/A"},{"$error":"#N/A"},null,null,null,null,null,null,null,null,null,null,null,null,null,null,null,null,null,null,null,null,125,"No",0,"","65+",0,null,null,null,{"$f":"IF($B107 & $C107=\"\",\"\", IF(ISBLANK(D107),\"BLANK\",\"\"))","v":""},"","","",{"$f":"IF($B107 & $C107=\"\",\"\", IF(ISBLANK(I107),\"BLANK\",\"\"))","v":""},""]
["89",null,null,null,null,null,null,null,null,null,null,null,null,null,"",{"$error":"#N/A"},{"$error":"#N/A"},null,null,null,null,null,null,null,null,null,null,null,null,null,null,null,null,null,null,null,null,125,"No",0,"","65+",0,null,null,null,{"$f":"IF($B108 & $C108=\"\",\"\", IF(ISBLANK(D108),\"BLANK\",\"\"))","v":""},"","","",{"$f":"IF($B108 & $C108=\"\",\"\", IF(ISBLANK(I108),\"BLANK\",\"\"))","v":""},""]
["90",null,null,null,null,null,null,null,null,null,null,null,null,null,"",{"$error":"#N/A"},{"$error":"#N/A"},null,null,null,null,null,null,null,null,null,null,null,null,null,null,null,null,null,null,null,null,125,"No",0,"","65+",0,null,null,null,{"$f":"IF($B109 & $C109=\"\",\"\", IF(ISBLANK(D109),\"BLANK\",\"\"))","v":""},"","","",{"$f":"IF($B109 & $C109=\"\",\"\", IF(ISBLANK(I109),\"BLANK\",\"\"))","v":""},""]
["91",null,null,null,null,null,null,null,null,null,null,null,null,null,"",{"$error":"#N/A"},{"$error":"#N/A"},null,null,null,null,null,null,null,null,null,null,null,null,null,null,null,null,null,null,null,null,125,"No",0,"","65+",0,null,null,null,{"$f":"IF($B110 & $C110=\"\",\"\", IF(ISBLANK(D110),\"BLANK\",\"\"))","v":""},"","","",{"$f":"IF($B110 & $C110=\"\",\"\", IF(ISBLANK(I110),\"BLANK\",\"\"))","v":""},""]
["92",null,null,null,null,null,null,null,null,null,null,null,null,null,"",{"$error":"#N/A"},{"$error":"#N/A"},null,null,null,null,null,null,null,null,null,null,null,null,null,null,null,null,null,null,null,null,125,"No",0,"","65+",0,null,null,null,{"$f":"IF($B111 & $C111=\"\",\"\", IF(ISBLANK(D111),\"BLANK\",\"\"))","v":""},"","","",{"$f":"IF($B111 & $C111=\"\",\"\", IF(ISBLANK(I111),\"BLANK\",\"\"))","v":""},""]
["93",null,null,null,null,null,null,null,null,null,null,null,null,null,"",{"$error":"#N/A"},{"$error":"#N/A"},null,null,null,null,null,null,null,null,null,null,null,null,null,null,null,null,null,null,null,null,125,"No",0,"","65+",0,null,null,null,{"$f":"IF($B112 & $C112=\"\",\"\", IF(ISBLANK(D112),\"BLANK\",\"\"))","v":""},"","","",{"$f":"IF($B112 & $C112=\"\",\"\", IF(ISBLANK(I112),\"BLANK\",\"\"))","v":""},""]
["94",null,null,null,null,null,null,null,null,null,null,null,null,null,"",{"$error":"#N/A"},{"$error":"#N/A"},null,null,null,null,null,null,null,null,null,null,null,null,null,null,null,null,null,null,null,null,125,"No",0,"","65+",0,null,null,null,{"$f":"IF($B113 & $C113=\"\",\"\", IF(ISBLANK(D113),\"BLANK\",\"\"))","v":""},"","","",{"$f":"IF($B113 & $C113=\"\",\"\", IF(ISBLANK(I113),\"BLANK\",\"\"))","v":""},""]
["95",null,null,null,null,null,null,null,null,null,null,null,null,null,"",{"$error":"#N/A"},{"$error":"#N/A"},null,null,null,null,null,null,null,null,null,null,null,null,null,null,null,null,null,null,null,null,125,"No",0,"","65+",0,null,null,null,{"$f":"IF($B114 & $C114=\"\",\"\", IF(ISBLANK(D114),\"BLANK\",\"\"))","v":""},"","","",{"$f":"IF($B114 & $C114=\"\",\"\", IF(ISBLANK(I114),\"BLANK\",\"\"))","v":""},""]
["96",null,null,null,null,null,null,null,null,null,null,null,null,null,"",{"$error":"#N/A"},{"$error":"#N/A"},null,null,null,null,null,null,null,null,null,null,null,null,null,null,null,null,null,null,null,null,125,"No",0,"","65+",0,null,null,null,{"$f":"IF($B115 & $C115=\"\",\"\", IF(ISBLANK(D115),\"BLANK\",\"\"))","v":""},"","","",{"$f":"IF($B115 & $C115=\"\",\"\", IF(ISBLANK(I115),\"BLANK\",\"\"))","v":""},""]
["97",null,null,null,null,null,null,null,null,null,null,null,null,null,"",{"$error":"#N/A"},{"$error":"#N/A"},null,null,null,null,null,null,null,null,null,null,null,null,null,null,null,null,null,null,null,null,125,"No",0,"","65+",0,null,null,null,{"$f":"IF($B116 & $C116=\"\",\"\", IF(ISBLANK(D116),\"BLANK\",\"\"))","v":""},"","","",{"$f":"IF($B116 & $C116=\"\",\"\", IF(ISBLANK(I116),\"BLANK\",\"\"))","v":""},""]
["98",null,null,null,null,null,null,null,null,null,null,null,null,null,"",{"$error":"#N/A"},{"$error":"#N/A"},null,null,null,null,null,null,null,null,null,null,null,null,null,null,null,null,null,null,null,null,125,"No",0,"","65+",0,null,null,null,{"$f":"IF($B117 & $C117=\"\",\"\", IF(ISBLANK(D117),\"BLANK\",\"\"))","v":""},"","","",{"$f":"IF($B117 & $C117=\"\",\"\", IF(ISBLANK(I117),\"BLANK\",\"\"))","v":""},""]
["99",null,null,null,null,null,null,null,null,null,null,null,null,null,"",{"$error":"#N/A"},{"$error":"#N/A"},null,null,null,null,null,null,null,null,null,null,null,null,null,null,null,null,null,null,null,null,125,"No",0,"","65+",0,null,null,null,{"$f":"IF($B118 & $C118=\"\",\"\", IF(ISBLANK(D118),\"BLANK\",\"\"))","v":""},"","","",{"$f":"IF($B118 & $C118=\"\",\"\", IF(ISBLANK(I118),\"BLANK\",\"\"))","v":""},""]
["100",null,null,null,null,null,null,null,null,null,null,null,null,null,"",{"$error":"#N/A"},{"$error":"#N/A"},null,null,null,null,null,null,null,null,null,null,null,null,null,null,null,null,null,null,null,null,125,"No",0,"","65+",0,null,null,null,{"$f":"IF($B119 & $C119=\"\",\"\", IF(ISBLANK(D119),\"BLANK\",\"\"))","v":""},"","","",{"$f":"IF($B119 & $C119=\"\",\"\", IF(ISBLANK(I119),\"BLANK\",\"\"))","v":""},""]
["101",null,null,null,null,null,null,null,null,null,null,null,null,null,"",{"$error":"#N/A"},{"$error":"#N/A"},null,null,null,null,null,null,null,null,null,null,null,null,null,null,null,null,null,null,null,null,125,"No",0,"","65+",0,null,null,null,{"$f":"IF($B120 & $C120=\"\",\"\", IF(ISBLANK(D120),\"BLANK\",\"\"))","v":""},"","","",{"$f":"IF($B120 & $C120=\"\",\"\", IF(ISBLANK(I120),\"BLANK\",\"\"))","v":""},""]
["102",null,null,null,null,null,null,null,null,null,null,null,null,null,"",{"$error":"#N/A"},{"$error":"#N/A"},null,null,null,null,null,null,null,null,null,null,null,null,null,null,null,null,null,null,null,null,125,"No",0,"","65+",0,null,null,null,{"$f":"IF($B121 & $C121=\"\",\"\", IF(ISBLANK(D121),\"BLANK\",\"\"))","v":""},"","","",{"$f":"IF($B121 & $C121=\"\",\"\", IF(ISBLANK(I121),\"BLANK\",\"\"))","v":""},""]
["103",null,null,null,null,null,null,null,null,null,null,null,null,null,"",{"$error":"#N/A"},{"$error":"#N/A"},null,null,null,null,null,null,null,null,null,null,null,null,null,null,null,null,null,null,null,null,125,"No",0,"","65+",0,null,null,null,{"$f":"IF($B122 & $C122=\"\",\"\", IF(ISBLANK(D122),\"BLANK\",\"\"))","v":""},"","","",{"$f":"IF($B122 & $C122=\"\",\"\", IF(ISBLANK(I122),\"BLANK\",\"\"))","v":""},""]
["104",null,null,null,null,null,null,null,null,null,null,null,null,null,"",{"$error":"#N/A"},{"$error":"#N/A"},null,null,null,null,null,null,null,null,null,null,null,null,null,null,null,null,null,null,null,null,125,"No",0,"","65+",0,null,null,null,{"$f":"IF($B123 & $C123=\"\",\"\", IF(ISBLANK(D123),\"BLANK\",\"\"))","v":""},"","","",{"$f":"IF($B123 & $C123=\"\",\"\", IF(ISBLANK(I123),\"BLANK\",\"\"))","v":""},""]
["105",null,null,null,null,null,null,null,null,null,null,null,null,null,"",{"$error":"#N/A"},{"$error":"#N/A"},null,null,null,null,null,null,null,null,null,null,null,null,null,null,null,null,null,null,null,null,125,"No",0,"","65+",0,null,null,null,{"$f":"IF($B124 & $C124=\"\",\"\", IF(ISBLANK(D124),\"BLANK\",\"\"))","v":""},"","","",{"$f":"IF($B124 & $C124=\"\",\"\", IF(ISBLANK(I124),\"BLANK\",\"\"))","v":""},""]
["106",null,null,null,null,null,null,null,null,null,null,null,null,null,"",{"$error":"#N/A"},{"$error":"#N/A"},null,null,null,null,null,null,null,null,null,null,null,null,null,null,null,null,null,null,null,null,125,"No",0,"","65+",0,null,null,null,{"$f":"IF($B125 & $C125=\"\",\"\", IF(ISBLANK(D125),\"BLANK\",\"\"))","v":""},"","","",{"$f":"IF($B125 & $C125=\"\",\"\", IF(ISBLANK(I125),\"BLANK\",\"\"))","v":""},""]
["107",null,null,null,null,null,null,null,null,null,null,null,null,null,"",{"$error":"#N/A"},{"$error":"#N/A"},null,null,null,null,null,null,null,null,null,null,null,null,null,null,null,null,null,null,null,null,125,"No",0,"","65+",0,null,null,null,{"$f":"IF($B126 & $C126=\"\",\"\", IF(ISBLANK(D126),\"BLANK\",\"\"))","v":""},"","","",{"$f":"IF($B126 & $C126=\"\",\"\", IF(ISBLANK(I126),\"BLANK\",\"\"))","v":""},""]
["108",null,null,null,null,null,null,null,null,null,null,null,null,null,"",{"$error":"#N/A"},{"$error":"#N/A"},null,null,null,null,null,null,null,null,null,null,null,null,null,null,null,null,null,null,null,null,125,"No",0,"","65+",0,null,null,null,{"$f":"IF($B127 & $C127=\"\",\"\", IF(ISBLANK(D127),\"BLANK\",\"\"))","v":""},"","","",{"$f":"IF($B127 & $C127=\"\",\"\", IF(ISBLANK(I127),\"BLANK\",\"\"))","v":""},""]
["109",null,null,null,null,null,null,null,null,null,null,null,null,null,"",{"$error":"#N/A"},{"$error":"#N/A"},null,null,null,null,null,null,null,null,null,null,null,null,null,null,null,null,null,null,null,null,125,"No",0,"","65+",0,null,null,null,{"$f":"IF($B128 & $C128=\"\",\"\", IF(ISBLANK(D128),\"BLANK\",\"\"))","v":""},"","","",{"$f":"IF($B128 & $C128=\"\",\"\", IF(ISBLANK(I128),\"BLANK\",\"\"))","v":""},""]
["110",null,null,null,null,null,null,null,null,null,null,null,null,null,"",{"$error":"#N/A"},{"$error":"#N/A"},null,null,null,null,null,null,null,null,null,null,null,null,null,null,null,null,null,null,null,null,125,"No",0,"","65+",0,null,null,null,{"$f":"IF($B129 & $C129=\"\",\"\", IF(ISBLANK(D129),\"BLANK\",\"\"))","v":""},"","","",{"$f":"IF($B129 & $C129=\"\",\"\", IF(ISBLANK(I129),\"BLANK\",\"\"))","v":""},""]
["111",null,null,null,null,null,null,null,null,null,null,null,null,null,"",{"$error":"#N/A"},{"$error":"#N/A"},null,null,null,null,null,null,null,null,null,null,null,null,null,null,null,null,null,null,null,null,125,"No",0,"","65+",0,null,null,null,{"$f":"IF($B130 & $C130=\"\",\"\", IF(ISBLANK(D130),\"BLANK\",\"\"))","v":""},"","","",{"$f":"IF($B130 & $C130=\"\",\"\", IF(ISBLANK(I130),\"BLANK\",\"\"))","v":""},""]
["112",null,null,null,null,null,null,null,null,null,null,null,null,null,"",{"$error":"#N/A"},{"$error":"#N/A"},null,null,null,null,null,null,null,null,null,null,null,null,null,null,null,null,null,null,null,null,125,"No",0,"","65+",0,null,null,null,{"$f":"IF($B131 & $C131=\"\",\"\", IF(ISBLANK(D131),\"BLANK\",\"\"))","v":""},"","","",{"$f":"IF($B131 & $C131=\"\",\"\", IF(ISBLANK(I131),\"BLANK\",\"\"))","v":""},""]
["113",null,null,null,null,null,null,null,null,null,null,null,null,null,"",{"$error":"#N/A"},{"$error":"#N/A"},null,null,null,null,null,null,null,null,null,null,null,null,null,null,null,null,null,null,null,null,125,"No",0,"","65+",0,null,null,null,{"$f":"IF($B132 & $C132=\"\",\"\", IF(ISBLANK(D132),\"BLANK\",\"\"))","v":""},"","","",{"$f":"IF($B132 & $C132=\"\",\"\", IF(ISBLANK(I132),\"BLANK\",\"\"))","v":""},""]
["114",null,null,null,null,null,null,null,null,null,null,null,null,null,"",{"$error":"#N/A"},{"$error":"#N/A"},null,null,null,null,null,null,null,null,null,null,null,null,null,null,null,null,null,null,null,null,125,"No",0,"","65+",0,null,null,null,{"$f":"IF($B133 & $C133=\"\",\"\", IF(ISBLANK(D133),\"BLANK\",\"\"))","v":""},"","","",{"$f":"IF($B133 & $C133=\"\",\"\", IF(ISBLANK(I133),\"BLANK\",\"\"))","v":""},""]
["115",null,null,null,null,null,null,null,null,null,null,null,null,null,"",{"$error":"#N/A"},{"$error":"#N/A"},null,null,null,null,null,null,null,null,null,null,null,null,null,null,null,null,null,null,null,null,125,"No",0,"","65+",0,null,null,null,{"$f":"IF($B134 & $C134=\"\",\"\", IF(ISBLANK(D134),\"BLANK\",\"\"))","v":""},"","","",{"$f":"IF($B134 & $C134=\"\",\"\", IF(ISBLANK(I134),\"BLANK\",\"\"))","v":""},""]
["116",null,null,null,null,null,null,null,null,null,null,null,null,null,"",{"$error":"#N/A"},{"$error":"#N/A"},null,null,null,null,null,null,null,null,null,null,null,null,null,null,null,null,null,null,null,null,125,"No",0,"","65+",0,null,null,null,{"$f":"IF($B135 & $C135=\"\",\"\", IF(ISBLANK(D135),\"BLANK\",\"\"))","v":""},"","","",{"$f":"IF($B135 & $C135=\"\",\"\", IF(ISBLANK(I135),\"BLANK\",\"\"))","v":""},""]
["117",null,null,null,null,null,null,null,null,null,null,null,null,null,"",{"$error":"#N/A"},{"$error":"#N/A"},null,null,null,null,null,null,null,null,null,null,null,null,null,null,null,null,null,null,null,null,125,"No",0,"","65+",0,null,null,null,{"$f":"IF($B136 & $C136=\"\",\"\", IF(ISBLANK(D136),\"BLANK\",\"\"))","v":""},"","","",{"$f":"IF($B136 & $C136=\"\",\"\", IF(ISBLANK(I136),\"BLANK\",\"\"))","v":""},""]
["118",null,null,null,null,null,null,null,null,null,null,null,null,null,"",{"$error":"#N/A"},{"$error":"#N/A"},null,null,null,null,null,null,null,null,null,null,null,null,null,null,null,null,null,null,null,null,125,"No",0,"","65+",0,null,null,null,{"$f":"IF($B137 & $C137=\"\",\"\", IF(ISBLANK(D137),\"BLANK\",\"\"))","v":""},"","","",{"$f":"IF($B137 & $C137=\"\",\"\", IF(ISBLANK(I137),\"BLANK\",\"\"))","v":""},""]
["119",null,null,null,null,null,null,null,null,null,null,null,null,null,"",{"$error":"#N/A"},{"$error":"#N/A"},null,null,null,null,null,null,null,null,null,null,null,null,null,null,null,null,null,null,null,null,125,"No",0,"","65+",0,null,null,null,{"$f":"IF($B138 & $C138=\"\",\"\", IF(ISBLANK(D138),\"BLANK\",\"\"))","v":""},"","","",{"$f":"IF($B138 & $C138=\"\",\"\", IF(ISBLANK(I138),\"BLANK\",\"\"))","v":""},""]
["120",null,null,null,null,null,null,null,null,null,null,null,null,null,"",{"$error":"#N/A"},{"$error":"#N/A"},null,null,null,null,null,null,null,null,null,null,null,null,null,null,null,null,null,null,null,null,125,"No",0,"","65+",0,null,null,null,{"$f":"IF($B139 & $C139=\"\",\"\", IF(ISBLANK(D139),\"BLANK\",\"\"))","v":""},"","","",{"$f":"IF($B139 & $C139=\"\",\"\", IF(ISBLANK(I139),\"BLANK\",\"\"))","v":""},""]
["121",null,null,null,null,null,null,null,null,null,null,null,null,null,"",{"$error":"#N/A"},{"$error":"#N/A"},null,null,null,null,null,null,null,null,null,null,null,null,null,null,null,null,null,null,null,null,125,"No",0,"","65+",0,null,null,null,{"$f":"IF($B140 & $C140=\"\",\"\", IF(ISBLANK(D140),\"BLANK\",\"\"))","v":""},"","","",{"$f":"IF($B140 & $C140=\"\",\"\", IF(ISBLANK(I140),\"BLANK\",\"\"))","v":""},""]
["122",null,null,null,null,null,null,null,null,null,null,null,null,null,"",{"$error":"#N/A"},{"$error":"#N/A"},null,null,null,null,null,null,null,null,null,null,null,null,null,null,null,null,null,null,null,null,125,"No",0,"","65+",0,null,null,null,{"$f":"IF($B141 & $C141=\"\",\"\", IF(ISBLANK(D141),\"BLANK\",\"\"))","v":""},"","","",{"$f":"IF($B141 & $C141=\"\",\"\", IF(ISBLANK(I141),\"BLANK\",\"\"))","v":""},""]
["123",null,null,null,null,null,null,null,null,null,null,null,null,null,"",{"$error":"#N/A"},{"$error":"#N/A"},null,null,null,null,null,null,null,null,null,null,null,null,null,null,null,null,null,null,null,null,125,"No",0,"","65+",0,null,null,null,{"$f":"IF($B142 & $C142=\"\",\"\", IF(ISBLANK(D142),\"BLANK\",\"\"))","v":""},"","","",{"$f":"IF($B142 & $C142=\"\",\"\", IF(ISBLANK(I142),\"BLANK\",\"\"))","v":""},""]
["124",null,null,null,null,null,null,null,null,null,null,null,null,null,"",{"$error":"#N/A"},{"$error":"#N/A"},null,null,null,null,null,null,null,null,null,null,null,null,null,null,null,null,null,null,null,null,125,"No",0,"","65+",0,null,null,null,{"$f":"IF($B143 & $C143=\"\",\"\", IF(ISBLANK(D143),\"BLANK\",\"\"))","v":""},"","","",{"$f":"IF($B143 & $C143=\"\",\"\", IF(ISBLANK(I143),\"BLANK\",\"\"))","v":""},""]
["125",null,null,null,null,null,null,null,null,null,null,null,null,null,"",{"$error":"#N/A"},{"$error":"#N/A"},null,null,null,null,null,null,null,null,null,null,null,null,null,null,null,null,null,null,null,null,125,"No",0,"","65+",0,null,null,null,{"$f":"IF($B144 & $C144=\"\",\"\", IF(ISBLANK(D144),\"BLANK\",\"\"))","v":""},"","","",{"$f":"IF($B144 & $C144=\"\",\"\", IF(ISBLANK(I144),\"BLANK\",\"\"))","v":""},""]
["126",null,null,null,null,null,null,null,null,null,null,null,null,null,"",{"$error":"#N/A"},{"$error":"#N/A"},null,null,null,null,null,null,null,null,null,null,null,null,null,null,null,null,null,null,null,null,125,"No",0,"","65+",0,null,null,null,{"$f":"IF($B145 & $C145=\"\",\"\", IF(ISBLANK(D145),\"BLANK\",\"\"))","v":""},"","","",{"$f":"IF($B145 & $C145=\"\",\"\", IF(ISBLANK(I145),\"BLANK\",\"\"))","v":""},""]
["127",null,null,null,null,null,null,null,null,null,null,null,null,null,"",{"$error":"#N/A"},{"$error":"#N/A"},null,null,null,null,null,null,null,null,null,null,null,null,null,null,null,null,null,null,null,null,125,"No",0,"","65+",0,null,null,null,{"$f":"IF($B146 & $C146=\"\",\"\", IF(ISBLANK(D146),\"BLANK\",\"\"))","v":""},"","","",{"$f":"IF($B146 & $C146=\"\",\"\", IF(ISBLANK(I146),\"BLANK\",\"\"))","v":""},""]
["128",null,null,null,null,null,null,null,null,null,null,null,null,null,"",{"$error":"#N/A"},{"$error":"#N/A"},null,null,null,null,null,null,null,null,null,null,null,null,null,null,null,null,null,null,null,null,125,"No",0,"","65+",0,null,null,null,{"$f":"IF($B147 & $C147=\"\",\"\", IF(ISBLANK(D147),\"BLANK\",\"\"))","v":""},"","","",{"$f":"IF($B147 & $C147=\"\",\"\", IF(ISBLANK(I147),\"BLANK\",\"\"))","v":""},""]
["129",null,null,null,null,null,null,null,null,null,null,null,null,null,"",{"$error":"#N/A"},{"$error":"#N/A"},null,null,null,null,null,null,null,null,null,null,null,null,null,null,null,null,null,null,null,null,125,"No",0,"","65+",0,null,null,null,{"$f":"IF($B148 & $C148=\"\",\"\", IF(ISBLANK(D148),\"BLANK\",\"\"))","v":""},"","","",{"$f":"IF($B148 & $C148=\"\",\"\", IF(ISBLANK(I148),\"BLANK\",\"\"))","v":""},""]
["130",null,null,null,null,null,null,null,null,null,null,null,null,null,"",{"$error":"#N/A"},{"$error":"#N/A"},null,null,null,null,null,null,null,null,null,null,null,null,null,null,null,null,null,null,null,null,125,"No",0,"","65+",0,null,null,null,{"$f":"IF($B149 & $C149=\"\",\"\", IF(ISBLANK(D149),\"BLANK\",\"\"))","v":""},"","","",{"$f":"IF($B149 & $C149=\"\",\"\", IF(ISBLANK(I149),\"BLANK\",\"\"))","v":""},""]
["131",null,null,null,null,null,null,null,null,null,null,null,null,null,"",{"$error":"#N/A"},{"$error":"#N/A"},null,null,null,null,null,null,null,null,null,null,null,null,null,null,null,null,null,null,null,null,125,"No",0,"","65+",0,null,null,null,{"$f":"IF($B150 & $C150=\"\",\"\", IF(ISBLANK(D150),\"BLANK\",\"\"))","v":""},"","","",{"$f":"IF($B150 & $C150=\"\",\"\", IF(ISBLANK(I150),\"BLANK\",\"\"))","v":""},""]
["132",null,null,null,null,null,null,null,null,null,null,null,null,null,"",{"$error":"#N/A"},{"$error":"#N/A"},null,null,null,null,null,null,null,null,null,null,null,null,null,null,null,null,null,null,null,null,125,"No",0,"","65+",0,null,null,null,{"$f":"IF($B151 & $C151=\"\",\"\", IF(ISBLANK(D151),\"BLANK\",\"\"))","v":""},"","","",{"$f":"IF($B151 & $C151=\"\",\"\", IF(ISBLANK(I151),\"BLANK\",\"\"))","v":""},""]
["133",null,null,null,null,null,null,null,null,null,null,null,null,null,"",{"$error":"#N/A"},{"$error":"#N/A"},null,null,null,null,null,null,null,null,null,null,null,null,null,null,null,null,null,null,null,null,125,"No",0,"","65+",0,null,null,null,{"$f":"IF($B152 & $C152=\"\",\"\", IF(ISBLANK(D152),\"BLANK\",\"\"))","v":""},"","","",{"$f":"IF($B152 & $C152=\"\",\"\", IF(ISBLANK(I152),\"BLANK\",\"\"))","v":""},""]
["134",null,null,null,null,null,null,null,null,null,null,null,null,null,"",{"$error":"#N/A"},{"$error":"#N/A"},null,null,null,null,null,null,null,null,null,null,null,null,null,null,null,null,null,null,null,null,125,"No",0,"","65+",0,null,null,null,{"$f":"IF($B153 & $C153=\"\",\"\", IF(ISBLANK(D153),\"BLANK\",\"\"))","v":""},"","","",{"$f":"IF($B153 & $C153=\"\",\"\", IF(ISBLANK(I153),\"BLANK\",\"\"))","v":""},""]
["135",null,null,null,null,null,null,null,null,null,null,null,null,null,"",{"$error":"#N/A"},{"$error":"#N/A"},null,null,null,null,null,null,null,null,null,null,null,null,null,null,null,null,null,null,null,null,125,"No",0,"","65+",0,null,null,null,{"$f":"IF($B154 & $C154=\"\",\"\", IF(ISBLANK(D154),\"BLANK\",\"\"))","v":""},"","","",{"$f":"IF($B154 & $C154=\"\",\"\", IF(ISBLANK(I154),\"BLANK\",\"\"))","v":""},""]
["136",null,null,null,null,null,null,null,null,null,null,null,null,null,"",{"$error":"#N/A"},{"$error":"#N/A"},null,null,null,null,null,null,null,null,null,null,null,null,null,null,null,null,null,null,null,null,125,"No",0,"","65+",0,null,null,null,{"$f":"IF($B155 & $C155=\"\",\"\", IF(ISBLANK(D155),\"BLANK\",\"\"))","v":""},"","","",{"$f":"IF($B155 & $C155=\"\",\"\", IF(ISBLANK(I155),\"BLANK\",\"\"))","v":""},""]
["137",null,null,null,null,null,null,null,null,null,null,null,null,null,"",{"$error":"#N/A"},{"$error":"#N/A"},null,null,null,null,null,null,null,null,null,null,null,null,null,null,null,null,null,null,null,null,125,"No",0,"","65+",0,null,null,null,{"$f":"IF($B156 & $C156=\"\",\"\", IF(ISBLANK(D156),\"BLANK\",\"\"))","v":""},"","","",{"$f":"IF($B156 & $C156=\"\",\"\", IF(ISBLANK(I156),\"BLANK\",\"\"))","v":""},""]
["138",null,null,null,null,null,null,null,null,null,null,null,null,null,"",{"$error":"#N/A"},{"$error":"#N/A"},null,null,null,null,null,null,null,null,null,null,null,null,null,null,null,null,null,null,null,null,125,"No",0,"","65+",0,null,null,null,{"$f":"IF($B157 & $C157=\"\",\"\", IF(ISBLANK(D157),\"BLANK\",\"\"))","v":""},"","","",{"$f":"IF($B157 & $C157=\"\",\"\", IF(ISBLANK(I157),\"BLANK\",\"\"))","v":""},""]
["139",null,null,null,null,null,null,null,null,null,null,null,null,null,"",{"$error":"#N/A"},{"$error":"#N/A"},null,null,null,null,null,null,null,null,null,null,null,null,null,null,null,null,null,null,null,null,125,"No",0,"","65+",0,null,null,null,{"$f":"IF($B158 & $C158=\"\",\"\", IF(ISBLANK(D158),\"BLANK\",\"\"))","v":""},"","","",{"$f":"IF($B158 & $C158=\"\",\"\", IF(ISBLANK(I158),\"BLANK\",\"\"))","v":""},""]
["140",null,null,null,null,null,null,null,null,null,null,null,null,null,"",{"$error":"#N/A"},{"$error":"#N/A"},null,null,null,null,null,null,null,null,null,null,null,null,null,null,null,null,null,null,null,null,125,"No",0,"","65+",0,null,null,null,{"$f":"IF($B159 & $C159=\"\",\"\", IF(ISBLANK(D159),\"BLANK\",\"\"))","v":""},"","","",{"$f":"IF($B159 & $C159=\"\",\"\", IF(ISBLANK(I159),\"BLANK\",\"\"))","v":""},""]
["141",null,null,null,null,null,null,null,null,null,null,null,null,null,"",{"$error":"#N/A"},{"$error":"#N/A"},null,null,null,null,null,null,null,null,null,null,null,null,null,null,null,null,null,null,null,null,125,"No",0,"","65+",0,null,null,null,{"$f":"IF($B160 & $C160=\"\",\"\", IF(ISBLANK(D160),\"BLANK\",\"\"))","v":""},"","","",{"$f":"IF($B160 & $C160=\"\",\"\", IF(ISBLANK(I160),\"BLANK\",\"\"))","v":""},""]
["142",null,null,null,null,null,null,null,null,null,null,null,null,null,"",{"$error":"#N/A"},{"$error":"#N/A"},null,null,null,null,null,null,null,null,null,null,null,null,null,null,null,null,null,null,null,null,125,"No",0,"","65+",0,null,null,null,{"$f":"IF($B161 & $C161=\"\",\"\", IF(ISBLANK(D161),\"BLANK\",\"\"))","v":""},"","","",{"$f":"IF($B161 & $C161=\"\",\"\", IF(ISBLANK(I161),\"BLANK\",\"\"))","v":""},""]
["143",null,null,null,null,null,null,null,null,null,null,null,null,null,"",{"$error":"#N/A"},{"$error":"#N/A"},null,null,null,null,null,null,null,null,null,null,null,null,null,null,null,null,null,null,null,null,125,"No",0,"","65+",0,null,null,null,{"$f":"IF($B162 & $C162=\"\",\"\", IF(ISBLANK(D162),\"BLANK\",\"\"))","v":""},"","","",{"$f":"IF($B162 & $C162=\"\",\"\", IF(ISBLANK(I162),\"BLANK\",\"\"))","v":""},""]
["144",null,null,null,null,null,null,null,null,null,null,null,null,null,"",{"$error":"#N/A"},{"$error":"#N/A"},null,null,null,null,null,null,null,null,null,null,null,null,null,null,null,null,null,null,null,null,125,"No",0,"","65+",0,null,null,null,{"$f":"IF($B163 & $C163=\"\",\"\", IF(ISBLANK(D163),\"BLANK\",\"\"))","v":""},"","","",{"$f":"IF($B163 & $C163=\"\",\"\", IF(ISBLANK(I163),\"BLANK\",\"\"))","v":""},""]
["145",null,null,null,null,null,null,null,null,null,null,null,null,null,"",{"$error":"#N/A"},{"$error":"#N/A"},null,null,null,null,null,null,null,null,null,null,null,null,null,null,null,null,null,null,null,null,125,"No",0,"","65+",0,null,null,null,{"$f":"IF($B164 & $C164=\"\",\"\", IF(ISBLANK(D164),\"BLANK\",\"\"))","v":""},"","","",{"$f":"IF($B164 & $C164=\"\",\"\", IF(ISBLANK(I164),\"BLANK\",\"\"))","v":""},""]
["146",null,null,null,null,null,null,null,null,null,null,null,null,null,"",{"$error":"#N/A"},{"$error":"#N/A"},null,null,null,null,null,null,null,null,null,null,null,null,null,null,null,null,null,null,null,null,125,"No",0,"","65+",0,null,null,null,{"$f":"IF($B165 & $C165=\"\",\"\", IF(ISBLANK(D165),\"BLANK\",\"\"))","v":""},"","","",{"$f":"IF($B165 & $C165=\"\",\"\", IF(ISBLANK(I165),\"BLANK\",\"\"))","v":""},""]
["147",null,null,null,null,null,null,null,null,null,null,null,null,null,"",{"$error":"#N/A"},{"$error":"#N/A"},null,null,null,null,null,null,null,null,null,null,null,null,null,null,null,null,null,null,null,null,125,"No",0,"","65+",0,null,null,null,{"$f":"IF($B166 & $C166=\"\",\"\", IF(ISBLANK(D166),\"BLANK\",\"\"))","v":""},"","","",{"$f":"IF($B166 & $C166=\"\",\"\", IF(ISBLANK(I166),\"BLANK\",\"\"))","v":""},""]
["148",null,null,null,null,null,null,null,null,null,null,null,null,null,"",{"$error":"#N/A"},{"$error":"#N/A"},null,null,null,null,null,null,null,null,null,null,null,null,null,null,null,null,null,null,null,null,125,"No",0,"","65+",0,null,null,null,{"$f":"IF($B167 & $C167=\"\",\"\", IF(ISBLANK(D167),\"BLANK\",\"\"))","v":""},"","","",{"$f":"IF($B167 & $C167=\"\",\"\", IF(ISBLANK(I167),\"BLANK\",\"\"))","v":""},""]
["149",null,null,null,null,null,null,null,null,null,null,null,null,null,"",{"$error":"#N/A"},{"$error":"#N/A"},null,null,null,null,null,null,null,null,null,null,null,null,null,null,null,null,null,null,null,null,125,"No",0,"","65+",0,null,null,null,{"$f":"IF($B168 & $C168=\"\",\"\", IF(ISBLANK(D168),\"BLANK\",\"\"))","v":""},"","","",{"$f":"IF($B168 & $C168=\"\",\"\", IF(ISBLANK(I168),\"BLANK\",\"\"))","v":""},""]
["150",null,null,null,null,null,null,null,null,null,null,null,null,null,"",{"$error":"#N/A"},{"$error":"#N/A"},null,null,null,null,null,null,null,null,null,null,null,null,null,null,null,null,null,null,null,null,125,"No",0,"","65+",0,null,null,null,{"$f":"IF($B169 & $C169=\"\",\"\", IF(ISBLANK(D169),\"BLANK\",\"\"))","v":""},"","","",{"$f":"IF($B169 & $C169=\"\",\"\", IF(ISBLANK(I169),\"BLANK\",\"\"))","v":""},""]
["151",null,null,null,null,null,null,null,null,null,null,null,null,null,"",{"$error":"#N/A"},{"$error":"#N/A"},null,null,null,null,null,null,null,null,null,null,null,null,null,null,null,null,null,null,null,null,125,"No",0,"","65+",0,null,null,null,{"$f":"IF($B170 & $C170=\"\",\"\", IF(ISBLANK(D170),\"BLANK\",\"\"))","v":""},"","","",{"$f":"IF($B170 & $C170=\"\",\"\", IF(ISBLANK(I170),\"BLANK\",\"\"))","v":""},""]
["152",null,null,null,null,null,null,null,null,null,null,null,null,null,"",{"$error":"#N/A"},{"$error":"#N/A"},null,null,null,null,null,null,null,null,null,null,null,null,null,null,null,null,null,null,null,null,125,"No",0,"","65+",0,null,null,null,{"$f":"IF($B171 & $C171=\"\",\"\", IF(ISBLANK(D171),\"BLANK\",\"\"))","v":""},"","","",{"$f":"IF($B171 & $C171=\"\",\"\", IF(ISBLANK(I171),\"BLANK\",\"\"))","v":""},""]
["153",null,null,null,null,null,null,null,null,null,null,null,null,null,"",{"$error":"#N/A"},{"$error":"#N/A"},null,null,null,null,null,null,null,null,null,null,null,null,null,null,null,null,null,null,null,null,125,"No",0,"","65+",0,null,null,null,{"$f":"IF($B172 & $C172=\"\",\"\", IF(ISBLANK(D172),\"BLANK\",\"\"))","v":""},"","","",{"$f":"IF($B172 & $C172=\"\",\"\", IF(ISBLANK(I172),\"BLANK\",\"\"))","v":""},""]
["154",null,null,null,null,null,null,null,null,null,null,null,null,null,"",{"$error":"#N/A"},{"$error":"#N/A"},null,null,null,null,null,null,null,null,null,null,null,null,null,null,null,null,null,null,null,null,125,"No",0,"","65+",0,null,null,null,{"$f":"IF($B173 & $C173=\"\",\"\", IF(ISBLANK(D173),\"BLANK\",\"\"))","v":""},"","","",{"$f":"IF($B173 & $C173=\"\",\"\", IF(ISBLANK(I173),\"BLANK\",\"\"))","v":""},""]
["155",null,null,null,null,null,null,null,null,null,null,null,null,null,"",{"$error":"#N/A"},{"$error":"#N/A"},null,null,null,null,null,null,null,null,null,null,null,null,null,null,null,null,null,null,null,null,125,"No",0,"","65+",0,null,null,null,{"$f":"IF($B174 & $C174=\"\",\"\", IF(ISBLANK(D174),\"BLANK\",\"\"))","v":""},"","","",{"$f":"IF($B174 & $C174=\"\",\"\", IF(ISBLANK(I174),\"BLANK\",\"\"))","v":""},""]
["156",null,null,null,null,null,null,null,null,null,null,null,null,null,"",{"$error":"#N/A"},{"$error":"#N/A"},null,null,null,null,null,null,null,null,null,null,null,null,null,null,null,null,null,null,null,null,125,"No",0,"","65+",0,null,null,null,{"$f":"IF($B175 & $C175=\"\",\"\", IF(ISBLANK(D175),\"BLANK\",\"\"))","v":""},"","","",{"$f":"IF($B175 & $C175=\"\",\"\", IF(ISBLANK(I175),\"BLANK\",\"\"))","v":""},""]
["157",null,null,null,null,null,null,null,null,null,null,null,null,null,"",{"$error":"#N/A"},{"$error":"#N/A"},null,null,null,null,null,null,null,null,null,null,null,null,null,null,null,null,null,null,null,null,125,"No",0,"","65+",0,null,null,null,{"$f":"IF($B176 & $C176=\"\",\"\", IF(ISBLANK(D176),\"BLANK\",\"\"))","v":""},"","","",{"$f":"IF($B176 & $C176=\"\",\"\", IF(ISBLANK(I176),\"BLANK\",\"\"))","v":""},""]
["158",null,null,null,null,null,null,null,null,null,null,null,null,null,"",{"$error":"#N/A"},{"$error":"#N/A"},null,null,null,null,null,null,null,null,null,null,null,null,null,null,null,null,null,null,null,null,125,"No",0,"","65+",0,null,null,null,{"$f":"IF($B177 & $C177=\"\",\"\", IF(ISBLANK(D177),\"BLANK\",\"\"))","v":""},"","","",{"$f":"IF($B177 & $C177=\"\",\"\", IF(ISBLANK(I177),\"BLANK\",\"\"))","v":""},""]
["159",null,null,null,null,null,null,null,null,null,null,null,null,null,"",{"$error":"#N/A"},{"$error":"#N/A"},null,null,null,null,null,null,null,null,null,null,null,null,null,null,null,null,null,null,null,null,125,"No",0,"","65+",0,null,null,null,{"$f":"IF($B178 & $C178=\"\",\"\", IF(ISBLANK(D178),\"BLANK\",\"\"))","v":""},"","","",{"$f":"IF($B178 & $C178=\"\",\"\", IF(ISBLANK(I178),\"BLANK\",\"\"))","v":""},""]
["160",null,null,null,null,null,null,null,null,null,null,null,null,null,"",{"$error":"#N/A"},{"$error":"#N/A"},null,null,null,null,null,null,null,null,null,null,null,null,null,null,null,null,null,null,null,null,125,"No",0,"","65+",0,null,null,null,{"$f":"IF($B179 & $C179=\"\",\"\", IF(ISBLANK(D179),\"BLANK\",\"\"))","v":""},"","","",{"$f":"IF($B179 & $C179=\"\",\"\", IF(ISBLANK(I179),\"BLANK\",\"\"))","v":""},""]
["161",null,null,null,null,null,null,null,null,null,null,null,null,null,"",{"$error":"#N/A"},{"$error":"#N/A"},null,null,null,null,null,null,null,null,null,null,null,null,null,null,null,null,null,null,null,null,125,"No",0,"","65+",0,null,null,null,{"$f":"IF($B180 & $C180=\"\",\"\", IF(ISBLANK(D180),\"BLANK\",\"\"))","v":""},"","","",{"$f":"IF($B180 & $C180=\"\",\"\", IF(ISBLANK(I180),\"BLANK\",\"\"))","v":""},""]
["162",null,null,null,null,null,null,null,null,null,null,null,null,null,"",{"$error":"#N/A"},{"$error":"#N/A"},null,null,null,null,null,null,null,null,null,null,null,null,null,null,null,null,null,null,null,null,125,"No",0,"","65+",0,null,null,null,{"$f":"IF($B181 & $C181=\"\",\"\", IF(ISBLANK(D181),\"BLANK\",\"\"))","v":""},"","","",{"$f":"IF($B181 & $C181=\"\",\"\", IF(ISBLANK(I181),\"BLANK\",\"\"))","v":""},""]
["163",null,null,null,null,null,null,null,null,null,null,null,null,null,"",{"$error":"#N/A"},{"$error":"#N/A"},null,null,null,null,null,null,null,null,null,null,null,null,null,null,null,null,null,null,null,null,125,"No",0,"","65+",0,null,null,null,{"$f":"IF($B182 & $C182=\"\",\"\", IF(ISBLANK(D182),\"BLANK\",\"\"))","v":""},"","","",{"$f":"IF($B182 & $C182=\"\",\"\", IF(ISBLANK(I182),\"BLANK\",\"\"))","v":""},""]
["164",null,null,null,null,null,null,null,null,null,null,null,null,null,"",{"$error":"#N/A"},{"$error":"#N/A"},null,null,null,null,null,null,null,null,null,null,null,null,null,null,null,null,null,null,null,null,125,"No",0,"","65+",0,null,null,null,{"$f":"IF($B183 & $C183=\"\",\"\", IF(ISBLANK(D183),\"BLANK\",\"\"))","v":""},"","","",{"$f":"IF($B183 & $C183=\"\",\"\", IF(ISBLANK(I183),\"BLANK\",\"\"))","v":""},""]
["165",null,null,null,null,null,null,null,null,null,null,null,null,null,"",{"$error":"#N/A"},{"$error":"#N/A"},null,null,null,null,null,null,null,null,null,null,null,null,null,null,null,null,null,null,null,null,125,"No",0,"","65+",0,null,null,null,{"$f":"IF($B184 & $C184=\"\",\"\", IF(ISBLANK(D184),\"BLANK\",\"\"))","v":""},"","","",{"$f":"IF($B184 & $C184=\"\",\"\", IF(ISBLANK(I184),\"BLANK\",\"\"))","v":""},""]
["166",null,null,null,null,null,null,null,null,null,null,null,null,null,"",{"$error":"#N/A"},{"$error":"#N/A"},null,null,null,null,null,null,null,null,null,null,null,null,null,null,null,null,null,null,null,null,125,"No",0,"","65+",0,null,null,null,{"$f":"IF($B185 & $C185=\"\",\"\", IF(ISBLANK(D185),\"BLANK\",\"\"))","v":""},"","","",{"$f":"IF($B185 & $C185=\"\",\"\", IF(ISBLANK(I185),\"BLANK\",\"\"))","v":""},""]
["167",null,null,null,null,null,null,null,null,null,null,null,null,null,"",{"$error":"#N/A"},{"$error":"#N/A"},null,null,null,null,null,null,null,null,null,null,null,null,null,null,null,null,null,null,null,null,125,"No",0,"","65+",0,null,null,null,{"$f":"IF($B186 & $C186=\"\",\"\", IF(ISBLANK(D186),\"BLANK\",\"\"))","v":""},"","","",{"$f":"IF($B186 & $C186=\"\",\"\", IF(ISBLANK(I186),\"BLANK\",\"\"))","v":""},""]
["168",null,null,null,null,null,null,null,null,null,null,null,null,null,"",{"$error":"#N/A"},{"$error":"#N/A"},null,null,null,null,null,null,null,null,null,null,null,null,null,null,null,null,null,null,null,null,125,"No",0,"","65+",0,null,null,null,{"$f":"IF($B187 & $C187=\"\",\"\", IF(ISBLANK(D187),\"BLANK\",\"\"))","v":""},"","","",{"$f":"IF($B187 & $C187=\"\",\"\", IF(ISBLANK(I187),\"BLANK\",\"\"))","v":""},""]
["169",null,null,null,null,null,null,null,null,null,null,null,null,null,"",{"$error":"#N/A"},{"$error":"#N/A"},null,null,null,null,null,null,null,null,null,null,null,null,null,null,null,null,null,null,null,null,125,"No",0,"","65+",0,null,null,null,{"$f":"IF($B188 & $C188=\"\",\"\", IF(ISBLANK(D188),\"BLANK\",\"\"))","v":""},"","","",{"$f":"IF($B188 & $C188=\"\",\"\", IF(ISBLANK(I188),\"BLANK\",\"\"))","v":""},""]
["170",null,null,null,null,null,null,null,null,null,null,null,null,null,"",{"$error":"#N/A"},{"$error":"#N/A"},null,null,null,null,null,null,null,null,null,null,null,null,null,null,null,null,null,null,null,null,125,"No",0,"","65+",0,null,null,null,{"$f":"IF($B189 & $C189=\"\",\"\", IF(ISBLANK(D189),\"BLANK\",\"\"))","v":""},"","","",{"$f":"IF($B189 & $C189=\"\",\"\", IF(ISBLANK(I189),\"BLANK\",\"\"))","v":""},""]
["171",null,null,null,null,null,null,null,null,null,null,null,null,null,"",{"$error":"#N/A"},{"$error":"#N/A"},null,null,null,null,null,null,null,null,null,null,null,null,null,null,null,null,null,null,null,null,125,"No",0,"","65+",0,null,null,null,{"$f":"IF($B190 & $C190=\"\",\"\", IF(ISBLANK(D190),\"BLANK\",\"\"))","v":""},"","","",{"$f":"IF($B190 & $C190=\"\",\"\", IF(ISBLANK(I190),\"BLANK\",\"\"))","v":""},""]
["172",null,null,null,null,null,null,null,null,null,null,null,null,null,"",{"$error":"#N/A"},{"$error":"#N/A"},null,null,null,null,null,null,null,null,null,null,null,null,null,null,null,null,null,null,null,null,125,"No",0,"","65+",0,null,null,null,{"$f":"IF($B191 & $C191=\"\",\"\", IF(ISBLANK(D191),\"BLANK\",\"\"))","v":""},"","","",{"$f":"IF($B191 & $C191=\"\",\"\", IF(ISBLANK(I191),\"BLANK\",\"\"))","v":""},""]
["173",null,null,null,null,null,null,null,null,null,null,null,null,null,"",{"$error":"#N/A"},{"$error":"#N/A"},null,null,null,null,null,null,null,null,null,null,null,null,null,null,null,null,null,null,null,null,125,"No",0,"","65+",0,null,null,null,{"$f":"IF($B192 & $C192=\"\",\"\", IF(ISBLANK(D192),\"BLANK\",\"\"))","v":""},"","","",{"$f":"IF($B192 & $C192=\"\",\"\", IF(ISBLANK(I192),\"BLANK\",\"\"))","v":""},""]
["174",null,null,null,null,null,null,null,null,null,null,null,null,null,"",{"$error":"#N/A"},{"$error":"#N/A"},null,null,null,null,null,null,null,null,null,null,null,null,null,null,null,null,null,null,null,null,125,"No",0,"","65+",0,null,null,null,{"$f":"IF($B193 & $C193=\"\",\"\", IF(ISBLANK(D193),\"BLANK\",\"\"))","v":""},"","","",{"$f":"IF($B193 & $C193=\"\",\"\", IF(ISBLANK(I193),\"BLANK\",\"\"))","v":""},""]
["175",null,null,null,null,null,null,null,null,null,null,null,null,null,"",{"$error":"#N/A"},{"$error":"#N/A"},null,null,null,null,null,null,null,null,null,null,null,null,null,null,null,null,null,null,null,null,125,"No",0,"","65+",0,null,null,null,{"$f":"IF($B194 & $C194=\"\",\"\", IF(ISBLANK(D194),\"BLANK\",\"\"))","v":""},"","","",{"$f":"IF($B194 & $C194=\"\",\"\", IF(ISBLANK(I194),\"BLANK\",\"\"))","v":""},""]
["176",null,null,null,null,null,null,null,null,null,null,null,null,null,"",{"$error":"#N/A"},{"$error":"#N/A"},null,null,null,null,null,null,null,null,null,null,null,null,null,null,null,null,null,null,null,null,125,"No",0,"","65+",0,null,null,null,{"$f":"IF($B195 & $C195=\"\",\"\", IF(ISBLANK(D195),\"BLANK\",\"\"))","v":""},"","","",{"$f":"IF($B195 & $C195=\"\",\"\", IF(ISBLANK(I195),\"BLANK\",\"\"))","v":""},""]
["177",null,null,null,null,null,null,null,null,null,null,null,null,null,"",{"$error":"#N/A"},{"$error":"#N/A"},null,null,null,null,null,null,null,null,null,null,null,null,null,null,null,null,null,null,null,null,125,"No",0,"","65+",0,null,null,null,{"$f":"IF($B196 & $C196=\"\",\"\", IF(ISBLANK(D196),\"BLANK\",\"\"))","v":""},"","","",{"$f":"IF($B196 & $C196=\"\",\"\", IF(ISBLANK(I196),\"BLANK\",\"\"))","v":""},""]
["178",null,null,null,null,null,null,null,null,null,null,null,null,null,"",{"$error":"#N/A"},{"$error":"#N/A"},null,null,null,null,null,null,null,null,null,null,null,null,null,null,null,null,null,null,null,null,125,"No",0,"","65+",0,null,null,null,{"$f":"IF($B197 & $C197=\"\",\"\", IF(ISBLANK(D197),\"BLANK\",\"\"))","v":""},"","","",{"$f":"IF($B197 & $C197=\"\",\"\", IF(ISBLANK(I197),\"BLANK\",\"\"))","v":""},""]
["179",null,null,null,null,null,null,null,null,null,null,null,null,null,"",{"$error":"#N/A"},{"$error":"#N/A"},null,null,null,null,null,null,null,null,null,null,null,null,null,null,null,null,null,null,null,null,125,"No",0,"","65+",0,null,null,null,{"$f":"IF($B198 & $C198=\"\",\"\", IF(ISBLANK(D198),\"BLANK\",\"\"))","v":""},"","","",{"$f":"IF($B198 & $C198=\"\",\"\", IF(ISBLANK(I198),\"BLANK\",\"\"))","v":""},""]
["180",null,null,null,null,null,null,null,null,null,null,null,null,null,"",{"$error":"#N/A"},{"$error":"#N/A"},null,null,null,null,null,null,null,null,null,null,null,null,null,null,null,null,null,null,null,null,125,"No",0,"","65+",0,null,null,null,{"$f":"IF($B199 & $C199=\"\",\"\", IF(ISBLANK(D199),\"BLANK\",\"\"))","v":""},"","","",{"$f":"IF($B199 & $C199=\"\",\"\", IF(ISBLANK(I199),\"BLANK\",\"\"))","v":""},""]
["181",null,null,null,null,null,null,null,null,null,null,null,null,null,"",{"$error":"#N/A"},{"$error":"#N/A"},null,null,null,null,null,null,null,null,null,null,null,null,null,null,null,null,null,null,null,null,125,"No",0,"","65+",0,null,null,null,{"$f":"IF($B200 & $C200=\"\",\"\", IF(ISBLANK(D200),\"BLANK\",\"\"))","v":""},"","","",{"$f":"IF($B200 & $C200=\"\",\"\", IF(ISBLANK(I200),\"BLANK\",\"\"))","v":""},""]
["182",null,null,null,null,null,null,null,null,null,null,null,null,null,"",{"$error":"#N/A"},{"$error":"#N/A"},null,null,null,null,null,null,null,null,null,null,null,null,null,null,null,null,null,null,null,null,125,"No",0,"","65+",0,null,null,null,{"$f":"IF($B201 & $C201=\"\",\"\", IF(ISBLANK(D201),\"BLANK\",\"\"))","v":""},"","","",{"$f":"IF($B201 & $C201=\"\",\"\", IF(ISBLANK(I201),\"BLANK\",\"\"))","v":""},""]
["183",null,null,null,null,null,null,null,null,null,null,null,null,null,"",{"$error":"#N/A"},{"$error":"#N/A"},null,null,null,null,null,null,null,null,null,null,null,null,null,null,null,null,null,null,null,null,125,"No",0,"","65+",0,null,null,null,{"$f":"IF($B202 & $C202=\"\",\"\", IF(ISBLANK(D202),\"BLANK\",\"\"))","v":""},"","","",{"$f":"IF($B202 & $C202=\"\",\"\", IF(ISBLANK(I202),\"BLANK\",\"\"))","v":""},""]
["184",null,null,null,null,null,null,null,null,null,null,null,null,null,"",{"$error":"#N/A"},{"$error":"#N/A"},null,null,null,null,null,null,null,null,null,null,null,null,null,null,null,null,null,null,null,null,125,"No",0,"","65+",0,null,null,null,{"$f":"IF($B203 & $C203=\"\",\"\", IF(ISBLANK(D203),\"BLANK\",\"\"))","v":""},"","","",{"$f":"IF($B203 & $C203=\"\",\"\", IF(ISBLANK(I203),\"BLANK\",\"\"))","v":""},""]
["185",null,null,null,null,null,null,null,null,null,null,null,null,null,"",{"$error":"#N/A"},{"$error":"#N/A"},null,null,null,null,null,null,null,null,null,null,null,null,null,null,null,null,null,null,null,null,125,"No",0,"","65+",0,null,null,null,{"$f":"IF($B204 & $C204=\"\",\"\", IF(ISBLANK(D204),\"BLANK\",\"\"))","v":""},"","","",{"$f":"IF($B204 & $C204=\"\",\"\", IF(ISBLANK(I204),\"BLANK\",\"\"))","v":""},""]
["186",null,null,null,null,null,null,null,null,null,null,null,null,null,"",{"$error":"#N/A"},{"$error":"#N/A"},null,null,null,null,null,null,null,null,null,null,null,null,null,null,null,null,null,null,null,null,125,"No",0,"","65+",0,null,null,null,{"$f":"IF($B205 & $C205=\"\",\"\", IF(ISBLANK(D205),\"BLANK\",\"\"))","v":""},"","","",{"$f":"IF($B205 & $C205=\"\",\"\", IF(ISBLANK(I205),\"BLANK\",\"\"))","v":""},""]
["187",null,null,null,null,null,null,null,null,null,null,null,null,null,"",{"$error":"#N/A"},{"$error":"#N/A"},null,null,null,null,null,null,null,null,null,null,null,null,null,null,null,null,null,null,null,null,125,"No",0,"","65+",0,null,null,null,{"$f":"IF($B206 & $C206=\"\",\"\", IF(ISBLANK(D206),\"BLANK\",\"\"))","v":""},"","","",{"$f":"IF($B206 & $C206=\"\",\"\", IF(ISBLANK(I206),\"BLANK\",\"\"))","v":""},""]
["188",null,null,null,null,null,null,null,null,null,null,null,null,null,"",{"$error":"#N/A"},{"$error":"#N/A"},null,null,null,null,null,null,null,null,null,null,null,null,null,null,null,null,null,null,null,null,125,"No",0,"","65+",0,null,null,null,{"$f":"IF($B207 & $C207=\"\",\"\", IF(ISBLANK(D207),\"BLANK\",\"\"))","v":""},"","","",{"$f":"IF($B207 & $C207=\"\",\"\", IF(ISBLANK(I207),\"BLANK\",\"\"))","v":""},""]
["189",null,null,null,null,null,null,null,null,null,null,null,null,null,"",{"$error":"#N/A"},{"$error":"#N/A"},null,null,null,null,null,null,null,null,null,null,null,null,null,null,null,null,null,null,null,null,125,"No",0,"","65+",0,null,null,null,{"$f":"IF($B208 & $C208=\"\",\"\", IF(ISBLANK(D208),\"BLANK\",\"\"))","v":""},"","","",{"$f":"IF($B208 & $C208=\"\",\"\", IF(ISBLANK(I208),\"BLANK\",\"\"))","v":""},""]
["190",null,null,null,null,null,null,null,null,null,null,null,null,null,"",{"$error":"#N/A"},{"$error":"#N/A"},null,null,null,null,null,null,null,null,null,null,null,null,null,null,null,null,null,null,null,null,125,"No",0,"","65+",0,null,null,null,{"$f":"IF($B209 & $C209=\"\",\"\", IF(ISBLANK(D209),\"BLANK\",\"\"))","v":""},"","","",{"$f":"IF($B209 & $C209=\"\",\"\", IF(ISBLANK(I209),\"BLANK\",\"\"))","v":""},""]
["191",null,null,null,null,null,null,null,null,null,null,null,null,null,"",{"$error":"#N/A"},{"$error":"#N/A"},null,null,null,null,null,null,null,null,null,null,null,null,null,null,null,null,null,null,null,null,125,"No",0,"","65+",0,null,null,null,{"$f":"IF($B210 & $C210=\"\",\"\", IF(ISBLANK(D210),\"BLANK\",\"\"))","v":""},"","","",{"$f":"IF($B210 & $C210=\"\",\"\", IF(ISBLANK(I210),\"BLANK\",\"\"))","v":""},""]
["192",null,null,null,null,null,null,null,null,null,null,null,null,null,"",{"$error":"#N/A"},{"$error":"#N/A"},null,null,null,null,null,null,null,null,null,null,null,null,null,null,null,null,null,null,null,null,125,"No",0,"","65+",0,null,null,null,{"$f":"IF($B211 & $C211=\"\",\"\", IF(ISBLANK(D211),\"BLANK\",\"\"))","v":""},"","","",{"$f":"IF($B211 & $C211=\"\",\"\", IF(ISBLANK(I211),\"BLANK\",\"\"))","v":""},""]
["193",null,null,null,null,null,null,null,null,null,null,null,null,null,"",{"$error":"#N/A"},{"$error":"#N/A"},null,null,null,null,null,null,null,null,null,null,null,null,null,null,null,null,null,null,null,null,125,"No",0,"","65+",0,null,null,null,{"$f":"IF($B212 & $C212=\"\",\"\", IF(ISBLANK(D212),\"BLANK\",\"\"))","v":""},"","","",{"$f":"IF($B212 & $C212=\"\",\"\", IF(ISBLANK(I212),\"BLANK\",\"\"))","v":""},""]
["194",null,null,null,null,null,null,null,null,null,null,null,null,null,"",{"$error":"#N/A"},{"$error":"#N/A"},null,null,null,null,null,null,null,null,null,null,null,null,null,null,null,null,null,null,null,null,125,"No",0,"","65+",0,null,null,null,{"$f":"IF($B213 & $C213=\"\",\"\", IF(ISBLANK(D213),\"BLANK\",\"\"))","v":""},"","","",{"$f":"IF($B213 & $C213=\"\",\"\", IF(ISBLANK(I213),\"BLANK\",\"\"))","v":""},""]
["195",null,null,null,null,null,null,null,null,null,null,null,null,null,"",{"$error":"#N/A"},{"$error":"#N/A"},null,null,null,null,null,null,null,null,null,null,null,null,null,null,null,null,null,null,null,null,125,"No",0,"","65+",0,null,null,null,{"$f":"IF($B214 & $C214=\"\",\"\", IF(ISBLANK(D214),\"BLANK\",\"\"))","v":""},"","","",{"$f":"IF($B214 & $C214=\"\",\"\", IF(ISBLANK(I214),\"BLANK\",\"\"))","v":""},""]
["196",null,null,null,null,null,null,null,null,null,null,null,null,null,"",{"$error":"#N/A"},{"$error":"#N/A"},null,null,null,null,null,null,null,null,null,null,null,null,null,null,null,null,null,null,null,null,125,"No",0,"","65+",0,null,null,null,{"$f":"IF($B215 & $C215=\"\",\"\", IF(ISBLANK(D215),\"BLANK\",\"\"))","v":""},"","","",{"$f":"IF($B215 & $C215=\"\",\"\", IF(ISBLANK(I215),\"BLANK\",\"\"))","v":""},""]
["197",null,null,null,null,null,null,null,null,null,null,null,null,null,"",{"$error":"#N/A"},{"$error":"#N/A"},null,null,null,null,null,null,null,null,null,null,null,null,null,null,null,null,null,null,null,null,125,"No",0,"","65+",0,null,null,null,{"$f":"IF($B216 & $C216=\"\",\"\", IF(ISBLANK(D216),\"BLANK\",\"\"))","v":""},"","","",{"$f":"IF($B216 & $C216=\"\",\"\", IF(ISBLANK(I216),\"BLANK\",\"\"))","v":""},""]
["198",null,null,null,null,null,null,null,null,null,null,null,null,null,"",{"$error":"#N/A"},{"$error":"#N/A"},null,null,null,null,null,null,null,null,null,null,null,null,null,null,null,null,null,null,null,null,125,"No",0,"","65+",0,null,null,null,{"$f":"IF($B217 & $C217=\"\",\"\", IF(ISBLANK(D217),\"BLANK\",\"\"))","v":""},"","","",{"$f":"IF($B217 & $C217=\"\",\"\", IF(ISBLANK(I217),\"BLANK\",\"\"))","v":""},""]
["199",null,null,null,null,null,null,null,null,null,null,null,null,null,"",{"$error":"#N/A"},{"$error":"#N/A"},null,null,null,null,null,null,null,null,null,null,null,null,null,null,null,null,null,null,null,null,125,"No",0,"","65+",0,null,null,null,{"$f":"IF($B218 & $C218=\"\",\"\", IF(ISBLANK(D218),\"BLANK\",\"\"))","v":""},"","","",{"$f":"IF($B218 & $C218=\"\",\"\", IF(ISBLANK(I218),\"BLANK\",\"\"))","v":""},""]
["200",null,null,null,null,null,null,null,null,null,null,null,null,null,"",{"$error":"#N/A"},{"$error":"#N/A"},null,null,null,null,null,null,null,null,null,null,null,null,null,null,null,null,null,null,null,null,125,"No",0,"","65+",0,null,null,null,{"$f":"IF($B219 & $C219=\"\",\"\", IF(ISBLANK(D219),\"BLANK\",\"\"))","v":""},"","","",{"$f":"IF($B219 & $C219=\"\",\"\", IF(ISBLANK(I219),\"BLANK\",\"\"))","v":""},""]
["201",null,null,null,null,null,null,null,null,null,null,null,null,null,"",{"$error":"#N/A"},{"$error":"#N/A"},null,null,null,null,null,null,null,null,null,null,null,null,null,null,null,null,null,null,null,null,125,"No",0,"","65+",0,null,null,null,{"$f":"IF($B220 & $C220=\"\",\"\", IF(ISBLANK(D220),\"BLANK\",\"\"))","v":""},"","","",{"$f":"IF($B220 & $C220=\"\",\"\", IF(ISBLANK(I220),\"BLANK\",\"\"))","v":""},""]
["202",null,null,null,null,null,null,null,null,null,null,null,null,null,"",{"$error":"#N/A"},{"$error":"#N/A"},null,null,null,null,null,null,null,null,null,null,null,null,null,null,null,null,null,null,null,null,125,"No",0,"","65+",0,null,null,null,{"$f":"IF($B221 & $C221=\"\",\"\", IF(ISBLANK(D221),\"BLANK\",\"\"))","v":""},"","","",{"$f":"IF($B221 & $C221=\"\",\"\", IF(ISBLANK(I221),\"BLANK\",\"\"))","v":""},""]
["203",null,null,null,null,null,null,null,null,null,null,null,null,null,"",{"$error":"#N/A"},{"$error":"#N/A"},null,null,null,null,null,null,null,null,null,null,null,null,null,null,null,null,null,null,null,null,125,"No",0,"","65+",0,null,null,null,{"$f":"IF($B222 & $C222=\"\",\"\", IF(ISBLANK(D222),\"BLANK\",\"\"))","v":""},"","","",{"$f":"IF($B222 & $C222=\"\",\"\", IF(ISBLANK(I222),\"BLANK\",\"\"))","v":""},""]
["204",null,null,null,null,null,null,null,null,null,null,null,null,null,"",{"$error":"#N/A"},{"$error":"#N/A"},null,null,null,null,null,null,null,null,null,null,null,null,null,null,null,null,null,null,null,null,125,"No",0,"","65+",0,null,null,null,{"$f":"IF($B223 & $C223=\"\",\"\", IF(ISBLANK(D223),\"BLANK\",\"\"))","v":""},"","","",{"$f":"IF($B223 & $C223=\"\",\"\", IF(ISBLANK(I223),\"BLANK\",\"\"))","v":""},""]
["205",null,null,null,null,null,null,null,null,null,null,null,null,null,"",{"$error":"#N/A"},{"$error":"#N/A"},null,null,null,null,null,null,null,null,null,null,null,null,null,null,null,null,null,null,null,null,125,"No",0,"","65+",0,null,null,null,{"$f":"IF($B224 & $C224=\"\",\"\", IF(ISBLANK(D224),\"BLANK\",\"\"))","v":""},"","","",{"$f":"IF($B224 & $C224=\"\",\"\", IF(ISBLANK(I224),\"BLANK\",\"\"))","v":""},""]
["206",null,null,null,null,null,null,null,null,null,null,null,null,null,"",{"$error":"#N/A"},{"$error":"#N/A"},null,null,null,null,null,null,null,null,null,null,null,null,null,null,null,null,null,null,null,null,125,"No",0,"","65+",0,null,null,null,{"$f":"IF($B225 & $C225=\"\",\"\", IF(ISBLANK(D225),\"BLANK\",\"\"))","v":""},"","","",{"$f":"IF($B225 & $C225=\"\",\"\", IF(ISBLANK(I225),\"BLANK\",\"\"))","v":""},""]
["207",null,null,null,null,null,null,null,null,null,null,null,null,null,"",{"$error":"#N/A"},{"$error":"#N/A"},null,null,null,null,null,null,null,null,null,null,null,null,null,null,null,null,null,null,null,null,125,"No",0,"","65+",0,null,null,null,{"$f":"IF($B226 & $C226=\"\",\"\", IF(ISBLANK(D226),\"BLANK\",\"\"))","v":""},"","","",{"$f":"IF($B226 & $C226=\"\",\"\", IF(ISBLANK(I226),\"BLANK\",\"\"))","v":""},""]
["208",null,null,null,null,null,null,null,null,null,null,null,null,null,"",{"$error":"#N/A"},{"$error":"#N/A"},null,null,null,null,null,null,null,null,null,null,null,null,null,null,null,null,null,null,null,null,125,"No",0,"","65+",0,null,null,null,{"$f":"IF($B227 & $C227=\"\",\"\", IF(ISBLANK(D227),\"BLANK\",\"\"))","v":""},"","","",{"$f":"IF($B227 & $C227=\"\",\"\", IF(ISBLANK(I227),\"BLANK\",\"\"))","v":""},""]
["209",null,null,null,null,null,null,null,null,null,null,null,null,null,"",{"$error":"#N/A"},{"$error":"#N/A"},null,null,null,null,null,null,null,null,null,null,null,null,null,null,null,null,null,null,null,null,125,"No",0,"","65+",0,null,null,null,{"$f":"IF($B228 & $C228=\"\",\"\", IF(ISBLANK(D228),\"BLANK\",\"\"))","v":""},"","","",{"$f":"IF($B228 & $C228=\"\",\"\", IF(ISBLANK(I228),\"BLANK\",\"\"))","v":""},""]
["210",null,null,null,null,null,null,null,null,null,null,null,null,null,"",{"$error":"#N/A"},{"$error":"#N/A"},null,null,null,null,null,null,null,null,null,null,null,null,null,null,null,null,null,null,null,null,125,"No",0,"","65+",0,null,null,null,{"$f":"IF($B229 & $C229=\"\",\"\", IF(ISBLANK(D229),\"BLANK\",\"\"))","v":""},"","","",{"$f":"IF($B229 & $C229=\"\",\"\", IF(ISBLANK(I229),\"BLANK\",\"\"))","v":""},""]
["211",null,null,null,null,null,null,null,null,null,null,null,null,null,"",{"$error":"#N/A"},{"$error":"#N/A"},null,null,null,null,null,null,null,null,null,null,null,null,null,null,null,null,null,null,null,null,125,"No",0,"","65+",0,null,null,null,{"$f":"IF($B230 & $C230=\"\",\"\", IF(ISBLANK(D230),\"BLANK\",\"\"))","v":""},"","","",{"$f":"IF($B230 & $C230=\"\",\"\", IF(ISBLANK(I230),\"BLANK\",\"\"))","v":""},""]
["212",null,null,null,null,null,null,null,null,null,null,null,null,null,"",{"$error":"#N/A"},{"$error":"#N/A"},null,null,null,null,null,null,null,null,null,null,null,null,null,null,null,null,null,null,null,null,125,"No",0,"","65+",0,null,null,null,{"$f":"IF($B231 & $C231=\"\",\"\", IF(ISBLANK(D231),\"BLANK\",\"\"))","v":""},"","","",{"$f":"IF($B231 & $C231=\"\",\"\", IF(ISBLANK(I231),\"BLANK\",\"\"))","v":""},""]
["213",null,null,null,null,null,null,null,null,null,null,null,null,null,"",{"$error":"#N/A"},{"$error":"#N/A"},null,null,null,null,null,null,null,null,null,null,null,null,null,null,null,null,null,null,null,null,125,"No",0,"","65+",0,null,null,null,{"$f":"IF($B232 & $C232=\"\",\"\", IF(ISBLANK(D232),\"BLANK\",\"\"))","v":""},"","","",{"$f":"IF($B232 & $C232=\"\",\"\", IF(ISBLANK(I232),\"BLANK\",\"\"))","v":""},""]
["214",null,null,null,null,null,null,null,null,null,null,null,null,null,"",{"$error":"#N/A"},{"$error":"#N/A"},null,null,null,null,null,null,null,null,null,null,null,null,null,null,null,null,null,null,null,null,125,"No",0,"","65+",0,null,null,null,{"$f":"IF($B233 & $C233=\"\",\"\", IF(ISBLANK(D233),\"BLANK\",\"\"))","v":""},"","","",{"$f":"IF($B233 & $C233=\"\",\"\", IF(ISBLANK(I233),\"BLANK\",\"\"))","v":""},""]
["215",null,null,null,null,null,null,null,null,null,null,null,null,null,"",{"$error":"#N/A"},{"$error":"#N/A"},null,null,null,null,null,null,null,null,null,null,null,null,null,null,null,null,null,null,null,null,125,"No",0,"","65+",0,null,null,null,{"$f":"IF($B234 & $C234=\"\",\"\", IF(ISBLANK(D234),\"BLANK\",\"\"))","v":""},"","","",{"$f":"IF($B234 & $C234=\"\",\"\", IF(ISBLANK(I234),\"BLANK\",\"\"))","v":""},""]
["216",null,null,null,null,null,null,null,null,null,null,null,null,null,"",{"$error":"#N/A"},{"$error":"#N/A"},null,null,null,null,null,null,null,null,null,null,null,null,null,null,null,null,null,null,null,null,125,"No",0,"","65+",0,null,null,null,{"$f":"IF($B235 & $C235=\"\",\"\", IF(ISBLANK(D235),\"BLANK\",\"\"))","v":""},"","","",{"$f":"IF($B235 & $C235=\"\",\"\", IF(ISBLANK(I235),\"BLANK\",\"\"))","v":""},""]
["217",null,null,null,null,null,null,null,null,null,null,null,null,null,"",{"$error":"#N/A"},{"$error":"#N/A"},null,null,null,null,null,null,null,null,null,null,null,null,null,null,null,null,null,null,null,null,125,"No",0,"","65+",0,null,null,null,{"$f":"IF($B236 & $C236=\"\",\"\", IF(ISBLANK(D236),\"BLANK\",\"\"))","v":""},"","","",{"$f":"IF($B236 & $C236=\"\",\"\", IF(ISBLANK(I236),\"BLANK\",\"\"))","v":""},""]
["218",null,null,null,null,null,null,null,null,null,null,null,null,null,"",{"$error":"#N/A"},{"$error":"#N/A"},null,null,null,null,null,null,null,null,null,null,null,null,null,null,null,null,null,null,null,null,125,"No",0,"","65+",0,null,null,null,{"$f":"IF($B237 & $C237=\"\",\"\", IF(ISBLANK(D237),\"BLANK\",\"\"))","v":""},"","","",{"$f":"IF($B237 & $C237=\"\",\"\", IF(ISBLANK(I237),\"BLANK\",\"\"))","v":""},""]
["219",null,null,null,null,null,null,null,null,null,null,null,null,null,"",{"$error":"#N/A"},{"$error":"#N/A"},null,null,null,null,null,null,null,null,null,null,null,null,null,null,null,null,null,null,null,null,125,"No",0,"","65+",0,null,null,null,{"$f":"IF($B238 & $C238=\"\",\"\", IF(ISBLANK(D238),\"BLANK\",\"\"))","v":""},"","","",{"$f":"IF($B238 & $C238=\"\",\"\", IF(ISBLANK(I238),\"BLANK\",\"\"))","v":""},""]
["220",null,null,null,null,null,null,null,null,null,null,null,null,null,"",{"$error":"#N/A"},{"$error":"#N/A"},null,null,null,null,null,null,null,null,null,null,null,null,null,null,null,null,null,null,null,null,125,"No",0,"","65+",0,null,null,null,{"$f":"IF($B239 & $C239=\"\",\"\", IF(ISBLANK(D239),\"BLANK\",\"\"))","v":""},"","","",{"$f":"IF($B239 & $C239=\"\",\"\", IF(ISBLANK(I239),\"BLANK\",\"\"))","v":""},""]
["221",null,null,null,null,null,null,null,null,null,null,null,null,null,"",{"$error":"#N/A"},{"$error":"#N/A"},null,null,null,null,null,null,null,null,null,null,null,null,null,null,null,null,null,null,null,null,125,"No",0,"","65+",0,null,null,null,{"$f":"IF($B240 & $C240=\"\",\"\", IF(ISBLANK(D240),\"BLANK\",\"\"))","v":""},"","","",{"$f":"IF($B240 & $C240=\"\",\"\", IF(ISBLANK(I240),\"BLANK\",\"\"))","v":""},""]
["222",null,null,null,null,null,null,null,null,null,null,null,null,null,"",{"$error":"#N/A"},{"$error":"#N/A"},null,null,null,null,null,null,null,null,null,null,null,null,null,null,null,null,null,null,null,null,125,"No",0,"","65+",0,null,null,null,{"$f":"IF($B241 & $C241=\"\",\"\", IF(ISBLANK(D241),\"BLANK\",\"\"))","v":""},"","","",{"$f":"IF($B241 & $C241=\"\",\"\", IF(ISBLANK(I241),\"BLANK\",\"\"))","v":""},""]
["223",null,null,null,null,null,null,null,null,null,null,null,null,null,"",{"$error":"#N/A"},{"$error":"#N/A"},null,null,null,null,null,null,null,null,null,null,null,null,null,null,null,null,null,null,null,null,125,"No",0,"","65+",0,null,null,null,{"$f":"IF($B242 & $C242=\"\",\"\", IF(ISBLANK(D242),\"BLANK\",\"\"))","v":""},"","","",{"$f":"IF($B242 & $C242=\"\",\"\", IF(ISBLANK(I242),\"BLANK\",\"\"))","v":""},""]
["224",null,null,null,null,null,null,null,null,null,null,null,null,null,"",{"$error":"#N/A"},{"$error":"#N/A"},null,null,null,null,null,null,null,null,null,null,null,null,null,null,null,null,null,null,null,null,125,"No",0,"","65+",0,null,null,null,{"$f":"IF($B243 & $C243=\"\",\"\", IF(ISBLANK(D243),\"BLANK\",\"\"))","v":""},"","","",{"$f":"IF($B243 & $C243=\"\",\"\", IF(ISBLANK(I243),\"BLANK\",\"\"))","v":""},""]
["225",null,null,null,null,null,null,null,null,null,null,null,null,null,"",{"$error":"#N/A"},{"$error":"#N/A"},null,null,null,null,null,null,null,null,null,null,null,null,null,null,null,null,null,null,null,null,125,"No",0,"","65+",0,null,null,null,{"$f":"IF($B244 & $C244=\"\",\"\", IF(ISBLANK(D244),\"BLANK\",\"\"))","v":""},"","","",{"$f":"IF($B244 & $C244=\"\",\"\", IF(ISBLANK(I244),\"BLANK\",\"\"))","v":""},""]
[{"$f":"A244+1","v":226},null,null,null,null,null,null,null,null,null,null,null,null,null,"",{"$error":"#N/A"},{"$error":"#N/A"},null,null,null,null,null,null,null,null,null,null,null,null,null,null,null,null,null,null,null,null,125,"No",0,"","65+",0,null,null,null,{"$f":"IF($B245 & $C245=\"\",\"\", IF(ISBLANK(D245),\"BLANK\",\"\"))","v":""},"","","",{"$f":"IF($B245 & $C245=\"\",\"\", IF(ISBLANK(I245),\"BLANK\",\"\"))","v":""},""]
[227,null,null,null,null,null,null,null,null,null,null,null,null,null,"",{"$error":"#N/A"},{"$error":"#N/A"},null,null,null,null,null,null,null,null,null,null,null,null,null,null,null,null,null,null,null,null,125,"No",0,"","65+",0,null,null,null,{"$f":"IF($B246 & $C246=\"\",\"\", IF(ISBLANK(D246),\"BLANK\",\"\"))","v":""},"","","",{"$f":"IF($B246 & $C246=\"\",\"\", IF(ISBLANK(I246),\"BLANK\",\"\"))","v":""},""]
[228,null,null,null,null,null,null,null,null,null,null,null,null,null,"",{"$error":"#N/A"},{"$error":"#N/A"},null,null,null,null,null,null,null,null,null,null,null,null,null,null,null,null,null,null,null,null,125,"No",0,"","65+",0,null,null,null,{"$f":"IF($B247 & $C247=\"\",\"\", IF(ISBLANK(D247),\"BLANK\",\"\"))","v":""},"","","",{"$f":"IF($B247 & $C247=\"\",\"\", IF(ISBLANK(I247),\"BLANK\",\"\"))","v":""},""]
[229,null,null,null,null,null,null,null,null,null,null,null,null,null,"",{"$error":"#N/A"},{"$error":"#N/A"},null,null,null,null,null,null,null,null,null,null,null,null,null,null,null,null,null,null,null,null,125,"No",0,"","65+",0,null,null,null,{"$f":"IF($B248 & $C248=\"\",\"\", IF(ISBLANK(D248),\"BLANK\",\"\"))","v":""},"","","",{"$f":"IF($B248 & $C248=\"\",\"\", IF(ISBLANK(I248),\"BLANK\",\"\"))","v":""},""]
[230,null,null,null,null,null,null,null,null,null,null,null,null,null,"",{"$error":"#N/A"},{"$error":"#N/A"},null,null,null,null,null,null,null,null,null,null,null,null,null,null,null,null,null,null,null,null,125,"No",0,"","65+",0,null,null,null,{"$f":"IF($B249 & $C249=\"\",\"\", IF(ISBLANK(D249),\"BLANK\",\"\"))","v":""},"","","",{"$f":"IF($B249 & $C249=\"\",\"\", IF(ISBLANK(I249),\"BLANK\",\"\"))","v":""},""]
[231,null,null,null,null,null,null,null,null,null,null,null,null,null,"",{"$error":"#N/A"},{"$error":"#N/A"},null,null,null,null,null,null,null,null,null,null,null,null,null,null,null,null,null,null,null,null,125,"No",0,"","65+",0,null,null,null,{"$f":"IF($B250 & $C250=\"\",\"\", IF(ISBLANK(D250),\"BLANK\",\"\"))","v":""},"","","",{"$f":"IF($B250 & $C250=\"\",\"\", IF(ISBLANK(I250),\"BLANK\",\"\"))","v":""},""]
[232,null,null,null,null,null,null,null,null,null,null,null,null,null,"",{"$error":"#N/A"},{"$error":"#N/A"},null,null,null,null,null,null,null,null,null,null,null,null,null,null,null,null,null,null,null,null,125,"No",0,"","65+",0,null,null,null,{"$f":"IF($B251 & $C251=\"\",\"\", IF(ISBLANK(D251),\"BLANK\",\"\"))","v":""},"","","",{"$f":"IF($B251 & $C251=\"\",\"\", IF(ISBLANK(I251),\"BLANK\",\"\"))","v":""},""]
[233,null,null,null,null,null,null,null,null,null,null,null,null,null,"",{"$error":"#N/A"},{"$error":"#N/A"},null,null,null,null,null,null,null,null,null,null,null,null,null,null,null,null,null,null,null,null,125,"No",0,"","65+",0,null,null,null,{"$f":"IF($B252 & $C252=\"\",\"\", IF(ISBLANK(D252),\"BLANK\",\"\"))","v":""},"","","",{"$f":"IF($B252 & $C252=\"\",\"\", IF(ISBLANK(I252),\"BLANK\",\"\"))","v":""},""]
[234,null,null,null,null,null,null,null,null,null,null,null,null,null,"",{"$error":"#N/A"},{"$error":"#N/A"},null,null,null,null,null,null,null,null,null,null,null,null,null,null,null,null,null,null,null,null,125,"No",0,"","65+",0,null,null,null,{"$f":"IF($B253 & $C253=\"\",\"\", IF(ISBLANK(D253),\"BLANK\",\"\"))","v":""},"","","",{"$f":"IF($B253 & $C253=\"\",\"\", IF(ISBLANK(I253),\"BLANK\",\"\"))","v":""},""]
[235,null,null,null,null,null,null,null,null,null,null,null,null,null,"",{"$error":"#N/A"},{"$error":"#N/A"},null,null,null,null,null,null,null,null,null,null,null,null,null,null,null,null,null,null,null,null,125,"No",0,"","65+",0,null,null,null,{"$f":"IF($B254 & $C254=\"\",\"\", IF(ISBLANK(D254),\"BLANK\",\"\"))","v":""},"","","",{"$f":"IF($B254 & $C254=\"\",\"\", IF(ISBLANK(I254),\"BLANK\",\"\"))","v":""},""]
[236,null,null,null,null,null,null,null,null,null,null,null,null,null,"",{"$error":"#N/A"},{"$error":"#N/A"},null,null,null,null,null,null,null,null,null,null,null,null,null,null,null,null,null,null,null,null,125,"No",0,"","65+",0,null,null,null,{"$f":"IF($B255 & $C255=\"\",\"\", IF(ISBLANK(D255),\"BLANK\",\"\"))","v":""},"","","",{"$f":"IF($B255 & $C255=\"\",\"\", IF(ISBLANK(I255),\"BLANK\",\"\"))","v":""},""]
[237,null,null,null,null,null,null,null,null,null,null,null,null,null,"",{"$error":"#N/A"},{"$error":"#N/A"},null,null,null,null,null,null,null,null,null,null,null,null,null,null,null,null,null,null,null,null,125,"No",0,"","65+",0,null,null,null,{"$f":"IF($B256 & $C256=\"\",\"\", IF(ISBLANK(D256),\"BLANK\",\"\"))","v":""},"","","",{"$f":"IF($B256 & $C256=\"\",\"\", IF(ISBLANK(I256),\"BLANK\",\"\"))","v":""},""]
[238,null,null,null,null,null,null,null,null,null,null,null,null,null,"",{"$error":"#N/A"},{"$error":"#N/A"},null,null,null,null,null,null,null,null,null,null,null,null,null,null,null,null,null,null,null,null,125,"No",0,"","65+",0,null,null,null,{"$f":"IF($B257 & $C257=\"\",\"\", IF(ISBLANK(D257),\"BLANK\",\"\"))","v":""},"","","",{"$f":"IF($B257 & $C257=\"\",\"\", IF(ISBLANK(I257),\"BLANK\",\"\"))","v":""},""]
[239,null,null,null,null,null,null,null,null,null,null,null,null,null,"",{"$error":"#N/A"},{"$error":"#N/A"},null,null,null,null,null,null,null,null,null,null,null,null,null,null,null,null,null,null,null,null,125,"No",0,"","65+",0,null,null,null,{"$f":"IF($B258 & $C258=\"\",\"\", IF(ISBLANK(D258),\"BLANK\",\"\"))","v":""},"","","",{"$f":"IF($B258 & $C258=\"\",\"\", IF(ISBLANK(I258),\"BLANK\",\"\"))","v":""},""]
[240,null,null,null,null,null,null,null,null,null,null,null,null,null,"",{"$error":"#N/A"},{"$error":"#N/A"},null,null,null,null,null,null,null,null,null,null,null,null,null,null,null,null,null,null,null,null,125,"No",0,"","65+",0,null,null,null,{"$f":"IF($B259 & $C259=\"\",\"\", IF(ISBLANK(D259),\"BLANK\",\"\"))","v":""},"","","",{"$f":"IF($B259 & $C259=\"\",\"\", IF(ISBLANK(I259),\"BLANK\",\"\"))","v":""},""]
[241,null,null,null,null,null,null,null,null,null,null,null,null,null,"",{"$error":"#N/A"},{"$error":"#N/A"},null,null,null,null,null,null,null,null,null,null,null,null,null,null,null,null,null,null,null,null,125,"No",0,"","65+",0,null,null,null,{"$f":"IF($B260 & $C260=\"\",\"\", IF(ISBLANK(D260),\"BLANK\",\"\"))","v":""},"","","",{"$f":"IF($B260 & $C260=\"\",\"\", IF(ISBLANK(I260),\"BLANK\",\"\"))","v":""},""]
[242,null,null,null,null,null,null,null,null,null,null,null,null,null,"",{"$error":"#N/A"},{"$error":"#N/A"},null,null,null,null,null,null,null,null,null,null,null,null,null,null,null,null,null,null,null,null,125,"No",0,"","65+",0,null,null,null,{"$f":"IF($B261 & $C261=\"\",\"\", IF(ISBLANK(D261),\"BLANK\",\"\"))","v":""},"","","",{"$f":"IF($B261 & $C261=\"\",\"\", IF(ISBLANK(I261),\"BLANK\",\"\"))","v":""},""]
[243,null,null,null,null,null,null,null,null,null,null,null,null,null,"",{"$error":"#N/A"},{"$error":"#N/A"},null,null,null,null,null,null,null,null,null,null,null,null,null,null,null,null,null,null,null,null,125,"No",0,"","65+",0,null,null,null,{"$f":"IF($B262 & $C262=\"\",\"\", IF(ISBLANK(D262),\"BLANK\",\"\"))","v":""},"","","",{"$f":"IF($B262 & $C262=\"\",\"\", IF(ISBLANK(I262),\"BLANK\",\"\"))","v":""},""]
[244,null,null,null,null,null,null,null,null,null,null,null,null,null,"",{"$error":"#N/A"},{"$error":"#N/A"},null,null,null,null,null,null,null,null,null,null,null,null,null,null,null,null,null,null,null,null,125,"No",0,"","65+",0,null,null,null,{"$f":"IF($B263 & $C263=\"\",\"\", IF(ISBLANK(D263),\"BLANK\",\"\"))","v":""},"","","",{"$f":"IF($B263 & $C263=\"\",\"\", IF(ISBLANK(I263),\"BLANK\",\"\"))","v":""},""]
[245,null,null,null,null,null,null,null,null,null,null,null,null,null,"",{"$error":"#N/A"},{"$error":"#N/A"},null,null,null,null,null,null,null,null,null,null,null,null,null,null,null,null,null,null,null,null,125,"No",0,"","65+",0,null,null,null,{"$f":"IF($B264 & $C264=\"\",\"\", IF(ISBLANK(D264),\"BLANK\",\"\"))","v":""},"","","",{"$f":"IF($B264 & $C264=\"\",\"\", IF(ISBLANK(I264),\"BLANK\",\"\"))","v":""},""]
[246,null,null,null,null,null,null,null,null,null,null,null,null,null,"",{"$error":"#N/A"},{"$error":"#N/A"},null,null,null,null,null,null,null,null,null,null,null,null,null,null,null,null,null,null,null,null,125,"No",0,"","65+",0,null,null,null,{"$f":"IF($B265 & $C265=\"\",\"\", IF(ISBLANK(D265),\"BLANK\",\"\"))","v":""},"","","",{"$f":"IF($B265 & $C265=\"\",\"\", IF(ISBLANK(I265),\"BLANK\",\"\"))","v":""},""]
[247,null,null,null,null,null,null,null,null,null,null,null,null,null,"",{"$error":"#N/A"},{"$error":"#N/A"},null,null,null,null,null,null,null,null,null,null,null,null,null,null,null,null,null,null,null,null,125,"No",0,"","65+",0,null,null,null,{"$f":"IF($B266 & $C266=\"\",\"\", IF(ISBLANK(D266),\"BLANK\",\"\"))","v":""},"","","",{"$f":"IF($B266 & $C266=\"\",\"\", IF(ISBLANK(I266),\"BLANK\",\"\"))","v":""},""]
[248,null,null,null,null,null,null,null,null,null,null,null,null,null,"",{"$error":"#N/A"},{"$error":"#N/A"},null,null,null,null,null,null,null,null,null,null,null,null,null,null,null,null,null,null,null,null,125,"No",0,"","65+",0,null,null,null,{"$f":"IF($B267 & $C267=\"\",\"\", IF(ISBLANK(D267),\"BLANK\",\"\"))","v":""},"","","",{"$f":"IF($B267 & $C267=\"\",\"\", IF(ISBLANK(I267),\"BLANK\",\"\"))","v":""},""]
[249,null,null,null,null,null,null,null,null,null,null,null,null,null,"",{"$error":"#N/A"},{"$error":"#N/A"},null,null,null,null,null,null,null,null,null,null,null,null,null,null,null,null,null,null,null,null,125,"No",0,"","65+",0,null,null,null,{"$f":"IF($B268 & $C268=\"\",\"\", IF(ISBLANK(D268),\"BLANK\",\"\"))","v":""},"","","",{"$f":"IF($B268 & $C268=\"\",\"\", IF(ISBLANK(I268),\"BLANK\",\"\"))","v":""},""]
[250,null,null,null,null,null,null,null,null,null,null,null,null,null,"",{"$error":"#N/A"},{"$error":"#N/A"},null,null,null,null,null,null,null,null,null,null,null,null,null,null,null,null,null,null,null,null,125,"No",0,"","65+",0,null,null,null,{"$f":"IF($B269 & $C269=\"\",\"\", IF(ISBLANK(D269),\"BLANK\",\"\"))","v":""},"","","",{"$f":"IF($B269 & $C269=\"\",\"\", IF(ISBLANK(I269),\"BLANK\",\"\"))","v":""},""]
[251,null,null,null,null,null,null,null,null,null,null,null,null,null,"",{"$error":"#N/A"},{"$error":"#N/A"},null,null,null,null,null,null,null,null,null,null,null,null,null,null,null,null,null,null,null,null,125,"No",0,"","65+",0,null,null,null,{"$f":"IF($B270 & $C270=\"\",\"\", IF(ISBLANK(D270),\"BLANK\",\"\"))","v":""},"","","",{"$f":"IF($B270 & $C270=\"\",\"\", IF(ISBLANK(I270),\"BLANK\",\"\"))","v":""},""]
[252,null,null,null,null,null,null,null,null,null,null,null,null,null,"",{"$error":"#N/A"},{"$error":"#N/A"},null,null,null,null,null,null,null,null,null,null,null,null,null,null,null,null,null,null,null,null,125,"No",0,"","65+",0,null,null,null,{"$f":"IF($B271 & $C271=\"\",\"\", IF(ISBLANK(D271),\"BLANK\",\"\"))","v":""},"","","",{"$f":"IF($B271 & $C271=\"\",\"\", IF(ISBLANK(I271),\"BLANK\",\"\"))","v":""},""]
[253,null,null,null,null,null,null,null,null,null,null,null,null,null,"",{"$error":"#N/A"},{"$error":"#N/A"},null,null,null,null,null,null,null,null,null,null,null,null,null,null,null,null,null,null,null,null,125,"No",0,"","65+",0,null,null,null,{"$f":"IF($B272 & $C272=\"\",\"\", IF(ISBLANK(D272),\"BLANK\",\"\"))","v":""},"","","",{"$f":"IF($B272 & $C272=\"\",\"\", IF(ISBLANK(I272),\"BLANK\",\"\"))","v":""},""]
[254,null,null,null,null,null,null,null,null,null,null,null,null,null,"",{"$error":"#N/A"},{"$error":"#N/A"},null,null,null,null,null,null,null,null,null,null,null,null,null,null,null,null,null,null,null,null,125,"No",0,"","65+",0,null,null,null,{"$f":"IF($B273 & $C273=\"\",\"\", IF(ISBLANK(D273),\"BLANK\",\"\"))","v":""},"","","",{"$f":"IF($B273 & $C273=\"\",\"\", IF(ISBLANK(I273),\"BLANK\",\"\"))","v":""},""]
[255,null,null,null,null,null,null,null,null,null,null,null,null,null,"",{"$error":"#N/A"},{"$error":"#N/A"},null,null,null,null,null,null,null,null,null,null,null,null,null,null,null,null,null,null,null,null,125,"No",0,"","65+",0,null,null,null,{"$f":"IF($B274 & $C274=\"\",\"\", IF(ISBLANK(D274),\"BLANK\",\"\"))","v":""},"","","",{"$f":"IF($B274 & $C274=\"\",\"\", IF(ISBLANK(I274),\"BLANK\",\"\"))","v":""},""]
[256,null,null,null,null,null,null,null,null,null,null,null,null,null,"",{"$error":"#N/A"},{"$error":"#N/A"},null,null,null,null,null,null,null,null,null,null,null,null,null,null,null,null,null,null,null,null,125,"No",0,"","65+",0,null,null,null,{"$f":"IF($B275 & $C275=\"\",\"\", IF(ISBLANK(D275),\"BLANK\",\"\"))","v":""},"","","",{"$f":"IF($B275 & $C275=\"\",\"\", IF(ISBLANK(I275),\"BLANK\",\"\"))","v":""},""]
[257,null,null,null,null,null,null,null,null,null,null,null,null,null,"",{"$error":"#N/A"},{"$error":"#N/A"},null,null,null,null,null,null,null,null,null,null,null,null,null,null,null,null,null,null,null,null,125,"No",0,"","65+",0,null,null,null,{"$f":"IF($B276 & $C276=\"\",\"\", IF(ISBLANK(D276),\"BLANK\",\"\"))","v":""},"","","",{"$f":"IF($B276 & $C276=\"\",\"\", IF(ISBLANK(I276),\"BLANK\",\"\"))","v":""},""]
[258,null,null,null,null,null,null,null,null,null,null,null,null,null,"",{"$error":"#N/A"},{"$error":"#N/A"},null,null,null,null,null,null,null,null,null,null,null,null,null,null,null,null,null,null,null,null,125,"No",0,"","65+",0,null,null,null,{"$f":"IF($B277 & $C277=\"\",\"\", IF(ISBLANK(D277),\"BLANK\",\"\"))","v":""},"","","",{"$f":"IF($B277 & $C277=\"\",\"\", IF(ISBLANK(I277),\"BLANK\",\"\"))","v":""},""]
[259,null,null,null,null,null,null,null,null,null,null,null,null,null,"",{"$error":"#N/A"},{"$error":"#N/A"},null,null,null,null,null,null,null,null,null,null,null,null,null,null,null,null,null,null,null,null,125,"No",0,"","65+",0,null,null,null,{"$f":"IF($B278 & $C278=\"\",\"\", IF(ISBLANK(D278),\"BLANK\",\"\"))","v":""},"","","",{"$f":"IF($B278 & $C278=\"\",\"\", IF(ISBLANK(I278),\"BLANK\",\"\"))","v":""},""]
[260,null,null,null,null,null,null,null,null,null,null,null,null,null,"",{"$error":"#N/A"},{"$error":"#N/A"},null,null,null,null,null,null,null,null,null,null,null,null,null,null,null,null,null,null,null,null,125,"No",0,"","65+",0,null,null,null,{"$f":"IF($B279 & $C279=\"\",\"\", IF(ISBLANK(D279),\"BLANK\",\"\"))","v":""},"","","",{"$f":"IF($B279 & $C279=\"\",\"\", IF(ISBLANK(I279),\"BLANK\",\"\"))","v":""},""]
[261,null,null,null,null,null,null,null,null,null,null,null,null,null,"",{"$error":"#N/A"},{"$error":"#N/A"},null,null,null,null,null,null,null,null,null,null,null,null,null,null,null,null,null,null,null,null,125,"No",0,"","65+",0,null,null,null,{"$f":"IF($B280 & $C280=\"\",\"\", IF(ISBLANK(D280),\"BLANK\",\"\"))","v":""},"","","",{"$f":"IF($B280 & $C280=\"\",\"\", IF(ISBLANK(I280),\"BLANK\",\"\"))","v":""},""]
[262,null,null,null,null,null,null,null,null,null,null,null,null,null,"",{"$error":"#N/A"},{"$error":"#N/A"},null,null,null,null,null,null,null,null,null,null,null,null,null,null,null,null,null,null,null,null,125,"No",0,"","65+",0,null,null,null,{"$f":"IF($B281 & $C281=\"\",\"\", IF(ISBLANK(D281),\"BLANK\",\"\"))","v":""},"","","",{"$f":"IF($B281 & $C281=\"\",\"\", IF(ISBLANK(I281),\"BLANK\",\"\"))","v":""},""]
[263,null,null,null,null,null,null,null,null,null,null,null,null,null,"",{"$error":"#N/A"},{"$error":"#N/A"},null,null,null,null,null,null,null,null,null,null,null,null,null,null,null,null,null,null,null,null,125,"No",0,"","65+",0,null,null,null,{"$f":"IF($B282 & $C282=\"\",\"\", IF(ISBLANK(D282),\"BLANK\",\"\"))","v":""},"","","",{"$f":"IF($B282 & $C282=\"\",\"\", IF(ISBLANK(I282),\"BLANK\",\"\"))","v":""},""]
[264,null,null,null,null,null,null,null,null,null,null,null,null,null,"",{"$error":"#N/A"},{"$error":"#N/A"},null,null,null,null,null,null,null,null,null,null,null,null,null,null,null,null,null,null,null,null,125,"No",0,"","65+",0,null,null,null,{"$f":"IF($B283 & $C283=\"\",\"\", IF(ISBLANK(D283),\"BLANK\",\"\"))","v":""},"","","",{"$f":"IF($B283 & $C283=\"\",\"\", IF(ISBLANK(I283),\"BLANK\",\"\"))","v":""},""]
[265,null,null,null,null,null,null,null,null,null,null,null,null,null,"",{"$error":"#N/A"},{"$error":"#N/A"},null,null,null,null,null,null,null,null,null,null,null,null,null,null,null,null,null,null,null,null,125,"No",0,"","65+",0,null,null,null,{"$f":"IF($B284 & $C284=\"\",\"\", IF(ISBLANK(D284),\"BLANK\",\"\"))","v":""},"","","",{"$f":"IF($B284 & $C284=\"\",\"\", IF(ISBLANK(I284),\"BLANK\",\"\"))","v":""},""]
[266,null,null,null,null,null,null,null,null,null,null,null,null,null,"",{"$error":"#N/A"},{"$error":"#N/A"},null,null,null,null,null,null,null,null,null,null,null,null,null,null,null,null,null,null,null,null,125,"No",0,"","65+",0,null,null,null,{"$f":"IF($B285 & $C285=\"\",\"\", IF(ISBLANK(D285),\"BLANK\",\"\"))","v":""},"","","",{"$f":"IF($B285 & $C285=\"\",\"\", IF(ISBLANK(I285),\"BLANK\",\"\"))","v":""},""]
[267,null,null,null,null,null,null,null,null,null,null,null,null,null,"",{"$error":"#N/A"},{"$error":"#N/A"},null,null,null,null,null,null,null,null,null,null,null,null,null,null,null,null,null,null,null,null,125,"No",0,"","65+",0,null,null,null,{"$f":"IF($B286 & $C286=\"\",\"\", IF(ISBLANK(D286),\"BLANK\",\"\"))","v":""},"","","",{"$f":"IF($B286 & $C286=\"\",\"\", IF(ISBLANK(I286),\"BLANK\",\"\"))","v":""},""]
[268,null,null,null,null,null,null,null,null,null,null,null,null,null,"",{"$error":"#N/A"},{"$error":"#N/A"},null,null,null,null,null,null,null,null,null,null,null,null,null,null,null,null,null,null,null,null,125,"No",0,"","65+",0,null,null,null,{"$f":"IF($B287 & $C287=\"\",\"\", IF(ISBLANK(D287),\"BLANK\",\"\"))","v":""},"","","",{"$f":"IF($B287 & $C287=\"\",\"\", IF(ISBLANK(I287),\"BLANK\",\"\"))","v":""},""]
[269,null,null,null,null,null,null,null,null,null,null,null,null,null,"",{"$error":"#N/A"},{"$error":"#N/A"},null,null,null,null,null,null,null,null,null,null,null,null,null,null,null,null,null,null,null,null,125,"No",0,"","65+",0,null,null,null,{"$f":"IF($B288 & $C288=\"\",\"\", IF(ISBLANK(D288),\"BLANK\",\"\"))","v":""},"","","",{"$f":"IF($B288 & $C288=\"\",\"\", IF(ISBLANK(I288),\"BLANK\",\"\"))","v":""},""]
[270,null,null,null,null,null,null,null,null,null,null,null,null,null,"",{"$error":"#N/A"},{"$error":"#N/A"},null,null,null,null,null,null,null,null,null,null,null,null,null,null,null,null,null,null,null,null,125,"No",0,"","65+",0,null,null,null,{"$f":"IF($B289 & $C289=\"\",\"\", IF(ISBLANK(D289),\"BLANK\",\"\"))","v":""},"","","",{"$f":"IF($B289 & $C289=\"\",\"\", IF(ISBLANK(I289),\"BLANK\",\"\"))","v":""},""]
[271,null,null,null,null,null,null,null,null,null,null,null,null,null,"",{"$error":"#N/A"},{"$error":"#N/A"},null,null,null,null,null,null,null,null,null,null,null,null,null,null,null,null,null,null,null,null,125,"No",0,"","65+",0,null,null,null,{"$f":"IF($B290 & $C290=\"\",\"\", IF(ISBLANK(D290),\"BLANK\",\"\"))","v":""},"","","",{"$f":"IF($B290 & $C290=\"\",\"\", IF(ISBLANK(I290),\"BLANK\",\"\"))","v":""},""]
[272,null,null,null,null,null,null,null,null,null,null,null,null,null,"",{"$error":"#N/A"},{"$error":"#N/A"},null,null,null,null,null,null,null,null,null,null,null,null,null,null,null,null,null,null,null,null,125,"No",0,"","65+",0,null,null,null,{"$f":"IF($B291 & $C291=\"\",\"\", IF(ISBLANK(D291),\"BLANK\",\"\"))","v":""},"","","",{"$f":"IF($B291 & $C291=\"\",\"\", IF(ISBLANK(I291),\"BLANK\",\"\"))","v":""},""]
[273,null,null,null,null,null,null,null,null,null,null,null,null,null,"",{"$error":"#N/A"},{"$error":"#N/A"},null,null,null,null,null,null,null,null,null,null,null,null,null,null,null,null,null,null,null,null,125,"No",0,"","65+",0,null,null,null,{"$f":"IF($B292 & $C292=\"\",\"\", IF(ISBLANK(D292),\"BLANK\",\"\"))","v":""},"","","",{"$f":"IF($B292 & $C292=\"\",\"\", IF(ISBLANK(I292),\"BLANK\",\"\"))","v":""},""]
[274,null,null,null,null,null,null,null,null,null,null,null,null,null,"",{"$error":"#N/A"},{"$error":"#N/A"},null,null,null,null,null,null,null,null,null,null,null,null,null,null,null,null,null,null,null,null,125,"No",0,"","65+",0,null,null,null,{"$f":"IF($B293 & $C293=\"\",\"\", IF(ISBLANK(D293),\"BLANK\",\"\"))","v":""},"","","",{"$f":"IF($B293 & $C293=\"\",\"\", IF(ISBLANK(I293),\"BLANK\",\"\"))","v":""},""]
[275,null,null,null,null,null,null,null,null,null,null,null,null,null,"",{"$error":"#N/A"},{"$error":"#N/A"},null,null,null,null,null,null,null,null,null,null,null,null,null,null,null,null,null,null,null,null,125,"No",0,"","65+",0,null,null,null,{"$f":"IF($B294 & $C294=\"\",\"\", IF(ISBLANK(D294),\"BLANK\",\"\"))","v":""},"","","",{"$f":"IF($B294 & $C294=\"\",\"\", IF(ISBLANK(I294),\"BLANK\",\"\"))","v":""},""]
[276,null,null,null,null,null,null,null,null,null,null,null,null,null,"",{"$error":"#N/A"},{"$error":"#N/A"},null,null,null,null,null,null,null,null,null,null,null,null,null,null,null,null,null,null,null,null,125,"No",0,"","65+",0,null,null,null,{"$f":"IF($B295 & $C295=\"\",\"\", IF(ISBLANK(D295),\"BLANK\",\"\"))","v":""},"","","",{"$f":"IF($B295 & $C295=\"\",\"\", IF(ISBLANK(I295),\"BLANK\",\"\"))","v":""},""]
[277,null,null,null,null,null,null,null,null,null,null,null,null,null,"",{"$error":"#N/A"},{"$error":"#N/A"},null,null,null,null,null,null,null,null,null,null,null,null,null,null,null,null,null,null,null,null,125,"No",0,"","65+",0,null,null,null,{"$f":"IF($B296 & $C296=\"\",\"\", IF(ISBLANK(D296),\"BLANK\",\"\"))","v":""},"","","",{"$f":"IF($B296 & $C296=\"\",\"\", IF(ISBLANK(I296),\"BLANK\",\"\"))","v":""},""]
[278,null,null,null,null,null,null,null,null,null,null,null,null,null,"",{"$error":"#N/A"},{"$error":"#N/A"},null,null,null,null,null,null,null,null,null,null,null,null,null,null,null,null,null,null,null,null,125,"No",0,"","65+",0,null,null,null,{"$f":"IF($B297 & $C297=\"\",\"\", IF(ISBLANK(D297),\"BLANK\",\"\"))","v":""},"","","",{"$f":"IF($B297 & $C297=\"\",\"\", IF(ISBLANK(I297),\"BLANK\",\"\"))","v":""},""]
[279,null,null,null,null,null,null,null,null,null,null,null,null,null,"",{"$error":"#N/A"},{"$error":"#N/A"},null,null,null,null,null,null,null,null,null,null,null,null,null,null,null,null,null,null,null,null,125,"No",0,"","65+",0,null,null,null,{"$f":"IF($B298 & $C298=\"\",\"\", IF(ISBLANK(D298),\"BLANK\",\"\"))","v":""},"","","",{"$f":"IF($B298 & $C298=\"\",\"\", IF(ISBLANK(I298),\"BLANK\",\"\"))","v":""},""]
[280,null,null,null,null,null,null,null,null,null,null,null,null,null,"",{"$error":"#N/A"},{"$error":"#N/A"},null,null,null,null,null,null,null,null,null,null,null,null,null,null,null,null,null,null,null,null,125,"No",0,"","65+",0,null,null,null,{"$f":"IF($B299 & $C299=\"\",\"\", IF(ISBLANK(D299),\"BLANK\",\"\"))","v":""},"","","",{"$f":"IF($B299 & $C299=\"\",\"\", IF(ISBLANK(I299),\"BLANK\",\"\"))","v":""},""]
[281,null,null,null,null,null,null,null,null,null,null,null,null,null,"",{"$error":"#N/A"},{"$error":"#N/A"},null,null,null,null,null,null,null,null,null,null,null,null,null,null,null,null,null,null,null,null,125,"No",0,"","65+",0,null,null,null,{"$f":"IF($B300 & $C300=\"\",\"\", IF(ISBLANK(D300),\"BLANK\",\"\"))","v":""},"","","",{"$f":"IF($B300 & $C300=\"\",\"\", IF(ISBLANK(I300),\"BLANK\",\"\"))","v":""},""]
[282,null,null,null,null,null,null,null,null,null,null,null,null,null,"",{"$error":"#N/A"},{"$error":"#N/A"},null,null,null,null,null,null,null,null,null,null,null,null,null,null,null,null,null,null,null,null,125,"No",0,"","65+",0,null,null,null,{"$f":"IF($B301 & $C301=\"\",\"\", IF(ISBLANK(D301),\"BLANK\",\"\"))","v":""},"","","",{"$f":"IF($B301 & $C301=\"\",\"\", IF(ISBLANK(I301),\"BLANK\",\"\"))","v":""},""]
[283,null,null,null,null,null,null,null,null,null,null,null,null,null,"",{"$error":"#N/A"},{"$error":"#N/A"},null,null,null,null,null,null,null,null,null,null,null,null,null,null,null,null,null,null,null,null,125,"No",0,"","65+",0,null,null,null,{"$f":"IF($B302 & $C302=\"\",\"\", IF(ISBLANK(D302),\"BLANK\",\"\"))","v":""},"","","",{"$f":"IF($B302 & $C302=\"\",\"\", IF(ISBLANK(I302),\"BLANK\",\"\"))","v":""},""]
[284,null,null,null,null,null,null,null,null,null,null,null,null,null,"",{"$error":"#N/A"},{"$error":"#N/A"},null,null,null,null,null,null,null,null,null,null,null,null,null,null,null,null,null,null,null,null,125,"No",0,"","65+",0,null,null,null,{"$f":"IF($B303 & $C303=\"\",\"\", IF(ISBLANK(D303),\"BLANK\",\"\"))","v":""},"","","",{"$f":"IF($B303 & $C303=\"\",\"\", IF(ISBLANK(I303),\"BLANK\",\"\"))","v":""},""]
[285,null,null,null,null,null,null,null,null,null,null,null,null,null,"",{"$error":"#N/A"},{"$error":"#N/A"},null,null,null,null,null,null,null,null,null,null,null,null,null,null,null,null,null,null,null,null,125,"No",0,"","65+",0,null,null,null,{"$f":"IF($B304 & $C304=\"\",\"\", IF(ISBLANK(D304),\"BLANK\",\"\"))","v":""},"","","",{"$f":"IF($B304 & $C304=\"\",\"\", IF(ISBLANK(I304),\"BLANK\",\"\"))","v":""},""]
[286,null,null,null,null,null,null,null,null,null,null,null,null,null,"",{"$error":"#N/A"},{"$error":"#N/A"},null,null,null,null,null,null,null,null,null,null,null,null,null,null,null,null,null,null,null,null,125,"No",0,"","65+",0,null,null,null,{"$f":"IF($B305 & $C305=\"\",\"\", IF(ISBLANK(D305),\"BLANK\",\"\"))","v":""},"","","",{"$f":"IF($B305 & $C305=\"\",\"\", IF(ISBLANK(I305),\"BLANK\",\"\"))","v":""},""]
[287,null,null,null,null,null,null,null,null,null,null,null,null,null,"",{"$error":"#N/A"},{"$error":"#N/A"},null,null,null,null,null,null,null,null,null,null,null,null,null,null,null,null,null,null,null,null,125,"No",0,"","65+",0,null,null,null,{"$f":"IF($B306 & $C306=\"\",\"\", IF(ISBLANK(D306),\"BLANK\",\"\"))","v":""},"","","",{"$f":"IF($B306 & $C306=\"\",\"\", IF(ISBLANK(I306),\"BLANK\",\"\"))","v":""},""]
[288,null,null,null,null,null,null,null,null,null,null,null,null,null,"",{"$error":"#N/A"},{"$error":"#N/A"},null,null,null,null,null,null,null,null,null,null,null,null,null,null,null,null,null,null,null,null,125,"No",0,"","65+",0,null,null,null,{"$f":"IF($B307 & $C307=\"\",\"\", IF(ISBLANK(D307),\"BLANK\",\"\"))","v":""},"","","",{"$f":"IF($B307 & $C307=\"\",\"\", IF(ISBLANK(I307),\"BLANK\",\"\"))","v":""},""]
[289,null,null,null,null,null,null,null,null,null,null,null,null,null,"",{"$error":"#N/A"},{"$error":"#N/A"},null,null,null,null,null,null,null,null,null,null,null,null,null,null,null,null,null,null,null,null,125,"No",0,"","65+",0,null,null,null,{"$f":"IF($B308 & $C308=\"\",\"\", IF(ISBLANK(D308),\"BLANK\",\"\"))","v":""},"","","",{"$f":"IF($B308 & $C308=\"\",\"\", IF(ISBLANK(I308),\"BLANK\",\"\"))","v":""},""]
[290,null,null,null,null,null,null,null,null,null,null,null,null,null,"",{"$error":"#N/A"},{"$error":"#N/A"},null,null,null,null,null,null,null,null,null,null,null,null,null,null,null,null,null,null,null,null,125,"No",0,"","65+",0,null,null,null,{"$f":"IF($B309 & $C309=\"\",\"\", IF(ISBLANK(D309),\"BLANK\",\"\"))","v":""},"","","",{"$f":"IF($B309 & $C309=\"\",\"\", IF(ISBLANK(I309),\"BLANK\",\"\"))","v":""},""]
[291,null,null,null,null,null,null,null,null,null,null,null,null,null,"",{"$error":"#N/A"},{"$error":"#N/A"},null,null,null,null,null,null,null,null,null,null,null,null,null,null,null,null,null,null,null,null,125,"No",0,"","65+",0,null,null,null,{"$f":"IF($B310 & $C310=\"\",\"\", IF(ISBLANK(D310),\"BLANK\",\"\"))","v":""},"","","",{"$f":"IF($B310 & $C310=\"\",\"\", IF(ISBLANK(I310),\"BLANK\",\"\"))","v":""},""]
[292,null,null,null,null,null,null,null,null,null,null,null,null,null,"",{"$error":"#N/A"},{"$error":"#N/A"},null,null,null,null,null,null,null,null,null,null,null,null,null,null,null,null,null,null,null,null,125,"No",0,"","65+",0,null,null,null,{"$f":"IF($B311 & $C311=\"\",\"\", IF(ISBLANK(D311),\"BLANK\",\"\"))","v":""},"","","",{"$f":"IF($B311 & $C311=\"\",\"\", IF(ISBLANK(I311),\"BLANK\",\"\"))","v":""},""]
[293,null,null,null,null,null,null,null,null,null,null,null,null,null,"",{"$error":"#N/A"},{"$error":"#N/A"},null,null,null,null,null,null,null,null,null,null,null,null,null,null,null,null,null,null,null,null,125,"No",0,"","65+",0,null,null,null,{"$f":"IF($B312 & $C312=\"\",\"\", IF(ISBLANK(D312),\"BLANK\",\"\"))","v":""},"","","",{"$f":"IF($B312 & $C312=\"\",\"\", IF(ISBLANK(I312),\"BLANK\",\"\"))","v":""},""]
[294,null,null,null,null,null,null,null,null,null,null,null,null,null,"",{"$error":"#N/A"},{"$error":"#N/A"},null,null,null,null,null,null,null,null,null,null,null,null,null,null,null,null,null,null,null,null,125,"No",0,"","65+",0,null,null,null,{"$f":"IF($B313 & $C313=\"\",\"\", IF(ISBLANK(D313),\"BLANK\",\"\"))","v":""},"","","",{"$f":"IF($B313 & $C313=\"\",\"\", IF(ISBLANK(I313),\"BLANK\",\"\"))","v":""},""]
[295,null,null,null,null,null,null,null,null,null,null,null,null,null,"",{"$error":"#N/A"},{"$error":"#N/A"},null,null,null,null,null,null,null,null,null,null,null,null,null,null,null,null,null,null,null,null,125,"No",0,"","65+",0,null,null,null,{"$f":"IF($B314 & $C314=\"\",\"\", IF(ISBLANK(D314),\"BLANK\",\"\"))","v":""},"","","",{"$f":"IF($B314 & $C314=\"\",\"\", IF(ISBLANK(I314),\"BLANK\",\"\"))","v":""},""]
[296,null,null,null,null,null,null,null,null,null,null,null,null,null,"",{"$error":"#N/A"},{"$error":"#N/A"},null,null,null,null,null,null,null,null,null,null,null,null,null,null,null,null,null,null,null,null,125,"No",0,"","65+",0,null,null,null,{"$f":"IF($B315 & $C315=\"\",\"\", IF(ISBLANK(D315),\"BLANK\",\"\"))","v":""},"","","",{"$f":"IF($B315 & $C315=\"\",\"\", IF(ISBLANK(I315),\"BLANK\",\"\"))","v":""},""]
[297,null,null,null,null,null,null,null,null,null,null,null,null,null,"",{"$error":"#N/A"},{"$error":"#N/A"},null,null,null,null,null,null,null,null,null,null,null,null,null,null,null,null,null,null,null,null,125,"No",0,"","65+",0,null,null,null,{"$f":"IF($B316 & $C316=\"\",\"\", IF(ISBLANK(D316),\"BLANK\",\"\"))","v":""},"","","",{"$f":"IF($B316 & $C316=\"\",\"\", IF(ISBLANK(I316),\"BLANK\",\"\"))","v":""},""]
[298,null,null,null,null,null,null,null,null,null,null,null,null,null,"",{"$error":"#N/A"},{"$error":"#N/A"},null,null,null,null,null,null,null,null,null,null,null,null,null,null,null,null,null,null,null,null,125,"No",0,"","65+",0,null,null,null,{"$f":"IF($B317 & $C317=\"\",\"\", IF(ISBLANK(D317),\"BLANK\",\"\"))","v":""},"","","",{"$f":"IF($B317 & $C317=\"\",\"\", IF(ISBLANK(I317),\"BLANK\",\"\"))","v":""},""]
[299,null,null,null,null,null,null,null,null,null,null,null,null,null,"",{"$error":"#N/A"},{"$error":"#N/A"},null,null,null,null,null,null,null,null,null,null,null,null,null,null,null,null,null,null,null,null,125,"No",0,"","65+",0,null,null,null,{"$f":"IF($B318 & $C318=\"\",\"\", IF(ISBLANK(D318),\"BLANK\",\"\"))","v":""},"","","",{"$f":"IF($B318 & $C318=\"\",\"\", IF(ISBLANK(I318),\"BLANK\",\"\"))","v":""},""]
[300,null,null,null,null,null,null,null,null,null,null,null,null,null,"",{"$error":"#N/A"},{"$error":"#N/A"},null,null,null,null,null,null,null,null,null,null,null,null,null,null,null,null,null,null,null,null,125,"No",0,"","65+",0,null,null,null,{"$f":"IF($B319 & $C319=\"\",\"\", IF(ISBLANK(D319),\"BLANK\",\"\"))","v":""},"","","",{"$f":"IF($B319 & $C319=\"\",\"\", IF(ISBLANK(I319),\"BLANK\",\"\"))","v":""},""]
[301,null,null,null,null,null,null,null,null,null,null,null,null,null,"",{"$error":"#N/A"},{"$error":"#N/A"},null,null,null,null,null,null,null,null,null,null,null,null,null,null,null,null,null,null,null,null,125,"No",0,"","65+",0,null,null,null,{"$f":"IF($B320 & $C320=\"\",\"\", IF(ISBLANK(D320),\"BLANK\",\"\"))","v":""},"","","",{"$f":"IF($B320 & $C320=\"\",\"\", IF(ISBLANK(I320),\"BLANK\",\"\"))","v":""},""]
[302,null,null,null,null,null,null,null,null,null,null,null,null,null,"",{"$error":"#N/A"},{"$error":"#N/A"},null,null,null,null,null,null,null,null,null,null,null,null,null,null,null,null,null,null,null,null,125,"No",0,"","65+",0,null,null,null,{"$f":"IF($B321 & $C321=\"\",\"\", IF(ISBLANK(D321),\"BLANK\",\"\"))","v":""},"","","",{"$f":"IF($B321 & $C321=\"\",\"\", IF(ISBLANK(I321),\"BLANK\",\"\"))","v":""},""]
[303,null,null,null,null,null,null,null,null,null,null,null,null,null,"",{"$error":"#N/A"},{"$error":"#N/A"},null,null,null,null,null,null,null,null,null,null,null,null,null,null,null,null,null,null,null,null,125,"No",0,"","65+",0,null,null,null,{"$f":"IF($B322 & $C322=\"\",\"\", IF(ISBLANK(D322),\"BLANK\",\"\"))","v":""},"","","",{"$f":"IF($B322 & $C322=\"\",\"\", IF(ISBLANK(I322),\"BLANK\",\"\"))","v":""},""]
[304,null,null,null,null,null,null,null,null,null,null,null,null,null,"",{"$error":"#N/A"},{"$error":"#N/A"},null,null,null,null,null,null,null,null,null,null,null,null,null,null,null,null,null,null,null,null,125,"No",0,"","65+",0,null,null,null,{"$f":"IF($B323 & $C323=\"\",\"\", IF(ISBLANK(D323),\"BLANK\",\"\"))","v":""},"","","",{"$f":"IF($B323 & $C323=\"\",\"\", IF(ISBLANK(I323),\"BLANK\",\"\"))","v":""},""]
[305,null,null,null,null,null,null,null,null,null,null,null,null,null,"",{"$error":"#N/A"},{"$error":"#N/A"},null,null,null,null,null,null,null,null,null,null,null,null,null,null,null,null,null,null,null,null,125,"No",0,"","65+",0,null,null,null,{"$f":"IF($B324 & $C324=\"\",\"\", IF(ISBLANK(D324),\"BLANK\",\"\"))","v":""},"","","",{"$f":"IF($B324 & $C324=\"\",\"\", IF(ISBLANK(I324),\"BLANK\",\"\"))","v":""},""]
[306,null,null,null,null,null,null,null,null,null,null,null,null,null,"",{"$error":"#N/A"},{"$error":"#N/A"},null,null,null,null,null,null,null,null,null,null,null,null,null,null,null,null,null,null,null,null,125,"No",0,"","65+",0,null,null,null,{"$f":"IF($B325 & $C325=\"\",\"\", IF(ISBLANK(D325),\"BLANK\",\"\"))","v":""},"","","",{"$f":"IF($B325 & $C325=\"\",\"\", IF(ISBLANK(I325),\"BLANK\",\"\"))","v":""},""]
[307,null,null,null,null,null,null,null,null,null,null,null,null,null,"",{"$error":"#N/A"},{"$error":"#N/A"},null,null,null,null,null,null,null,null,null,null,null,null,null,null,null,null,null,null,null,null,125,"No",0,"","65+",0,null,null,null,{"$f":"IF($B326 & $C326=\"\",\"\", IF(ISBLANK(D326),\"BLANK\",\"\"))","v":""},"","","",{"$f":"IF($B326 & $C326=\"\",\"\", IF(ISBLANK(I326),\"BLANK\",\"\"))","v":""},""]
[308,null,null,null,null,null,null,null,null,null,null,null,null,null,"",{"$error":"#N/A"},{"$error":"#N/A"},null,null,null,null,null,null,null,null,null,null,null,null,null,null,null,null,null,null,null,null,125,"No",0,"","65+",0,null,null,null,{"$f":"IF($B327 & $C327=\"\",\"\", IF(ISBLANK(D327),\"BLANK\",\"\"))","v":""},"","","",{"$f":"IF($B327 & $C327=\"\",\"\", IF(ISBLANK(I327),\"BLANK\",\"\"))","v":""},""]
[309,null,null,null,null,null,null,null,null,null,null,null,null,null,"",{"$error":"#N/A"},{"$error":"#N/A"},null,null,null,null,null,null,null,null,null,null,null,null,null,null,null,null,null,null,null,null,125,"No",0,"","65+",0,null,null,null,{"$f":"IF($B328 & $C328=\"\",\"\", IF(ISBLANK(D328),\"BLANK\",\"\"))","v":""},"","","",{"$f":"IF($B328 & $C328=\"\",\"\", IF(ISBLANK(I328),\"BLANK\",\"\"))","v":""},""]
[310,null,null,null,null,null,null,null,null,null,null,null,null,null,"",{"$error":"#N/A"},{"$error":"#N/A"},null,null,null,null,null,null,null,null,null,null,null,null,null,null,null,null,null,null,null,null,125,"No",0,"","65+",0,null,null,null,{"$f":"IF($B329 & $C329=\"\",\"\", IF(ISBLANK(D329),\"BLANK\",\"\"))","v":""},"","","",{"$f":"IF($B329 & $C329=\"\",\"\", IF(ISBLANK(I329),\"BLANK\",\"\"))","v":""},""]
[311,null,null,null,null,null,null,null,null,null,null,null,null,null,"",{"$error":"#N/A"},{"$error":"#N/A"},null,null,null,null,null,null,null,null,null,null,null,null,null,null,null,null,null,null,null,null,125,"No",0,"","65+",0,null,null,null,{"$f":"IF($B330 & $C330=\"\",\"\", IF(ISBLANK(D330),\"BLANK\",\"\"))","v":""},"","","",{"$f":"IF($B330 & $C330=\"\",\"\", IF(ISBLANK(I330),\"BLANK\",\"\"))","v":""},""]
[312,null,null,null,null,null,null,null,null,null,null,null,null,null,"",{"$error":"#N/A"},{"$error":"#N/A"},null,null,null,null,null,null,null,null,null,null,null,null,null,null,null,null,null,null,null,null,125,"No",0,"","65+",0,null,null,null,{"$f":"IF($B331 & $C331=\"\",\"\", IF(ISBLANK(D331),\"BLANK\",\"\"))","v":""},"","","",{"$f":"IF($B331 & $C331=\"\",\"\", IF(ISBLANK(I331),\"BLANK\",\"\"))","v":""},""]
[313,null,null,null,null,null,null,null,null,null,null,null,null,null,"",{"$error":"#N/A"},{"$error":"#N/A"},null,null,null,null,null,null,null,null,null,null,null,null,null,null,null,null,null,null,null,null,125,"No",0,"","65+",0,null,null,null,{"$f":"IF($B332 & $C332=\"\",\"\", IF(ISBLANK(D332),\"BLANK\",\"\"))","v":""},"","","",{"$f":"IF($B332 & $C332=\"\",\"\", IF(ISBLANK(I332),\"BLANK\",\"\"))","v":""},""]
[314,null,null,null,null,null,null,null,null,null,null,null,null,null,"",{"$error":"#N/A"},{"$error":"#N/A"},null,null,null,null,null,null,null,null,null,null,null,null,null,null,null,null,null,null,null,null,125,"No",0,"","65+",0,null,null,null,{"$f":"IF($B333 & $C333=\"\",\"\", IF(ISBLANK(D333),\"BLANK\",\"\"))","v":""},"","","",{"$f":"IF($B333 & $C333=\"\",\"\", IF(ISBLANK(I333),\"BLANK\",\"\"))","v":""},""]
[315,null,null,null,null,null,null,null,null,null,null,null,null,null,"",{"$error":"#N/A"},{"$error":"#N/A"},null,null,null,null,null,null,null,null,null,null,null,null,null,null,null,null,null,null,null,null,125,"No",0,"","65+",0,null,null,null,{"$f":"IF($B334 & $C334=\"\",\"\", IF(ISBLANK(D334),\"BLANK\",\"\"))","v":""},"","","",{"$f":"IF($B334 & $C334=\"\",\"\", IF(ISBLANK(I334),\"BLANK\",\"\"))","v":""},""]
[316,null,null,null,null,null,null,null,null,null,null,null,null,null,"",{"$error":"#N/A"},{"$error":"#N/A"},null,null,null,null,null,null,null,null,null,null,null,null,null,null,null,null,null,null,null,null,125,"No",0,"","65+",0,null,null,null,{"$f":"IF($B335 & $C335=\"\",\"\", IF(ISBLANK(D335),\"BLANK\",\"\"))","v":""},"","","",{"$f":"IF($B335 & $C335=\"\",\"\", IF(ISBLANK(I335),\"BLANK\",\"\"))","v":""},""]
[317,null,null,null,null,null,null,null,null,null,null,null,null,null,"",{"$error":"#N/A"},{"$error":"#N/A"},null,null,null,null,null,null,null,null,null,null,null,null,null,null,null,null,null,null,null,null,125,"No",0,"","65+",0,null,null,null,{"$f":"IF($B336 & $C336=\"\",\"\", IF(ISBLANK(D336),\"BLANK\",\"\"))","v":""},"","","",{"$f":"IF($B336 & $C336=\"\",\"\", IF(ISBLANK(I336),\"BLANK\",\"\"))","v":""},""]
[318,null,null,null,null,null,null,null,null,null,null,null,null,null,"",{"$error":"#N/A"},{"$error":"#N/A"},null,null,null,null,null,null,null,null,null,null,null,null,null,null,null,null,null,null,null,null,125,"No",0,"","65+",0,null,null,null,{"$f":"IF($B337 & $C337=\"\",\"\", IF(ISBLANK(D337),\"BLANK\",\"\"))","v":""},"","","",{"$f":"IF($B337 & $C337=\"\",\"\", IF(ISBLANK(I337),\"BLANK\",\"\"))","v":""},""]
[319,null,null,null,null,null,null,null,null,null,null,null,null,null,"",{"$error":"#N/A"},{"$error":"#N/A"},null,null,null,null,null,null,null,null,null,null,null,null,null,null,null,null,null,null,null,null,125,"No",0,"","65+",0,null,null,null,{"$f":"IF($B338 & $C338=\"\",\"\", IF(ISBLANK(D338),\"BLANK\",\"\"))","v":""},"","","",{"$f":"IF($B338 & $C338=\"\",\"\", IF(ISBLANK(I338),\"BLANK\",\"\"))","v":""},""]
[320,null,null,null,null,null,null,null,null,null,null,null,null,null,"",{"$error":"#N/A"},{"$error":"#N/A"},null,null,null,null,null,null,null,null,null,null,null,null,null,null,null,null,null,null,null,null,125,"No",0,"","65+",0,null,null,null,{"$f":"IF($B339 & $C339=\"\",\"\", IF(ISBLANK(D339),\"BLANK\",\"\"))","v":""},"","","",{"$f":"IF($B339 & $C339=\"\",\"\", IF(ISBLANK(I339),\"BLANK\",\"\"))","v":""},""]
[321,null,null,null,null,null,null,null,null,null,null,null,null,null,"",{"$error":"#N/A"},{"$error":"#N/A"},null,null,null,null,null,null,null,null,null,null,null,null,null,null,null,null,null,null,null,null,125,"No",0,"","65+",0,null,null,null,{"$f":"IF($B340 & $C340=\"\",\"\", IF(ISBLANK(D340),\"BLANK\",\"\"))","v":""},"","","",{"$f":"IF($B340 & $C340=\"\",\"\", IF(ISBLANK(I340),\"BLANK\",\"\"))","v":""},""]
[322,null,null,null,null,null,null,null,null,null,null,null,null,null,"",{"$error":"#N/A"},{"$error":"#N/A"},null,null,null,null,null,null,null,null,null,null,null,null,null,null,null,null,null,null,null,null,125,"No",0,"","65+",0,null,null,null,{"$f":"IF($B341 & $C341=\"\",\"\", IF(ISBLANK(D341),\"BLANK\",\"\"))","v":""},"","","",{"$f":"IF($B341 & $C341=\"\",\"\", IF(ISBLANK(I341),\"BLANK\",\"\"))","v":""},""]
[323,null,null,null,null,null,null,null,null,null,null,null,null,null,"",{"$error":"#N/A"},{"$error":"#N/A"},null,null,null,null,null,null,null,null,null,null,null,null,null,null,null,null,null,null,null,null,125,"No",0,"","65+",0,null,null,null,{"$f":"IF($B342 & $C342=\"\",\"\", IF(ISBLANK(D342),\"BLANK\",\"\"))","v":""},"","","",{"$f":"IF($B342 & $C342=\"\",\"\", IF(ISBLANK(I342),\"BLANK\",\"\"))","v":""},""]
[324,null,null,null,null,null,null,null,null,null,null,null,null,null,"",{"$error":"#N/A"},{"$error":"#N/A"},null,null,null,null,null,null,null,null,null,null,null,null,null,null,null,null,null,null,null,null,125,"No",0,"","65+",0,null,null,null,{"$f":"IF($B343 & $C343=\"\",\"\", IF(ISBLANK(D343),\"BLANK\",\"\"))","v":""},"","","",{"$f":"IF($B343 & $C343=\"\",\"\", IF(ISBLANK(I343),\"BLANK\",\"\"))","v":""},""]
[325,null,null,null,null,null,null,null,null,null,null,null,null,null,"",{"$error":"#N/A"},{"$error":"#N/A"},null,null,null,null,null,null,null,null,null,null,null,null,null,null,null,null,null,null,null,null,125,"No",0,"","65+",0,null,null,null,{"$f":"IF($B344 & $C344=\"\",\"\", IF(ISBLANK(D344),\"BLANK\",\"\"))","v":""},"","","",{"$f":"IF($B344 & $C344=\"\",\"\", IF(ISBLANK(I344),\"BLANK\",\"\"))","v":""},""]
[326,null,null,null,null,null,null,null,null,null,null,null,null,null,"",{"$error":"#N/A"},{"$error":"#N/A"},null,null,null,null,null,null,null,null,null,null,null,null,null,null,null,null,null,null,null,null,125,"No",0,"","65+",0,null,null,null,{"$f":"IF($B345 & $C345=\"\",\"\", IF(ISBLANK(D345),\"BLANK\",\"\"))","v":""},"","","",{"$f":"IF($B345 & $C345=\"\",\"\", IF(ISBLANK(I345),\"BLANK\",\"\"))","v":""},""]
[327,null,null,null,null,null,null,null,null,null,null,null,null,null,"",{"$error":"#N/A"},{"$error":"#N/A"},null,null,null,null,null,null,null,null,null,null,null,null,null,null,null,null,null,null,null,null,125,"No",0,"","65+",0,null,null,null,{"$f":"IF($B346 & $C346=\"\",\"\", IF(ISBLANK(D346),\"BLANK\",\"\"))","v":""},"","","",{"$f":"IF($B346 & $C346=\"\",\"\", IF(ISBLANK(I346),\"BLANK\",\"\"))","v":""},""]
[328,null,null,null,null,null,null,null,null,null,null,null,null,null,"",{"$error":"#N/A"},{"$error":"#N/A"},null,null,null,null,null,null,null,null,null,null,null,null,null,null,null,null,null,null,null,null,125,"No",0,"","65+",0,null,null,null,{"$f":"IF($B347 & $C347=\"\",\"\", IF(ISBLANK(D347),\"BLANK\",\"\"))","v":""},"","","",{"$f":"IF($B347 & $C347=\"\",\"\", IF(ISBLANK(I347),\"BLANK\",\"\"))","v":""},""]
[329,null,null,null,null,null,null,null,null,null,null,null,null,null,"",{"$error":"#N/A"},{"$error":"#N/A"},null,null,null,null,null,null,null,null,null,null,null,null,null,null,null,null,null,null,null,null,125,"No",0,"","65+",0,null,null,null,{"$f":"IF($B348 & $C348=\"\",\"\", IF(ISBLANK(D348),\"BLANK\",\"\"))","v":""},"","","",{"$f":"IF($B348 & $C348=\"\",\"\", IF(ISBLANK(I348),\"BLANK\",\"\"))","v":""},""]
[330,null,null,null,null,null,null,null,null,null,null,null,null,null,"",{"$error":"#N/A"},{"$error":"#N/A"},null,null,null,null,null,null,null,null,null,null,null,null,null,null,null,null,null,null,null,null,125,"No",0,"","65+",0,null,null,null,{"$f":"IF($B349 & $C349=\"\",\"\", IF(ISBLANK(D349),\"BLANK\",\"\"))","v":""},"","","",{"$f":"IF($B349 & $C349=\"\",\"\", IF(ISBLANK(I349),\"BLANK\",\"\"))","v":""},""]
[331,null,null,null,null,null,null,null,null,null,null,null,null,null,"",{"$error":"#N/A"},{"$error":"#N/A"},null,null,null,null,null,null,null,null,null,null,null,null,null,null,null,null,null,null,null,null,125,"No",0,"","65+",0,null,null,null,{"$f":"IF($B350 & $C350=\"\",\"\", IF(ISBLANK(D350),\"BLANK\",\"\"))","v":""},"","","",{"$f":"IF($B350 & $C350=\"\",\"\", IF(ISBLANK(I350),\"BLANK\",\"\"))","v":""},""]
[332,null,null,null,null,null,null,null,null,null,null,null,null,null,"",{"$error":"#N/A"},{"$error":"#N/A"},null,null,null,null,null,null,null,null,null,null,null,null,null,null,null,null,null,null,null,null,125,"No",0,"","65+",0,null,null,null,{"$f":"IF($B351 & $C351=\"\",\"\", IF(ISBLANK(D351),\"BLANK\",\"\"))","v":""},"","","",{"$f":"IF($B351 & $C351=\"\",\"\", IF(ISBLANK(I351),\"BLANK\",\"\"))","v":""},""]
[333,null,null,null,null,null,null,null,null,null,null,null,null,null,"",{"$error":"#N/A"},{"$error":"#N/A"},null,null,null,null,null,null,null,null,null,null,null,null,null,null,null,null,null,null,null,null,125,"No",0,"","65+",0,null,null,null,{"$f":"IF($B352 & $C352=\"\",\"\", IF(ISBLANK(D352),\"BLANK\",\"\"))","v":""},"","","",{"$f":"IF($B352 & $C352=\"\",\"\", IF(ISBLANK(I352),\"BLANK\",\"\"))","v":""},""]
[334,null,null,null,null,null,null,null,null,null,null,null,null,null,"",{"$error":"#N/A"},{"$error":"#N/A"},null,null,null,null,null,null,null,null,null,null,null,null,null,null,null,null,null,null,null,null,125,"No",0,"","65+",0,null,null,null,{"$f":"IF($B353 & $C353=\"\",\"\", IF(ISBLANK(D353),\"BLANK\",\"\"))","v":""},"","","",{"$f":"IF($B353 & $C353=\"\",\"\", IF(ISBLANK(I353),\"BLANK\",\"\"))","v":""},""]
[335,null,null,null,null,null,null,null,null,null,null,null,null,null,"",{"$error":"#N/A"},{"$error":"#N/A"},null,null,null,null,null,null,null,null,null,null,null,null,null,null,null,null,null,null,null,null,125,"No",0,"","65+",0,null,null,null,{"$f":"IF($B354 & $C354=\"\",\"\", IF(ISBLANK(D354),\"BLANK\",\"\"))","v":""},"","","",{"$f":"IF($B354 & $C354=\"\",\"\", IF(ISBLANK(I354),\"BLANK\",\"\"))","v":""},""]
[336,null,null,null,null,null,null,null,null,null,null,null,null,null,"",{"$error":"#N/A"},{"$error":"#N/A"},null,null,null,null,null,null,null,null,null,null,null,null,null,null,null,null,null,null,null,null,125,"No",0,"","65+",0,null,null,null,{"$f":"IF($B355 & $C355=\"\",\"\", IF(ISBLANK(D355),\"BLANK\",\"\"))","v":""},"","","",{"$f":"IF($B355 & $C355=\"\",\"\", IF(ISBLANK(I355),\"BLANK\",\"\"))","v":""},""]
[337,null,null,null,null,null,null,null,null,null,null,null,null,null,"",{"$error":"#N/A"},{"$error":"#N/A"},null,null,null,null,null,null,null,null,null,null,null,null,null,null,null,null,null,null,null,null,125,"No",0,"","65+",0,null,null,null,{"$f":"IF($B356 & $C356=\"\",\"\", IF(ISBLANK(D356),\"BLANK\",\"\"))","v":""},"","","",{"$f":"IF($B356 & $C356=\"\",\"\", IF(ISBLANK(I356),\"BLANK\",\"\"))","v":""},""]
[338,null,null,null,null,null,null,null,null,null,null,null,null,null,"",{"$error":"#N/A"},{"$error":"#N/A"},null,null,null,null,null,null,null,null,null,null,null,null,null,null,null,null,null,null,null,null,125,"No",0,"","65+",0,null,null,null,{"$f":"IF($B357 & $C357=\"\",\"\", IF(ISBLANK(D357),\"BLANK\",\"\"))","v":""},"","","",{"$f":"IF($B357 & $C357=\"\",\"\", IF(ISBLANK(I357),\"BLANK\",\"\"))","v":""},""]
[339,null,null,null,null,null,null,null,null,null,null,null,null,null,"",{"$error":"#N/A"},{"$error":"#N/A"},null,null,null,null,null,null,null,null,null,null,null,null,null,null,null,null,null,null,null,null,125,"No",0,"","65+",0,null,null,null,{"$f":"IF($B358 & $C358=\"\",\"\", IF(ISBLANK(D358),\"BLANK\",\"\"))","v":""},"","","",{"$f":"IF($B358 & $C358=\"\",\"\", IF(ISBLANK(I358),\"BLANK\",\"\"))","v":""},""]
[340,null,null,null,null,null,null,null,null,null,null,null,null,null,"",{"$error":"#N/A"},{"$error":"#N/A"},null,null,null,null,null,null,null,null,null,null,null,null,null,null,null,null,null,null,null,null,125,"No",0,"","65+",0,null,null,null,{"$f":"IF($B359 & $C359=\"\",\"\", IF(ISBLANK(D359),\"BLANK\",\"\"))","v":""},"","","",{"$f":"IF($B359 & $C359=\"\",\"\", IF(ISBLANK(I359),\"BLANK\",\"\"))","v":""},""]
[341,null,null,null,null,null,null,null,null,null,null,null,null,null,"",{"$error":"#N/A"},{"$error":"#N/A"},null,null,null,null,null,null,null,null,null,null,null,null,null,null,null,null,null,null,null,null,125,"No",0,"","65+",0,null,null,null,{"$f":"IF($B360 & $C360=\"\",\"\", IF(ISBLANK(D360),\"BLANK\",\"\"))","v":""},"","","",{"$f":"IF($B360 & $C360=\"\",\"\", IF(ISBLANK(I360),\"BLANK\",\"\"))","v":""},""]
[342,null,null,null,null,null,null,null,null,null,null,null,null,null,"",{"$error":"#N/A"},{"$error":"#N/A"},null,null,null,null,null,null,null,null,null,null,null,null,null,null,null,null,null,null,null,null,125,"No",0,"","65+",0,null,null,null,{"$f":"IF($B361 & $C361=\"\",\"\", IF(ISBLANK(D361),\"BLANK\",\"\"))","v":""},"","","",{"$f":"IF($B361 & $C361=\"\",\"\", IF(ISBLANK(I361),\"BLANK\",\"\"))","v":""},""]
[343,null,null,null,null,null,null,null,null,null,null,null,null,null,"",{"$error":"#N/A"},{"$error":"#N/A"},null,null,null,null,null,null,null,null,null,null,null,null,null,null,null,null,null,null,null,null,125,"No",0,"","65+",0,null,null,null,{"$f":"IF($B362 & $C362=\"\",\"\", IF(ISBLANK(D362),\"BLANK\",\"\"))","v":""},"","","",{"$f":"IF($B362 & $C362=\"\",\"\", IF(ISBLANK(I362),\"BLANK\",\"\"))","v":""},""]
[344,null,null,null,null,null,null,null,null,null,null,null,null,null,"",{"$error":"#N/A"},{"$error":"#N/A"},null,null,null,null,null,null,null,null,null,null,null,null,null,null,null,null,null,null,null,null,125,"No",0,"","65+",0,null,null,null,{"$f":"IF($B363 & $C363=\"\",\"\", IF(ISBLANK(D363),\"BLANK\",\"\"))","v":""},"","","",{"$f":"IF($B363 & $C363=\"\",\"\", IF(ISBLANK(I363),\"BLANK\",\"\"))","v":""},""]
[345,null,null,null,null,null,null,null,null,null,null,null,null,null,"",{"$error":"#N/A"},{"$error":"#N/A"},null,null,null,null,null,null,null,null,null,null,null,null,null,null,null,null,null,null,null,null,125,"No",0,"","65+",0,null,null,null,{"$f":"IF($B364 & $C364=\"\",\"\", IF(ISBLANK(D364),\"BLANK\",\"\"))","v":""},"","","",{"$f":"IF($B364 & $C364=\"\",\"\", IF(ISBLANK(I364),\"BLANK\",\"\"))","v":""},""]
[346,null,null,null,null,null,null,null,null,null,null,null,null,null,"",{"$error":"#N/A"},{"$error":"#N/A"},null,null,null,null,null,null,null,null,null,null,null,null,null,null,null,null,null,null,null,null,125,"No",0,"","65+",0,null,null,null,{"$f":"IF($B365 & $C365=\"\",\"\", IF(ISBLANK(D365),\"BLANK\",\"\"))","v":""},"","","",{"$f":"IF($B365 & $C365=\"\",\"\", IF(ISBLANK(I365),\"BLANK\",\"\"))","v":""},""]
[347,null,null,null,null,null,null,null,null,null,null,null,null,null,"",{"$error":"#N/A"},{"$error":"#N/A"},null,null,null,null,null,null,null,null,null,null,null,null,null,null,null,null,null,null,null,null,125,"No",0,"","65+",0,null,null,null,{"$f":"IF($B366 & $C366=\"\",\"\", IF(ISBLANK(D366),\"BLANK\",\"\"))","v":""},"","","",{"$f":"IF($B366 & $C366=\"\",\"\", IF(ISBLANK(I366),\"BLANK\",\"\"))","v":""},""]
[348,null,null,null,null,null,null,null,null,null,null,null,null,null,"",{"$error":"#N/A"},{"$error":"#N/A"},null,null,null,null,null,null,null,null,null,null,null,null,null,null,null,null,null,null,null,null,125,"No",0,"","65+",0,null,null,null,{"$f":"IF($B367 & $C367=\"\",\"\", IF(ISBLANK(D367),\"BLANK\",\"\"))","v":""},"","","",{"$f":"IF($B367 & $C367=\"\",\"\", IF(ISBLANK(I367),\"BLANK\",\"\"))","v":""},""]
[349,null,null,null,null,null,null,null,null,null,null,null,null,null,"",{"$error":"#N/A"},{"$error":"#N/A"},null,null,null,null,null,null,null,null,null,null,null,null,null,null,null,null,null,null,null,null,125,"No",0,"","65+",0,null,null,null,{"$f":"IF($B368 & $C368=\"\",\"\", IF(ISBLANK(D368),\"BLANK\",\"\"))","v":""},"","","",{"$f":"IF($B368 & $C368=\"\",\"\", IF(ISBLANK(I368),\"BLANK\",\"\"))","v":""},""]
[350,null,null,null,null,null,null,null,null,null,null,null,null,null,"",{"$error":"#N/A"},{"$error":"#N/A"},null,null,null,null,null,null,null,null,null,null,null,null,null,null,null,null,null,null,null,null,125,"No",0,"","65+",0,null,null,null,{"$f":"IF($B369 & $C369=\"\",\"\", IF(ISBLANK(D369),\"BLANK\",\"\"))","v":""},"","","",{"$f":"IF($B369 & $C369=\"\",\"\", IF(ISBLANK(I369),\"BLANK\",\"\"))","v":""},""]
[351,null,null,null,null,null,null,null,null,null,null,null,null,null,"",{"$error":"#N/A"},{"$error":"#N/A"},null,null,null,null,null,null,null,null,null,null,null,null,null,null,null,null,null,null,null,null,125,"No",0,"","65+",0,null,null,null,{"$f":"IF($B370 & $C370=\"\",\"\", IF(ISBLANK(D370),\"BLANK\",\"\"))","v":""},"","","",{"$f":"IF($B370 & $C370=\"\",\"\", IF(ISBLANK(I370),\"BLANK\",\"\"))","v":""},""]
[352,null,null,null,null,null,null,null,null,null,null,null,null,null,"",{"$error":"#N/A"},{"$error":"#N/A"},null,null,null,null,null,null,null,null,null,null,null,null,null,null,null,null,null,null,null,null,125,"No",0,"","65+",0,null,null,null,{"$f":"IF($B371 & $C371=\"\",\"\", IF(ISBLANK(D371),\"BLANK\",\"\"))","v":""},"","","",{"$f":"IF($B371 & $C371=\"\",\"\", IF(ISBLANK(I371),\"BLANK\",\"\"))","v":""},""]
[353,null,null,null,null,null,null,null,null,null,null,null,null,null,"",{"$error":"#N/A"},{"$error":"#N/A"},null,null,null,null,null,null,null,null,null,null,null,null,null,null,null,null,null,null,null,null,125,"No",0,"","65+",0,null,null,null,{"$f":"IF($B372 & $C372=\"\",\"\", IF(ISBLANK(D372),\"BLANK\",\"\"))","v":""},"","","",{"$f":"IF($B372 & $C372=\"\",\"\", IF(ISBLANK(I372),\"BLANK\",\"\"))","v":""},""]
[354,null,null,null,null,null,null,null,null,null,null,null,null,null,"",{"$error":"#N/A"},{"$error":"#N/A"},null,null,null,null,null,null,null,null,null,null,null,null,null,null,null,null,null,null,null,null,125,"No",0,"","65+",0,null,null,null,{"$f":"IF($B373 & $C373=\"\",\"\", IF(ISBLANK(D373),\"BLANK\",\"\"))","v":""},"","","",{"$f":"IF($B373 & $C373=\"\",\"\", IF(ISBLANK(I373),\"BLANK\",\"\"))","v":""},""]
[355,null,null,null,null,null,null,null,null,null,null,null,null,null,"",{"$error":"#N/A"},{"$error":"#N/A"},null,null,null,null,null,null,null,null,null,null,null,null,null,null,null,null,null,null,null,null,125,"No",0,"","65+",0,null,null,null,{"$f":"IF($B374 & $C374=\"\",\"\", IF(ISBLANK(D374),\"BLANK\",\"\"))","v":""},"","","",{"$f":"IF($B374 & $C374=\"\",\"\", IF(ISBLANK(I374),\"BLANK\",\"\"))","v":""},""]
[356,null,null,null,null,null,null,null,null,null,null,null,null,null,"",{"$error":"#N/A"},{"$error":"#N/A"},null,null,null,null,null,null,null,null,null,null,null,null,null,null,null,null,null,null,null,null,125,"No",0,"","65+",0,null,null,null,{"$f":"IF($B375 & $C375=\"\",\"\", IF(ISBLANK(D375),\"BLANK\",\"\"))","v":""},"","","",{"$f":"IF($B375 & $C375=\"\",\"\", IF(ISBLANK(I375),\"BLANK\",\"\"))","v":""},""]
[357,null,null,null,null,null,null,null,null,null,null,null,null,null,"",{"$error":"#N/A"},{"$error":"#N/A"},null,null,null,null,null,null,null,null,null,null,null,null,null,null,null,null,null,null,null,null,125,"No",0,"","65+",0,null,null,null,{"$f":"IF($B376 & $C376=\"\",\"\", IF(ISBLANK(D376),\"BLANK\",\"\"))","v":""},"","","",{"$f":"IF($B376 & $C376=\"\",\"\", IF(ISBLANK(I376),\"BLANK\",\"\"))","v":""},""]
[358,null,null,null,null,null,null,null,null,null,null,null,null,null,"",{"$error":"#N/A"},{"$error":"#N/A"},null,null,null,null,null,null,null,null,null,null,null,null,null,null,null,null,null,null,null,null,125,"No",0,"","65+",0,null,null,null,{"$f":"IF($B377 & $C377=\"\",\"\", IF(ISBLANK(D377),\"BLANK\",\"\"))","v":""},"","","",{"$f":"IF($B377 & $C377=\"\",\"\", IF(ISBLANK(I377),\"BLANK\",\"\"))","v":""},""]
[359,null,null,null,null,null,null,null,null,null,null,null,null,null,"",{"$error":"#N/A"},{"$error":"#N/A"},null,null,null,null,null,null,null,null,null,null,null,null,null,null,null,null,null,null,null,null,125,"No",0,"","65+",0,null,null,null,{"$f":"IF($B378 & $C378=\"\",\"\", IF(ISBLANK(D378),\"BLANK\",\"\"))","v":""},"","","",{"$f":"IF($B378 & $C378=\"\",\"\", IF(ISBLANK(I378),\"BLANK\",\"\"))","v":""},""]
[360,null,null,null,null,null,null,null,null,null,null,null,null,null,"",{"$error":"#N/A"},{"$error":"#N/A"},null,null,null,null,null,null,null,null,null,null,null,null,null,null,null,null,null,null,null,null,125,"No",0,"","65+",0,null,null,null,{"$f":"IF($B379 & $C379=\"\",\"\", IF(ISBLANK(D379),\"BLANK\",\"\"))","v":""},"","","",{"$f":"IF($B379 & $C379=\"\",\"\", IF(ISBLANK(I379),\"BLANK\",\"\"))","v":""},""]
[361,null,null,null,null,null,null,null,null,null,null,null,null,null,"",{"$error":"#N/A"},{"$error":"#N/A"},null,null,null,null,null,null,null,null,null,null,null,null,null,null,null,null,null,null,null,null,125,"No",0,"","65+",0,null,null,null,{"$f":"IF($B380 & $C380=\"\",\"\", IF(ISBLANK(D380),\"BLANK\",\"\"))","v":""},"","","",{"$f":"IF($B380 & $C380=\"\",\"\", IF(ISBLANK(I380),\"BLANK\",\"\"))","v":""},""]
[362,null,null,null,null,null,null,null,null,null,null,null,null,null,"",{"$error":"#N/A"},{"$error":"#N/A"},null,null,null,null,null,null,null,null,null,null,null,null,null,null,null,null,null,null,null,null,125,"No",0,"","65+",0,null,null,null,{"$f":"IF($B381 & $C381=\"\",\"\", IF(ISBLANK(D381),\"BLANK\",\"\"))","v":""},"","","",{"$f":"IF($B381 & $C381=\"\",\"\", IF(ISBLANK(I381),\"BLANK\",\"\"))","v":""},""]
[363,null,null,null,null,null,null,null,null,null,null,null,null,null,"",{"$error":"#N/A"},{"$error":"#N/A"},null,null,null,null,null,null,null,null,null,null,null,null,null,null,null,null,null,null,null,null,125,"No",0,"","65+",0,null,null,null,{"$f":"IF($B382 & $C382=\"\",\"\", IF(ISBLANK(D382),\"BLANK\",\"\"))","v":""},"","","",{"$f":"IF($B382 & $C382=\"\",\"\", IF(ISBLANK(I382),\"BLANK\",\"\"))","v":""},""]
[364,null,null,null,null,null,null,null,null,null,null,null,null,null,"",{"$error":"#N/A"},{"$error":"#N/A"},null,null,null,null,null,null,null,null,null,null,null,null,null,null,null,null,null,null,null,null,125,"No",0,"","65+",0,null,null,null,{"$f":"IF($B383 & $C383=\"\",\"\", IF(ISBLANK(D383),\"BLANK\",\"\"))","v":""},"","","",{"$f":"IF($B383 & $C383=\"\",\"\", IF(ISBLANK(I383),\"BLANK\",\"\"))","v":""},""]
[365,null,null,null,null,null,null,null,null,null,null,null,null,null,"",{"$error":"#N/A"},{"$error":"#N/A"},null,null,null,null,null,null,null,null,null,null,null,null,null,null,null,null,null,null,null,null,125,"No",0,"","65+",0,null,null,null,{"$f":"IF($B384 & $C384=\"\",\"\", IF(ISBLANK(D384),\"BLANK\",\"\"))","v":""},"","","",{"$f":"IF($B384 & $C384=\"\",\"\", IF(ISBLANK(I384),\"BLANK\",\"\"))","v":""},""]
[366,null,null,null,null,null,null,null,null,null,null,null,null,null,"",{"$error":"#N/A"},{"$error":"#N/A"},null,null,null,null,null,null,null,null,null,null,null,null,null,null,null,null,null,null,null,null,125,"No",0,"","65+",0,null,null,null,{"$f":"IF($B385 & $C385=\"\",\"\", IF(ISBLANK(D385),\"BLANK\",\"\"))","v":""},"","","",{"$f":"IF($B385 & $C385=\"\",\"\", IF(ISBLANK(I385),\"BLANK\",\"\"))","v":""},""]
[367,null,null,null,null,null,null,null,null,null,null,null,null,null,"",{"$error":"#N/A"},{"$error":"#N/A"},null,null,null,null,null,null,null,null,null,null,null,null,null,null,null,null,null,null,null,null,125,"No",0,"","65+",0,null,null,null,{"$f":"IF($B386 & $C386=\"\",\"\", IF(ISBLANK(D386),\"BLANK\",\"\"))","v":""},"","","",{"$f":"IF($B386 & $C386=\"\",\"\", IF(ISBLANK(I386),\"BLANK\",\"\"))","v":""},""]
[368,null,null,null,null,null,null,null,null,null,null,null,null,null,"",{"$error":"#N/A"},{"$error":"#N/A"},null,null,null,null,null,null,null,null,null,null,null,null,null,null,null,null,null,null,null,null,125,"No",0,"","65+",0,null,null,null,{"$f":"IF($B387 & $C387=\"\",\"\", IF(ISBLANK(D387),\"BLANK\",\"\"))","v":""},"","","",{"$f":"IF($B387 & $C387=\"\",\"\", IF(ISBLANK(I387),\"BLANK\",\"\"))","v":""},""]
[369,null,null,null,null,null,null,null,null,null,null,null,null,null,"",{"$error":"#N/A"},{"$error":"#N/A"},null,null,null,null,null,null,null,null,null,null,null,null,null,null,null,null,null,null,null,null,125,"No",0,"","65+",0,null,null,null,{"$f":"IF($B388 & $C388=\"\",\"\", IF(ISBLANK(D388),\"BLANK\",\"\"))","v":""},"","","",{"$f":"IF($B388 & $C388=\"\",\"\", IF(ISBLANK(I388),\"BLANK\",\"\"))","v":""},""]
[370,null,null,null,null,null,null,null,null,null,null,null,null,null,"",{"$error":"#N/A"},{"$error":"#N/A"},null,null,null,null,null,null,null,null,null,null,null,null,null,null,null,null,null,null,null,null,125,"No",0,"","65+",0,null,null,null,{"$f":"IF($B389 & $C389=\"\",\"\", IF(ISBLANK(D389),\"BLANK\",\"\"))","v":""},"","","",{"$f":"IF($B389 & $C389=\"\",\"\", IF(ISBLANK(I389),\"BLANK\",\"\"))","v":""},""]
[371,null,null,null,null,null,null,null,null,null,null,null,null,null,"",{"$error":"#N/A"},{"$error":"#N/A"},null,null,null,null,null,null,null,null,null,null,null,null,null,null,null,null,null,null,null,null,125,"No",0,"","65+",0,null,null,null,{"$f":"IF($B390 & $C390=\"\",\"\", IF(ISBLANK(D390),\"BLANK\",\"\"))","v":""},"","","",{"$f":"IF($B390 & $C390=\"\",\"\", IF(ISBLANK(I390),\"BLANK\",\"\"))","v":""},""]
[372,null,null,null,null,null,null,null,null,null,null,null,null,null,"",{"$error":"#N/A"},{"$error":"#N/A"},null,null,null,null,null,null,null,null,null,null,null,null,null,null,null,null,null,null,null,null,125,"No",0,"","65+",0,null,null,null,{"$f":"IF($B391 & $C391=\"\",\"\", IF(ISBLANK(D391),\"BLANK\",\"\"))","v":""},"","","",{"$f":"IF($B391 & $C391=\"\",\"\", IF(ISBLANK(I391),\"BLANK\",\"\"))","v":""},""]
[373,null,null,null,null,null,null,null,null,null,null,null,null,null,"",{"$error":"#N/A"},{"$error":"#N/A"},null,null,null,null,null,null,null,null,null,null,null,null,null,null,null,null,null,null,null,null,125,"No",0,"","65+",0,null,null,null,{"$f":"IF($B392 & $C392=\"\",\"\", IF(ISBLANK(D392),\"BLANK\",\"\"))","v":""},"","","",{"$f":"IF($B392 & $C392=\"\",\"\", IF(ISBLANK(I392),\"BLANK\",\"\"))","v":""},""]
[374,null,null,null,null,null,null,null,null,null,null,null,null,null,"",{"$error":"#N/A"},{"$error":"#N/A"},null,null,null,null,null,null,null,null,null,null,null,null,null,null,null,null,null,null,null,null,125,"No",0,"","65+",0,null,null,null,{"$f":"IF($B393 & $C393=\"\",\"\", IF(ISBLANK(D393),\"BLANK\",\"\"))","v":""},"","","",{"$f":"IF($B393 & $C393=\"\",\"\", IF(ISBLANK(I393),\"BLANK\",\"\"))","v":""},""]
[375,null,null,null,null,null,null,null,null,null,null,null,null,null,"",{"$error":"#N/A"},{"$error":"#N/A"},null,null,null,null,null,null,null,null,null,null,null,null,null,null,null,null,null,null,null,null,125,"No",0,"","65+",0,null,null,null,{"$f":"IF($B394 & $C394=\"\",\"\", IF(ISBLANK(D394),\"BLANK\",\"\"))","v":""},"","","",{"$f":"IF($B394 & $C394=\"\",\"\", IF(ISBLANK(I394),\"BLANK\",\"\"))","v":""},""]
[376,null,null,null,null,null,null,null,null,null,null,null,null,null,"",{"$error":"#N/A"},{"$error":"#N/A"},null,null,null,null,null,null,null,null,null,null,null,null,null,null,null,null,null,null,null,null,125,"No",0,"","65+",0,null,null,null,{"$f":"IF($B395 & $C395=\"\",\"\", IF(ISBLANK(D395),\"BLANK\",\"\"))","v":""},"","","",{"$f":"IF($B395 & $C395=\"\",\"\", IF(ISBLANK(I395),\"BLANK\",\"\"))","v":""},""]
[377,null,null,null,null,null,null,null,null,null,null,null,null,null,"",{"$error":"#N/A"},{"$error":"#N/A"},null,null,null,null,null,null,null,null,null,null,null,null,null,null,null,null,null,null,null,null,125,"No",0,"","65+",0,null,null,null,{"$f":"IF($B396 & $C396=\"\",\"\", IF(ISBLANK(D396),\"BLANK\",\"\"))","v":""},"","","",{"$f":"IF($B396 & $C396=\"\",\"\", IF(ISBLANK(I396),\"BLANK\",\"\"))","v":""},""]
[378,null,null,null,null,null,null,null,null,null,null,null,null,null,"",{"$error":"#N/A"},{"$error":"#N/A"},null,null,null,null,null,null,null,null,null,null,null,null,null,null,null,null,null,null,null,null,125,"No",0,"","65+",0,null,null,null,{"$f":"IF($B397 & $C397=\"\",\"\", IF(ISBLANK(D397),\"BLANK\",\"\"))","v":""},"","","",{"$f":"IF($B397 & $C397=\"\",\"\", IF(ISBLANK(I397),\"BLANK\",\"\"))","v":""},""]
[379,null,null,null,null,null,null,null,null,null,null,null,null,null,"",{"$error":"#N/A"},{"$error":"#N/A"},null,null,null,null,null,null,null,null,null,null,null,null,null,null,null,null,null,null,null,null,125,"No",0,"","65+",0,null,null,null,{"$f":"IF($B398 & $C398=\"\",\"\", IF(ISBLANK(D398),\"BLANK\",\"\"))","v":""},"","","",{"$f":"IF($B398 & $C398=\"\",\"\", IF(ISBLANK(I398),\"BLANK\",\"\"))","v":""},""]
[380,null,null,null,null,null,null,null,null,null,null,null,null,null,"",{"$error":"#N/A"},{"$error":"#N/A"},null,null,null,null,null,null,null,null,null,null,null,null,null,null,null,null,null,null,null,null,125,"No",0,"","65+",0,null,null,null,{"$f":"IF($B399 & $C399=\"\",\"\", IF(ISBLANK(D399),\"BLANK\",\"\"))","v":""},"","","",{"$f":"IF($B399 & $C399=\"\",\"\", IF(ISBLANK(I399),\"BLANK\",\"\"))","v":""},""]
[381,null,null,null,null,null,null,null,null,null,null,null,null,null,"",{"$error":"#N/A"},{"$error":"#N/A"},null,null,null,null,null,null,null,null,null,null,null,null,null,null,null,null,null,null,null,null,125,"No",0,"","65+",0,null,null,null,{"$f":"IF($B400 & $C400=\"\",\"\", IF(ISBLANK(D400),\"BLANK\",\"\"))","v":""},"","","",{"$f":"IF($B400 & $C400=\"\",\"\", IF(ISBLANK(I400),\"BLANK\",\"\"))","v":""},""]
[382,null,null,null,null,null,null,null,null,null,null,null,null,null,"",{"$error":"#N/A"},{"$error":"#N/A"},null,null,null,null,null,null,null,null,null,null,null,null,null,null,null,null,null,null,null,null,125,"No",0,"","65+",0,null,null,null,{"$f":"IF($B401 & $C401=\"\",\"\", IF(ISBLANK(D401),\"BLANK\",\"\"))","v":""},"","","",{"$f":"IF($B401 & $C401=\"\",\"\", IF(ISBLANK(I401),\"BLANK\",\"\"))","v":""},""]
[383,null,null,null,null,null,null,null,null,null,null,null,null,null,"",{"$error":"#N/A"},{"$error":"#N/A"},null,null,null,null,null,null,null,null,null,null,null,null,null,null,null,null,null,null,null,null,125,"No",0,"","65+",0,null,null,null,{"$f":"IF($B402 & $C402=\"\",\"\", IF(ISBLANK(D402),\"BLANK\",\"\"))","v":""},"","","",{"$f":"IF($B402 & $C402=\"\",\"\", IF(ISBLANK(I402),\"BLANK\",\"\"))","v":""},""]
[384,null,null,null,null,null,null,null,null,null,null,null,null,null,"",{"$error":"#N/A"},{"$error":"#N/A"},null,null,null,null,null,null,null,null,null,null,null,null,null,null,null,null,null,null,null,null,125,"No",0,"","65+",0,null,null,null,{"$f":"IF($B403 & $C403=\"\",\"\", IF(ISBLANK(D403),\"BLANK\",\"\"))","v":""},"","","",{"$f":"IF($B403 & $C403=\"\",\"\", IF(ISBLANK(I403),\"BLANK\",\"\"))","v":""},""]
[385,null,null,null,null,null,null,null,null,null,null,null,null,null,"",{"$error":"#N/A"},{"$error":"#N/A"},null,null,null,null,null,null,null,null,null,null,null,null,null,null,null,null,null,null,null,null,125,"No",0,"","65+",0,null,null,null,{"$f":"IF($B404 & $C404=\"\",\"\", IF(ISBLANK(D404),\"BLANK\",\"\"))","v":""},"","","",{"$f":"IF($B404 & $C404=\"\",\"\", IF(ISBLANK(I404),\"BLANK\",\"\"))","v":""},""]
[386,null,null,null,null,null,null,null,null,null,null,null,null,null,"",{"$error":"#N/A"},{"$error":"#N/A"},null,null,null,null,null,null,null,null,null,null,null,null,null,null,null,null,null,null,null,null,125,"No",0,"","65+",0,null,null,null,{"$f":"IF($B405 & $C405=\"\",\"\", IF(ISBLANK(D405),\"BLANK\",\"\"))","v":""},"","","",{"$f":"IF($B405 & $C405=\"\",\"\", IF(ISBLANK(I405),\"BLANK\",\"\"))","v":""},""]
[387,null,null,null,null,null,null,null,null,null,null,null,null,null,"",{"$error":"#N/A"},{"$error":"#N/A"},null,null,null,null,null,null,null,null,null,null,null,null,null,null,null,null,null,null,null,null,125,"No",0,"","65+",0,null,null,null,{"$f":"IF($B406 & $C406=\"\",\"\", IF(ISBLANK(D406),\"BLANK\",\"\"))","v":""},"","","",{"$f":"IF($B406 & $C406=\"\",\"\", IF(ISBLANK(I406),\"BLANK\",\"\"))","v":""},""]
[388,null,null,null,null,null,null,null,null,null,null,null,null,null,"",{"$error":"#N/A"},{"$error":"#N/A"},null,null,null,null,null,null,null,null,null,null,null,null,null,null,null,null,null,null,null,null,125,"No",0,"","65+",0,null,null,null,{"$f":"IF($B407 & $C407=\"\",\"\", IF(ISBLANK(D407),\"BLANK\",\"\"))","v":""},"","","",{"$f":"IF($B407 & $C407=\"\",\"\", IF(ISBLANK(I407),\"BLANK\",\"\"))","v":""},""]
[389,null,null,null,null,null,null,null,null,null,null,null,null,null,"",{"$error":"#N/A"},{"$error":"#N/A"},null,null,null,null,null,null,null,null,null,null,null,null,null,null,null,null,null,null,null,null,125,"No",0,"","65+",0,null,null,null,{"$f":"IF($B408 & $C408=\"\",\"\", IF(ISBLANK(D408),\"BLANK\",\"\"))","v":""},"","","",{"$f":"IF($B408 & $C408=\"\",\"\", IF(ISBLANK(I408),\"BLANK\",\"\"))","v":""},""]
[390,null,null,null,null,null,null,null,null,null,null,null,null,null,"",{"$error":"#N/A"},{"$error":"#N/A"},null,null,null,null,null,null,null,null,null,null,null,null,null,null,null,null,null,null,null,null,125,"No",0,"","65+",0,null,null,null,{"$f":"IF($B409 & $C409=\"\",\"\", IF(ISBLANK(D409),\"BLANK\",\"\"))","v":""},"","","",{"$f":"IF($B409 & $C409=\"\",\"\", IF(ISBLANK(I409),\"BLANK\",\"\"))","v":""},""]
[391,null,null,null,null,null,null,null,null,null,null,null,null,null,"",{"$error":"#N/A"},{"$error":"#N/A"},null,null,null,null,null,null,null,null,null,null,null,null,null,null,null,null,null,null,null,null,125,"No",0,"","65+",0,null,null,null,{"$f":"IF($B410 & $C410=\"\",\"\", IF(ISBLANK(D410),\"BLANK\",\"\"))","v":""},"","","",{"$f":"IF($B410 & $C410=\"\",\"\", IF(ISBLANK(I410),\"BLANK\",\"\"))","v":""},""]
[392,null,null,null,null,null,null,null,null,null,null,null,null,null,"",{"$error":"#N/A"},{"$error":"#N/A"},null,null,null,null,null,null,null,null,null,null,null,null,null,null,null,null,null,null,null,null,125,"No",0,"","65+",0,null,null,null,{"$f":"IF($B411 & $C411=\"\",\"\", IF(ISBLANK(D411),\"BLANK\",\"\"))","v":""},"","","",{"$f":"IF($B411 & $C411=\"\",\"\", IF(ISBLANK(I411),\"BLANK\",\"\"))","v":""},""]
[393,null,null,null,null,null,null,null,null,null,null,null,null,null,"",{"$error":"#N/A"},{"$error":"#N/A"},null,null,null,null,null,null,null,null,null,null,null,null,null,null,null,null,null,null,null,null,125,"No",0,"","65+",0,null,null,null,{"$f":"IF($B412 & $C412=\"\",\"\", IF(ISBLANK(D412),\"BLANK\",\"\"))","v":""},"","","",{"$f":"IF($B412 & $C412=\"\",\"\", IF(ISBLANK(I412),\"BLANK\",\"\"))","v":""},""]
[394,null,null,null,null,null,null,null,null,null,null,null,null,null,"",{"$error":"#N/A"},{"$error":"#N/A"},null,null,null,null,null,null,null,null,null,null,null,null,null,null,null,null,null,null,null,null,125,"No",0,"","65+",0,null,null,null,{"$f":"IF($B413 & $C413=\"\",\"\", IF(ISBLANK(D413),\"BLANK\",\"\"))","v":""},"","","",{"$f":"IF($B413 & $C413=\"\",\"\", IF(ISBLANK(I413),\"BLANK\",\"\"))","v":""},""]
[395,null,null,null,null,null,null,null,null,null,null,null,null,null,"",{"$error":"#N/A"},{"$error":"#N/A"},null,null,null,null,null,null,null,null,null,null,null,null,null,null,null,null,null,null,null,null,125,"No",0,"","65+",0,null,null,null,{"$f":"IF($B414 & $C414=\"\",\"\", IF(ISBLANK(D414),\"BLANK\",\"\"))","v":""},"","","",{"$f":"IF($B414 & $C414=\"\",\"\", IF(ISBLANK(I414),\"BLANK\",\"\"))","v":""},""]
[396,null,null,null,null,null,null,null,null,null,null,null,null,null,"",{"$error":"#N/A"},{"$error":"#N/A"},null,null,null,null,null,null,null,null,null,null,null,null,null,null,null,null,null,null,null,null,125,"No",0,"","65+",0,null,null,null,{"$f":"IF($B415 & $C415=\"\",\"\", IF(ISBLANK(D415),\"BLANK\",\"\"))","v":""},"","","",{"$f":"IF($B415 & $C415=\"\",\"\", IF(ISBLANK(I415),\"BLANK\",\"\"))","v":""},""]
[397,null,null,null,null,null,null,null,null,null,null,null,null,null,"",{"$error":"#N/A"},{"$error":"#N/A"},null,null,null,null,null,null,null,null,null,null,null,null,null,null,null,null,null,null,null,null,125,"No",0,"","65+",0,null,null,null,{"$f":"IF($B416 & $C416=\"\",\"\", IF(ISBLANK(D416),\"BLANK\",\"\"))","v":""},"","","",{"$f":"IF($B416 & $C416=\"\",\"\", IF(ISBLANK(I416),\"BLANK\",\"\"))","v":""},""]
[398,null,null,null,null,null,null,null,null,null,null,null,null,null,"",{"$error":"#N/A"},{"$error":"#N/A"},null,null,null,null,null,null,null,null,null,null,null,null,null,null,null,null,null,null,null,null,125,"No",0,"","65+",0,null,null,null,{"$f":"IF($B417 & $C417=\"\",\"\", IF(ISBLANK(D417),\"BLANK\",\"\"))","v":""},"","","",{"$f":"IF($B417 & $C417=\"\",\"\", IF(ISBLANK(I417),\"BLANK\",\"\"))","v":""},""]
[399,null,null,null,null,null,null,null,null,null,null,null,null,null,"",{"$error":"#N/A"},{"$error":"#N/A"},null,null,null,null,null,null,null,null,null,null,null,null,null,null,null,null,null,null,null,null,125,"No",0,"","65+",0,null,null,null,{"$f":"IF($B418 & $C418=\"\",\"\", IF(ISBLANK(D418),\"BLANK\",\"\"))","v":""},"","","",{"$f":"IF($B418 & $C418=\"\",\"\", IF(ISBLANK(I418),\"BLANK\",\"\"))","v":""},""]
[400,null,null,null,null,null,null,null,null,null,null,null,null,null,"",{"$error":"#N/A"},{"$error":"#N/A"},null,null,null,null,null,null,null,null,null,null,null,null,null,null,null,null,null,null,null,null,125,"No",0,"","65+",0,null,null,null,{"$f":"IF($B419 & $C419=\"\",\"\", IF(ISBLANK(D419),\"BLANK\",\"\"))","v":""},"","","",{"$f":"IF($B419 & $C419=\"\",\"\", IF(ISBLANK(I419),\"BLANK\",\"\"))","v":""},""]
[401,null,null,null,null,null,null,null,null,null,null,null,null,null,"",{"$error":"#N/A"},{"$error":"#N/A"},null,null,null,null,null,null,null,null,null,null,null,null,null,null,null,null,null,null,null,null,125,"No",0,"","65+",0,null,null,null,{"$f":"IF($B420 & $C420=\"\",\"\", IF(ISBLANK(D420),\"BLANK\",\"\"))","v":""},"","","",{"$f":"IF($B420 & $C420=\"\",\"\", IF(ISBLANK(I420),\"BLANK\",\"\"))","v":""},""]
[402,null,null,null,null,null,null,null,null,null,null,null,null,null,"",{"$error":"#N/A"},{"$error":"#N/A"},null,null,null,null,null,null,null,null,null,null,null,null,null,null,null,null,null,null,null,null,125,"No",0,"","65+",0,null,null,null,{"$f":"IF($B421 & $C421=\"\",\"\", IF(ISBLANK(D421),\"BLANK\",\"\"))","v":""},"","","",{"$f":"IF($B421 & $C421=\"\",\"\", IF(ISBLANK(I421),\"BLANK\",\"\"))","v":""},""]
[403,null,null,null,null,null,null,null,null,null,null,null,null,null,"",{"$error":"#N/A"},{"$error":"#N/A"},null,null,null,null,null,null,null,null,null,null,null,null,null,null,null,null,null,null,null,null,125,"No",0,"","65+",0,null,null,null,{"$f":"IF($B422 & $C422=\"\",\"\", IF(ISBLANK(D422),\"BLANK\",\"\"))","v":""},"","","",{"$f":"IF($B422 & $C422=\"\",\"\", IF(ISBLANK(I422),\"BLANK\",\"\"))","v":""},""]
[404,null,null,null,null,null,null,null,null,null,null,null,null,null,"",{"$error":"#N/A"},{"$error":"#N/A"},null,null,null,null,null,null,null,null,null,null,null,null,null,null,null,null,null,null,null,null,125,"No",0,"","65+",0,null,null,null,{"$f":"IF($B423 & $C423=\"\",\"\", IF(ISBLANK(D423),\"BLANK\",\"\"))","v":""},"","","",{"$f":"IF($B423 & $C423=\"\",\"\", IF(ISBLANK(I423),\"BLANK\",\"\"))","v":""},""]
[405,null,null,null,null,null,null,null,null,null,null,null,null,null,"",{"$error":"#N/A"},{"$error":"#N/A"},null,null,null,null,null,null,null,null,null,null,null,null,null,null,null,null,null,null,null,null,125,"No",0,"","65+",0,null,null,null,{"$f":"IF($B424 & $C424=\"\",\"\", IF(ISBLANK(D424),\"BLANK\",\"\"))","v":""},"","","",{"$f":"IF($B424 & $C424=\"\",\"\", IF(ISBLANK(I424),\"BLANK\",\"\"))","v":""},""]
[406,null,null,null,null,null,null,null,null,null,null,null,null,null,"",{"$error":"#N/A"},{"$error":"#N/A"},null,null,null,null,null,null,null,null,null,null,null,null,null,null,null,null,null,null,null,null,125,"No",0,"","65+",0,null,null,null,{"$f":"IF($B425 & $C425=\"\",\"\", IF(ISBLANK(D425),\"BLANK\",\"\"))","v":""},"","","",{"$f":"IF($B425 & $C425=\"\",\"\", IF(ISBLANK(I425),\"BLANK\",\"\"))","v":""},""]
[407,null,null,null,null,null,null,null,null,null,null,null,null,null,"",{"$error":"#N/A"},{"$error":"#N/A"},null,null,null,null,null,null,null,null,null,null,null,null,null,null,null,null,null,null,null,null,125,"No",0,"","65+",0,null,null,null,{"$f":"IF($B426 & $C426=\"\",\"\", IF(ISBLANK(D426),\"BLANK\",\"\"))","v":""},"","","",{"$f":"IF($B426 & $C426=\"\",\"\", IF(ISBLANK(I426),\"BLANK\",\"\"))","v":""},""]
[408,null,null,null,null,null,null,null,null,null,null,null,null,null,"",{"$error":"#N/A"},{"$error":"#N/A"},null,null,null,null,null,null,null,null,null,null,null,null,null,null,null,null,null,null,null,null,125,"No",0,"","65+",0,null,null,null,{"$f":"IF($B427 & $C427=\"\",\"\", IF(ISBLANK(D427),\"BLANK\",\"\"))","v":""},"","","",{"$f":"IF($B427 & $C427=\"\",\"\", IF(ISBLANK(I427),\"BLANK\",\"\"))","v":""},""]
[409,null,null,null,null,null,null,null,null,null,null,null,null,null,"",{"$error":"#N/A"},{"$error":"#N/A"},null,null,null,null,null,null,null,null,null,null,null,null,null,null,null,null,null,null,null,null,125,"No",0,"","65+",0,null,null,null,{"$f":"IF($B428 & $C428=\"\",\"\", IF(ISBLANK(D428),\"BLANK\",\"\"))","v":""},"","","",{"$f":"IF($B428 & $C428=\"\",\"\", IF(ISBLANK(I428),\"BLANK\",\"\"))","v":""},""]
[410,null,null,null,null,null,null,null,null,null,null,null,null,null,"",{"$error":"#N/A"},{"$error":"#N/A"},null,null,null,null,null,null,null,null,null,null,null,null,null,null,null,null,null,null,null,null,125,"No",0,"","65+",0,null,null,null,{"$f":"IF($B429 & $C429=\"\",\"\", IF(ISBLANK(D429),\"BLANK\",\"\"))","v":""},"","","",{"$f":"IF($B429 & $C429=\"\",\"\", IF(ISBLANK(I429),\"BLANK\",\"\"))","v":""},""]
[411,null,null,null,null,null,null,null,null,null,null,null,null,null,"",{"$error":"#N/A"},{"$error":"#N/A"},null,null,null,null,null,null,null,null,null,null,null,null,null,null,null,null,null,null,null,null,125,"No",0,"","65+",0,null,null,null,{"$f":"IF($B430 & $C430=\"\",\"\", IF(ISBLANK(D430),\"BLANK\",\"\"))","v":""},"","","",{"$f":"IF($B430 & $C430=\"\",\"\", IF(ISBLANK(I430),\"BLANK\",\"\"))","v":""},""]
[412,null,null,null,null,null,null,null,null,null,null,null,null,null,"",{"$error":"#N/A"},{"$error":"#N/A"},null,null,null,null,null,null,null,null,null,null,null,null,null,null,null,null,null,null,null,null,125,"No",0,"","65+",0,null,null,null,{"$f":"IF($B431 & $C431=\"\",\"\", IF(ISBLANK(D431),\"BLANK\",\"\"))","v":""},"","","",{"$f":"IF($B431 & $C431=\"\",\"\", IF(ISBLANK(I431),\"BLANK\",\"\"))","v":""},""]
[413,null,null,null,null,null,null,null,null,null,null,null,null,null,"",{"$error":"#N/A"},{"$error":"#N/A"},null,null,null,null,null,null,null,null,null,null,null,null,null,null,null,null,null,null,null,null,125,"No",0,"","65+",0,null,null,null,{"$f":"IF($B432 & $C432=\"\",\"\", IF(ISBLANK(D432),\"BLANK\",\"\"))","v":""},"","","",{"$f":"IF($B432 & $C432=\"\",\"\", IF(ISBLANK(I432),\"BLANK\",\"\"))","v":""},""]
[414,null,null,null,null,null,null,null,null,null,null,null,null,null,"",{"$error":"#N/A"},{"$error":"#N/A"},null,null,null,null,null,null,null,null,null,null,null,null,null,null,null,null,null,null,null,null,125,"No",0,"","65+",0,null,null,null,{"$f":"IF($B433 & $C433=\"\",\"\", IF(ISBLANK(D433),\"BLANK\",\"\"))","v":""},"","","",{"$f":"IF($B433 & $C433=\"\",\"\", IF(ISBLANK(I433),\"BLANK\",\"\"))","v":""},""]
[415,null,null,null,null,null,null,null,null,null,null,null,null,null,"",{"$error":"#N/A"},{"$error":"#N/A"},null,null,null,null,null,null,null,null,null,null,null,null,null,null,null,null,null,null,null,null,125,"No",0,"","65+",0,null,null,null,{"$f":"IF($B434 & $C434=\"\",\"\", IF(ISBLANK(D434),\"BLANK\",\"\"))","v":""},"","","",{"$f":"IF($B434 & $C434=\"\",\"\", IF(ISBLANK(I434),\"BLANK\",\"\"))","v":""},""]
[416,null,null,null,null,null,null,null,null,null,null,null,null,null,"",{"$error":"#N/A"},{"$error":"#N/A"},null,null,null,null,null,null,null,null,null,null,null,null,null,null,null,null,null,null,null,null,125,"No",0,"","65+",0,null,null,null,{"$f":"IF($B435 & $C435=\"\",\"\", IF(ISBLANK(D435),\"BLANK\",\"\"))","v":""},"","","",{"$f":"IF($B435 & $C435=\"\",\"\", IF(ISBLANK(I435),\"BLANK\",\"\"))","v":""},""]
[417,null,null,null,null,null,null,null,null,null,null,null,null,null,"",{"$error":"#N/A"},{"$error":"#N/A"},null,null,null,null,null,null,null,null,null,null,null,null,null,null,null,null,null,null,null,null,125,"No",0,"","65+",0,null,null,null,{"$f":"IF($B436 & $C436=\"\",\"\", IF(ISBLANK(D436),\"BLANK\",\"\"))","v":""},"","","",{"$f":"IF($B436 & $C436=\"\",\"\", IF(ISBLANK(I436),\"BLANK\",\"\"))","v":""},""]
[418,null,null,null,null,null,null,null,null,null,null,null,null,null,"",{"$error":"#N/A"},{"$error":"#N/A"},null,null,null,null,null,null,null,null,null,null,null,null,null,null,null,null,null,null,null,null,125,"No",0,"","65+",0,null,null,null,{"$f":"IF($B437 & $C437=\"\",\"\", IF(ISBLANK(D437),\"BLANK\",\"\"))","v":""},"","","",{"$f":"IF($B437 & $C437=\"\",\"\", IF(ISBLANK(I437),\"BLANK\",\"\"))","v":""},""]
[419,null,null,null,null,null,null,null,null,null,null,null,null,null,"",{"$error":"#N/A"},{"$error":"#N/A"},null,null,null,null,null,null,null,null,null,null,null,null,null,null,null,null,null,null,null,null,125,"No",0,"","65+",0,null,null,null,{"$f":"IF($B438 & $C438=\"\",\"\", IF(ISBLANK(D438),\"BLANK\",\"\"))","v":""},"","","",{"$f":"IF($B438 & $C438=\"\",\"\", IF(ISBLANK(I438),\"BLANK\",\"\"))","v":""},""]
[420,null,null,null,null,null,null,null,null,null,null,null,null,null,"",{"$error":"#N/A"},{"$error":"#N/A"},null,null,null,null,null,null,null,null,null,null,null,null,null,null,null,null,null,null,null,null,125,"No",0,"","65+",0,null,null,null,{"$f":"IF($B439 & $C439=\"\",\"\", IF(ISBLANK(D439),\"BLANK\",\"\"))","v":""},"","","",{"$f":"IF($B439 & $C439=\"\",\"\", IF(ISBLANK(I439),\"BLANK\",\"\"))","v":""},""]
[421,null,null,null,null,null,null,null,null,null,null,null,null,null,"",{"$error":"#N/A"},{"$error":"#N/A"},null,null,null,null,null,null,null,null,null,null,null,null,null,null,null,null,null,null,null,null,125,"No",0,"","65+",0,null,null,null,{"$f":"IF($B440 & $C440=\"\",\"\", IF(ISBLANK(D440),\"BLANK\",\"\"))","v":""},"","","",{"$f":"IF($B440 & $C440=\"\",\"\", IF(ISBLANK(I440),\"BLANK\",\"\"))","v":""},""]
[422,null,null,null,null,null,null,null,null,null,null,null,null,null,"",{"$error":"#N/A"},{"$error":"#N/A"},null,null,null,null,null,null,null,null,null,null,null,null,null,null,null,null,null,null,null,null,125,"No",0,"","65+",0,null,null,null,{"$f":"IF($B441 & $C441=\"\",\"\", IF(ISBLANK(D441),\"BLANK\",\"\"))","v":""},"","","",{"$f":"IF($B441 & $C441=\"\",\"\", IF(ISBLANK(I441),\"BLANK\",\"\"))","v":""},""]
[423,null,null,null,null,null,null,null,null,null,null,null,null,null,"",{"$error":"#N/A"},{"$error":"#N/A"},null,null,null,null,null,null,null,null,null,null,null,null,null,null,null,null,null,null,null,null,125,"No",0,"","65+",0,null,null,null,{"$f":"IF($B442 & $C442=\"\",\"\", IF(ISBLANK(D442),\"BLANK\",\"\"))","v":""},"","","",{"$f":"IF($B442 & $C442=\"\",\"\", IF(ISBLANK(I442),\"BLANK\",\"\"))","v":""},""]
[424,null,null,null,null,null,null,null,null,null,null,null,null,null,"",{"$error":"#N/A"},{"$error":"#N/A"},null,null,null,null,null,null,null,null,null,null,null,null,null,null,null,null,null,null,null,null,125,"No",0,"","65+",0,null,null,null,{"$f":"IF($B443 & $C443=\"\",\"\", IF(ISBLANK(D443),\"BLANK\",\"\"))","v":""},"","","",{"$f":"IF($B443 & $C443=\"\",\"\", IF(ISBLANK(I443),\"BLANK\",\"\"))","v":""},""]
[425,null,null,null,null,null,null,null,null,null,null,null,null,null,"",{"$error":"#N/A"},{"$error":"#N/A"},null,null,null,null,null,null,null,null,null,null,null,null,null,null,null,null,null,null,null,null,125,"No",0,"","65+",0,null,null,null,{"$f":"IF($B444 & $C444=\"\",\"\", IF(ISBLANK(D444),\"BLANK\",\"\"))","v":""},"","","",{"$f":"IF($B444 & $C444=\"\",\"\", IF(ISBLANK(I444),\"BLANK\",\"\"))","v":""},""]
[426,null,null,null,null,null,null,null,null,null,null,null,null,null,"",{"$error":"#N/A"},{"$error":"#N/A"},null,null,null,null,null,null,null,null,null,null,null,null,null,null,null,null,null,null,null,null,125,"No",0,"","65+",0,null,null,null,{"$f":"IF($B445 & $C445=\"\",\"\", IF(ISBLANK(D445),\"BLANK\",\"\"))","v":""},"","","",{"$f":"IF($B445 & $C445=\"\",\"\", IF(ISBLANK(I445),\"BLANK\",\"\"))","v":""},""]
[427,null,null,null,null,null,null,null,null,null,null,null,null,null,"",{"$error":"#N/A"},{"$error":"#N/A"},null,null,null,null,null,null,null,null,null,null,null,null,null,null,null,null,null,null,null,null,125,"No",0,"","65+",0,null,null,null,{"$f":"IF($B446 & $C446=\"\",\"\", IF(ISBLANK(D446),\"BLANK\",\"\"))","v":""},"","","",{"$f":"IF($B446 & $C446=\"\",\"\", IF(ISBLANK(I446),\"BLANK\",\"\"))","v":""},""]
[428,null,null,null,null,null,null,null,null,null,null,null,null,null,"",{"$error":"#N/A"},{"$error":"#N/A"},null,null,null,null,null,null,null,null,null,null,null,null,null,null,null,null,null,null,null,null,125,"No",0,"","65+",0,null,null,null,{"$f":"IF($B447 & $C447=\"\",\"\", IF(ISBLANK(D447),\"BLANK\",\"\"))","v":""},"","","",{"$f":"IF($B447 & $C447=\"\",\"\", IF(ISBLANK(I447),\"BLANK\",\"\"))","v":""},""]
[429,null,null,null,null,null,null,null,null,null,null,null,null,null,"",{"$error":"#N/A"},{"$error":"#N/A"},null,null,null,null,null,null,null,null,null,null,null,null,null,null,null,null,null,null,null,null,125,"No",0,"","65+",0,null,null,null,{"$f":"IF($B448 & $C448=\"\",\"\", IF(ISBLANK(D448),\"BLANK\",\"\"))","v":""},"","","",{"$f":"IF($B448 & $C448=\"\",\"\", IF(ISBLANK(I448),\"BLANK\",\"\"))","v":""},""]
[430,null,null,null,null,null,null,null,null,null,null,null,null,null,"",{"$error":"#N/A"},{"$error":"#N/A"},null,null,null,null,null,null,null,null,null,null,null,null,null,null,null,null,null,null,null,null,125,"No",0,"","65+",0,null,null,null,{"$f":"IF($B449 & $C449=\"\",\"\", IF(ISBLANK(D449),\"BLANK\",\"\"))","v":""},"","","",{"$f":"IF($B449 & $C449=\"\",\"\", IF(ISBLANK(I449),\"BLANK\",\"\"))","v":""},""]
[431,null,null,null,null,null,null,null,null,null,null,null,null,null,"",{"$error":"#N/A"},{"$error":"#N/A"},null,null,null,null,null,null,null,null,null,null,null,null,null,null,null,null,null,null,null,null,125,"No",0,"","65+",0,null,null,null,{"$f":"IF($B450 & $C450=\"\",\"\", IF(ISBLANK(D450),\"BLANK\",\"\"))","v":""},"","","",{"$f":"IF($B450 & $C450=\"\",\"\", IF(ISBLANK(I450),\"BLANK\",\"\"))","v":""},""]
[432,null,null,null,null,null,null,null,null,null,null,null,null,null,"",{"$error":"#N/A"},{"$error":"#N/A"},null,null,null,null,null,null,null,null,null,null,null,null,null,null,null,null,null,null,null,null,125,"No",0,"","65+",0,null,null,null,{"$f":"IF($B451 & $C451=\"\",\"\", IF(ISBLANK(D451),\"BLANK\",\"\"))","v":""},"","","",{"$f":"IF($B451 & $C451=\"\",\"\", IF(ISBLANK(I451),\"BLANK\",\"\"))","v":""},""]
[433,null,null,null,null,null,null,null,null,null,null,null,null,null,"",{"$error":"#N/A"},{"$error":"#N/A"},null,null,null,null,null,null,null,null,null,null,null,null,null,null,null,null,null,null,null,null,125,"No",0,"","65+",0,null,null,null,{"$f":"IF($B452 & $C452=\"\",\"\", IF(ISBLANK(D452),\"BLANK\",\"\"))","v":""},"","","",{"$f":"IF($B452 & $C452=\"\",\"\", IF(ISBLANK(I452),\"BLANK\",\"\"))","v":""},""]
[434,null,null,null,null,null,null,null,null,null,null,null,null,null,"",{"$error":"#N/A"},{"$error":"#N/A"},null,null,null,null,null,null,null,null,null,null,null,null,null,null,null,null,null,null,null,null,125,"No",0,"","65+",0,null,null,null,{"$f":"IF($B453 & $C453=\"\",\"\", IF(ISBLANK(D453),\"BLANK\",\"\"))","v":""},"","","",{"$f":"IF($B453 & $C453=\"\",\"\", IF(ISBLANK(I453),\"BLANK\",\"\"))","v":""},""]
[435,null,null,null,null,null,null,null,null,null,null,null,null,null,"",{"$error":"#N/A"},{"$error":"#N/A"},null,null,null,null,null,null,null,null,null,null,null,null,null,null,null,null,null,null,null,null,125,"No",0,"","65+",0,null,null,null,{"$f":"IF($B454 & $C454=\"\",\"\", IF(ISBLANK(D454),\"BLANK\",\"\"))","v":""},"","","",{"$f":"IF($B454 & $C454=\"\",\"\", IF(ISBLANK(I454),\"BLANK\",\"\"))","v":""},""]
[436,null,null,null,null,null,null,null,null,null,null,null,null,null,"",{"$error":"#N/A"},{"$error":"#N/A"},null,null,null,null,null,null,null,null,null,null,null,null,null,null,null,null,null,null,null,null,125,"No",0,"","65+",0,null,null,null,{"$f":"IF($B455 & $C455=\"\",\"\", IF(ISBLANK(D455),\"BLANK\",\"\"))","v":""},"","","",{"$f":"IF($B455 & $C455=\"\",\"\", IF(ISBLANK(I455),\"BLANK\",\"\"))","v":""},""]
[437,null,null,null,null,null,null,null,null,null,null,null,null,null,"",{"$error":"#N/A"},{"$error":"#N/A"},null,null,null,null,null,null,null,null,null,null,null,null,null,null,null,null,null,null,null,null,125,"No",0,"","65+",0,null,null,null,{"$f":"IF($B456 & $C456=\"\",\"\", IF(ISBLANK(D456),\"BLANK\",\"\"))","v":""},"","","",{"$f":"IF($B456 & $C456=\"\",\"\", IF(ISBLANK(I456),\"BLANK\",\"\"))","v":""},""]
[438,null,null,null,null,null,null,null,null,null,null,null,null,null,"",{"$error":"#N/A"},{"$error":"#N/A"},null,null,null,null,null,null,null,null,null,null,null,null,null,null,null,null,null,null,null,null,125,"No",0,"","65+",0,null,null,null,{"$f":"IF($B457 & $C457=\"\",\"\", IF(ISBLANK(D457),\"BLANK\",\"\"))","v":""},"","","",{"$f":"IF($B457 & $C457=\"\",\"\", IF(ISBLANK(I457),\"BLANK\",\"\"))","v":""},""]
[439,null,null,null,null,null,null,null,null,null,null,null,null,null,"",{"$error":"#N/A"},{"$error":"#N/A"},null,null,null,null,null,null,null,null,null,null,null,null,null,null,null,null,null,null,null,null,125,"No",0,"","65+",0,null,null,null,{"$f":"IF($B458 & $C458=\"\",\"\", IF(ISBLANK(D458),\"BLANK\",\"\"))","v":""},"","","",{"$f":"IF($B458 & $C458=\"\",\"\", IF(ISBLANK(I458),\"BLANK\",\"\"))","v":""},""]
[440,null,null,null,null,null,null,null,null,null,null,null,null,null,"",{"$error":"#N/A"},{"$error":"#N/A"},null,null,null,null,null,null,null,null,null,null,null,null,null,null,null,null,null,null,null,null,125,"No",0,"","65+",0,null,null,null,{"$f":"IF($B459 & $C459=\"\",\"\", IF(ISBLANK(D459),\"BLANK\",\"\"))","v":""},"","","",{"$f":"IF($B459 & $C459=\"\",\"\", IF(ISBLANK(I459),\"BLANK\",\"\"))","v":""},""]
[441,null,null,null,null,null,null,null,null,null,null,null,null,null,"",{"$error":"#N/A"},{"$error":"#N/A"},null,null,null,null,null,null,null,null,null,null,null,null,null,null,null,null,null,null,null,null,125,"No",0,"","65+",0,null,null,null,{"$f":"IF($B460 & $C460=\"\",\"\", IF(ISBLANK(D460),\"BLANK\",\"\"))","v":""},"","","",{"$f":"IF($B460 & $C460=\"\",\"\", IF(ISBLANK(I460),\"BLANK\",\"\"))","v":""},""]
[442,null,null,null,null,null,null,null,null,null,null,null,null,null,"",{"$error":"#N/A"},{"$error":"#N/A"},null,null,null,null,null,null,null,null,null,null,null,null,null,null,null,null,null,null,null,null,125,"No",0,"","65+",0,null,null,null,{"$f":"IF($B461 & $C461=\"\",\"\", IF(ISBLANK(D461),\"BLANK\",\"\"))","v":""},"","","",{"$f":"IF($B461 & $C461=\"\",\"\", IF(ISBLANK(I461),\"BLANK\",\"\"))","v":""},""]
[443,null,null,null,null,null,null,null,null,null,null,null,null,null,"",{"$error":"#N/A"},{"$error":"#N/A"},null,null,null,null,null,null,null,null,null,null,null,null,null,null,null,null,null,null,null,null,125,"No",0,"","65+",0,null,null,null,{"$f":"IF($B462 & $C462=\"\",\"\", IF(ISBLANK(D462),\"BLANK\",\"\"))","v":""},"","","",{"$f":"IF($B462 & $C462=\"\",\"\", IF(ISBLANK(I462),\"BLANK\",\"\"))","v":""},""]
[444,null,null,null,null,null,null,null,null,null,null,null,null,null,"",{"$error":"#N/A"},{"$error":"#N/A"},null,null,null,null,null,null,null,null,null,null,null,null,null,null,null,null,null,null,null,null,125,"No",0,"","65+",0,null,null,null,{"$f":"IF($B463 & $C463=\"\",\"\", IF(ISBLANK(D463),\"BLANK\",\"\"))","v":""},"","","",{"$f":"IF($B463 & $C463=\"\",\"\", IF(ISBLANK(I463),\"BLANK\",\"\"))","v":""},""]
[445,null,null,null,null,null,null,null,null,null,null,null,null,null,"",{"$error":"#N/A"},{"$error":"#N/A"},null,null,null,null,null,null,null,null,null,null,null,null,null,null,null,null,null,null,null,null,125,"No",0,"","65+",0,null,null,null,{"$f":"IF($B464 & $C464=\"\",\"\", IF(ISBLANK(D464),\"BLANK\",\"\"))","v":""},"","","",{"$f":"IF($B464 & $C464=\"\",\"\", IF(ISBLANK(I464),\"BLANK\",\"\"))","v":""},""]
[446,null,null,null,null,null,null,null,null,null,null,null,null,null,"",{"$error":"#N/A"},{"$error":"#N/A"},null,null,null,null,null,null,null,null,null,null,null,null,null,null,null,null,null,null,null,null,125,"No",0,"","65+",0,null,null,null,{"$f":"IF($B465 & $C465=\"\",\"\", IF(ISBLANK(D465),\"BLANK\",\"\"))","v":""},"","","",{"$f":"IF($B465 & $C465=\"\",\"\", IF(ISBLANK(I465),\"BLANK\",\"\"))","v":""},""]
[447,null,null,null,null,null,null,null,null,null,null,null,null,null,"",{"$error":"#N/A"},{"$error":"#N/A"},null,null,null,null,null,null,null,null,null,null,null,null,null,null,null,null,null,null,null,null,125,"No",0,"","65+",0,null,null,null,{"$f":"IF($B466 & $C466=\"\",\"\", IF(ISBLANK(D466),\"BLANK\",\"\"))","v":""},"","","",{"$f":"IF($B466 & $C466=\"\",\"\", IF(ISBLANK(I466),\"BLANK\",\"\"))","v":""},""]
[448,null,null,null,null,null,null,null,null,null,null,null,null,null,"",{"$error":"#N/A"},{"$error":"#N/A"},null,null,null,null,null,null,null,null,null,null,null,null,null,null,null,null,null,null,null,null,125,"No",0,"","65+",0,null,null,null,{"$f":"IF($B467 & $C467=\"\",\"\", IF(ISBLANK(D467),\"BLANK\",\"\"))","v":""},"","","",{"$f":"IF($B467 & $C467=\"\",\"\", IF(ISBLANK(I467),\"BLANK\",\"\"))","v":""},""]
[449,null,null,null,null,null,null,null,null,null,null,null,null,null,"",{"$error":"#N/A"},{"$error":"#N/A"},null,null,null,null,null,null,null,null,null,null,null,null,null,null,null,null,null,null,null,null,125,"No",0,"","65+",0,null,null,null,{"$f":"IF($B468 & $C468=\"\",\"\", IF(ISBLANK(D468),\"BLANK\",\"\"))","v":""},"","","",{"$f":"IF($B468 & $C468=\"\",\"\", IF(ISBLANK(I468),\"BLANK\",\"\"))","v":""},""]
[450,null,null,null,null,null,null,null,null,null,null,null,null,null,"",{"$error":"#N/A"},{"$error":"#N/A"},null,null,null,null,null,null,null,null,null,null,null,null,null,null,null,null,null,null,null,null,125,"No",0,"","65+",0,null,null,null,{"$f":"IF($B469 & $C469=\"\",\"\", IF(ISBLANK(D469),\"BLANK\",\"\"))","v":""},"","","",{"$f":"IF($B469 & $C469=\"\",\"\", IF(ISBLANK(I469),\"BLANK\",\"\"))","v":""},""]
[451,null,null,null,null,null,null,null,null,null,null,null,null,null,"",{"$error":"#N/A"},{"$error":"#N/A"},null,null,null,null,null,null,null,null,null,null,null,null,null,null,null,null,null,null,null,null,125,"No",0,"","65+",0,null,null,null,{"$f":"IF($B470 & $C470=\"\",\"\", IF(ISBLANK(D470),\"BLANK\",\"\"))","v":""},"","","",{"$f":"IF($B470 & $C470=\"\",\"\", IF(ISBLANK(I470),\"BLANK\",\"\"))","v":""},""]
[452,null,null,null,null,null,null,null,null,null,null,null,null,null,"",{"$error":"#N/A"},{"$error":"#N/A"},null,null,null,null,null,null,null,null,null,null,null,null,null,null,null,null,null,null,null,null,125,"No",0,"","65+",0,null,null,null,{"$f":"IF($B471 & $C471=\"\",\"\", IF(ISBLANK(D471),\"BLANK\",\"\"))","v":""},"","","",{"$f":"IF($B471 & $C471=\"\",\"\", IF(ISBLANK(I471),\"BLANK\",\"\"))","v":""},""]
[453,null,null,null,null,null,null,null,null,null,null,null,null,null,"",{"$error":"#N/A"},{"$error":"#N/A"},null,null,null,null,null,null,null,null,null,null,null,null,null,null,null,null,null,null,null,null,125,"No",0,"","65+",0,null,null,null,{"$f":"IF($B472 & $C472=\"\",\"\", IF(ISBLANK(D472),\"BLANK\",\"\"))","v":""},"","","",{"$f":"IF($B472 & $C472=\"\",\"\", IF(ISBLANK(I472),\"BLANK\",\"\"))","v":""},""]
[454,null,null,null,null,null,null,null,null,null,null,null,null,null,"",{"$error":"#N/A"},{"$error":"#N/A"},null,null,null,null,null,null,null,null,null,null,null,null,null,null,null,null,null,null,null,null,125,"No",0,"","65+",0,null,null,null,{"$f":"IF($B473 & $C473=\"\",\"\", IF(ISBLANK(D473),\"BLANK\",\"\"))","v":""},"","","",{"$f":"IF($B473 & $C473=\"\",\"\", IF(ISBLANK(I473),\"BLANK\",\"\"))","v":""},""]
[455,null,null,null,null,null,null,null,null,null,null,null,null,null,"",{"$error":"#N/A"},{"$error":"#N/A"},null,null,null,null,null,null,null,null,null,null,null,null,null,null,null,null,null,null,null,null,125,"No",0,"","65+",0,null,null,null,{"$f":"IF($B474 & $C474=\"\",\"\", IF(ISBLANK(D474),\"BLANK\",\"\"))","v":""},"","","",{"$f":"IF($B474 & $C474=\"\",\"\", IF(ISBLANK(I474),\"BLANK\",\"\"))","v":""},""]
[456,null,null,null,null,null,null,null,null,null,null,null,null,null,"",{"$error":"#N/A"},{"$error":"#N/A"},null,null,null,null,null,null,null,null,null,null,null,null,null,null,null,null,null,null,null,null,125,"No",0,"","65+",0,null,null,null,{"$f":"IF($B475 & $C475=\"\",\"\", IF(ISBLANK(D475),\"BLANK\",\"\"))","v":""},"","","",{"$f":"IF($B475 & $C475=\"\",\"\", IF(ISBLANK(I475),\"BLANK\",\"\"))","v":""},""]
[457,null,null,null,null,null,null,null,null,null,null,null,null,null,"",{"$error":"#N/A"},{"$error":"#N/A"},null,null,null,null,null,null,null,null,null,null,null,null,null,null,null,null,null,null,null,null,125,"No",0,"","65+",0,null,null,null,{"$f":"IF($B476 & $C476=\"\",\"\", IF(ISBLANK(D476),\"BLANK\",\"\"))","v":""},"","","",{"$f":"IF($B476 & $C476=\"\",\"\", IF(ISBLANK(I476),\"BLANK\",\"\"))","v":""},""]
[458,null,null,null,null,null,null,null,null,null,null,null,null,null,"",{"$error":"#N/A"},{"$error":"#N/A"},null,null,null,null,null,null,null,null,null,null,null,null,null,null,null,null,null,null,null,null,125,"No",0,"","65+",0,null,null,null,{"$f":"IF($B477 & $C477=\"\",\"\", IF(ISBLANK(D477),\"BLANK\",\"\"))","v":""},"","","",{"$f":"IF($B477 & $C477=\"\",\"\", IF(ISBLANK(I477),\"BLANK\",\"\"))","v":""},""]
[459,null,null,null,null,null,null,null,null,null,null,null,null,null,"",{"$error":"#N/A"},{"$error":"#N/A"},null,null,null,null,null,null,null,null,null,null,null,null,null,null,null,null,null,null,null,null,125,"No",0,"","65+",0,null,null,null,{"$f":"IF($B478 & $C478=\"\",\"\", IF(ISBLANK(D478),\"BLANK\",\"\"))","v":""},"","","",{"$f":"IF($B478 & $C478=\"\",\"\", IF(ISBLANK(I478),\"BLANK\",\"\"))","v":""},""]
[460,null,null,null,null,null,null,null,null,null,null,null,null,null,"",{"$error":"#N/A"},{"$error":"#N/A"},null,null,null,null,null,null,null,null,null,null,null,null,null,null,null,null,null,null,null,null,125,"No",0,"","65+",0,null,null,null,{"$f":"IF($B479 & $C479=\"\",\"\", IF(ISBLANK(D479),\"BLANK\",\"\"))","v":""},"","","",{"$f":"IF($B479 & $C479=\"\",\"\", IF(ISBLANK(I479),\"BLANK\",\"\"))","v":""},""]
[461,null,null,null,null,null,null,null,null,null,null,null,null,null,"",{"$error":"#N/A"},{"$error":"#N/A"},null,null,null,null,null,null,null,null,null,null,null,null,null,null,null,null,null,null,null,null,125,"No",0,"","65+",0,null,null,null,{"$f":"IF($B480 & $C480=\"\",\"\", IF(ISBLANK(D480),\"BLANK\",\"\"))","v":""},"","","",{"$f":"IF($B480 & $C480=\"\",\"\", IF(ISBLANK(I480),\"BLANK\",\"\"))","v":""},""]
[462,null,null,null,null,null,null,null,null,null,null,null,null,null,"",{"$error":"#N/A"},{"$error":"#N/A"},null,null,null,null,null,null,null,null,null,null,null,null,null,null,null,null,null,null,null,null,125,"No",0,"","65+",0,null,null,null,{"$f":"IF($B481 & $C481=\"\",\"\", IF(ISBLANK(D481),\"BLANK\",\"\"))","v":""},"","","",{"$f":"IF($B481 & $C481=\"\",\"\", IF(ISBLANK(I481),\"BLANK\",\"\"))","v":""},""]
[463,null,null,null,null,null,null,null,null,null,null,null,null,null,"",{"$error":"#N/A"},{"$error":"#N/A"},null,null,null,null,null,null,null,null,null,null,null,null,null,null,null,null,null,null,null,null,125,"No",0,"","65+",0,null,null,null,{"$f":"IF($B482 & $C482=\"\",\"\", IF(ISBLANK(D482),\"BLANK\",\"\"))","v":""},"","","",{"$f":"IF($B482 & $C482=\"\",\"\", IF(ISBLANK(I482),\"BLANK\",\"\"))","v":""},""]
[464,null,null,null,null,null,null,null,null,null,null,null,null,null,"",{"$error":"#N/A"},{"$error":"#N/A"},null,null,null,null,null,null,null,null,null,null,null,null,null,null,null,null,null,null,null,null,125,"No",0,"","65+",0,null,null,null,{"$f":"IF($B483 & $C483=\"\",\"\", IF(ISBLANK(D483),\"BLANK\",\"\"))","v":""},"","","",{"$f":"IF($B483 & $C483=\"\",\"\", IF(ISBLANK(I483),\"BLANK\",\"\"))","v":""},""]
[465,null,null,null,null,null,null,null,null,null,null,null,null,null,"",{"$error":"#N/A"},{"$error":"#N/A"},null,null,null,null,null,null,null,null,null,null,null,null,null,null,null,null,null,null,null,null,125,"No",0,"","65+",0,null,null,null,{"$f":"IF($B484 & $C484=\"\",\"\", IF(ISBLANK(D484),\"BLANK\",\"\"))","v":""},"","","",{"$f":"IF($B484 & $C484=\"\",\"\", IF(ISBLANK(I484),\"BLANK\",\"\"))","v":""},""]
[466,null,null,null,null,null,null,null,null,null,null,null,null,null,"",{"$error":"#N/A"},{"$error":"#N/A"},null,null,null,null,null,null,null,null,null,null,null,null,null,null,null,null,null,null,null,null,125,"No",0,"","65+",0,null,null,null,{"$f":"IF($B485 & $C485=\"\",\"\", IF(ISBLANK(D485),\"BLANK\",\"\"))","v":""},"","","",{"$f":"IF($B485 & $C485=\"\",\"\", IF(ISBLANK(I485),\"BLANK\",\"\"))","v":""},""]
[467,null,null,null,null,null,null,null,null,null,null,null,null,null,"",{"$error":"#N/A"},{"$error":"#N/A"},null,null,null,null,null,null,null,null,null,null,null,null,null,null,null,null,null,null,null,null,125,"No",0,"","65+",0,null,null,null,{"$f":"IF($B486 & $C486=\"\",\"\", IF(ISBLANK(D486),\"BLANK\",\"\"))","v":""},"","","",{"$f":"IF($B486 & $C486=\"\",\"\", IF(ISBLANK(I486),\"BLANK\",\"\"))","v":""},""]
[468,null,null,null,null,null,null,null,null,null,null,null,null,null,"",{"$error":"#N/A"},{"$error":"#N/A"},null,null,null,null,null,null,null,null,null,null,null,null,null,null,null,null,null,null,null,null,125,"No",0,"","65+",0,null,null,null,{"$f":"IF($B487 & $C487=\"\",\"\", IF(ISBLANK(D487),\"BLANK\",\"\"))","v":""},"","","",{"$f":"IF($B487 & $C487=\"\",\"\", IF(ISBLANK(I487),\"BLANK\",\"\"))","v":""},""]
[469,null,null,null,null,null,null,null,null,null,null,null,null,null,"",{"$error":"#N/A"},{"$error":"#N/A"},null,null,null,null,null,null,null,null,null,null,null,null,null,null,null,null,null,null,null,null,125,"No",0,"","65+",0,null,null,null,{"$f":"IF($B488 & $C488=\"\",\"\", IF(ISBLANK(D488),\"BLANK\",\"\"))","v":""},"","","",{"$f":"IF($B488 & $C488=\"\",\"\", IF(ISBLANK(I488),\"BLANK\",\"\"))","v":""},""]
[470,null,null,null,null,null,null,null,null,null,null,null,null,null,"",{"$error":"#N/A"},{"$error":"#N/A"},null,null,null,null,null,null,null,null,null,null,null,null,null,null,null,null,null,null,null,null,125,"No",0,"","65+",0,null,null,null,{"$f":"IF($B489 & $C489=\"\",\"\", IF(ISBLANK(D489),\"BLANK\",\"\"))","v":""},"","","",{"$f":"IF($B489 & $C489=\"\",\"\", IF(ISBLANK(I489),\"BLANK\",\"\"))","v":""},""]
[471,null,null,null,null,null,null,null,null,null,null,null,null,null,"",{"$error":"#N/A"},{"$error":"#N/A"},null,null,null,null,null,null,null,null,null,null,null,null,null,null,null,null,null,null,null,null,125,"No",0,"","65+",0,null,null,null,{"$f":"IF($B490 & $C490=\"\",\"\", IF(ISBLANK(D490),\"BLANK\",\"\"))","v":""},"","","",{"$f":"IF($B490 & $C490=\"\",\"\", IF(ISBLANK(I490),\"BLANK\",\"\"))","v":""},""]
[472,null,null,null,null,null,null,null,null,null,null,null,null,null,"",{"$error":"#N/A"},{"$error":"#N/A"},null,null,null,null,null,null,null,null,null,null,null,null,null,null,null,null,null,null,null,null,125,"No",0,"","65+",0,null,null,null,{"$f":"IF($B491 & $C491=\"\",\"\", IF(ISBLANK(D491),\"BLANK\",\"\"))","v":""},"","","",{"$f":"IF($B491 & $C491=\"\",\"\", IF(ISBLANK(I491),\"BLANK\",\"\"))","v":""},""]
[473,null,null,null,null,null,null,null,null,null,null,null,null,null,"",{"$error":"#N/A"},{"$error":"#N/A"},null,null,null,null,null,null,null,null,null,null,null,null,null,null,null,null,null,null,null,null,125,"No",0,"","65+",0,null,null,null,{"$f":"IF($B492 & $C492=\"\",\"\", IF(ISBLANK(D492),\"BLANK\",\"\"))","v":""},"","","",{"$f":"IF($B492 & $C492=\"\",\"\", IF(ISBLANK(I492),\"BLANK\",\"\"))","v":""},""]
[474,null,null,null,null,null,null,null,null,null,null,null,null,null,"",{"$error":"#N/A"},{"$error":"#N/A"},null,null,null,null,null,null,null,null,null,null,null,null,null,null,null,null,null,null,null,null,125,"No",0,"","65+",0,null,null,null,{"$f":"IF($B493 & $C493=\"\",\"\", IF(ISBLANK(D493),\"BLANK\",\"\"))","v":""},"","","",{"$f":"IF($B493 & $C493=\"\",\"\", IF(ISBLANK(I493),\"BLANK\",\"\"))","v":""},""]
[475,null,null,null,null,null,null,null,null,null,null,null,null,null,"",{"$error":"#N/A"},{"$error":"#N/A"},null,null,null,null,null,null,null,null,null,null,null,null,null,null,null,null,null,null,null,null,125,"No",0,"","65+",0,null,null,null,{"$f":"IF($B494 & $C494=\"\",\"\", IF(ISBLANK(D494),\"BLANK\",\"\"))","v":""},"","","",{"$f":"IF($B494 & $C494=\"\",\"\", IF(ISBLANK(I494),\"BLANK\",\"\"))","v":""},""]
[476,null,null,null,null,null,null,null,null,null,null,null,null,null,"",{"$error":"#N/A"},{"$error":"#N/A"},null,null,null,null,null,null,null,null,null,null,null,null,null,null,null,null,null,null,null,null,125,"No",0,"","65+",0,null,null,null,{"$f":"IF($B495 & $C495=\"\",\"\", IF(ISBLANK(D495),\"BLANK\",\"\"))","v":""},"","","",{"$f":"IF($B495 & $C495=\"\",\"\", IF(ISBLANK(I495),\"BLANK\",\"\"))","v":""},""]
[477,null,null,null,null,null,null,null,null,null,null,null,null,null,"",{"$error":"#N/A"},{"$error":"#N/A"},null,null,null,null,null,null,null,null,null,null,null,null,null,null,null,null,null,null,null,null,125,"No",0,"","65+",0,null,null,null,{"$f":"IF($B496 & $C496=\"\",\"\", IF(ISBLANK(D496),\"BLANK\",\"\"))","v":""},"","","",{"$f":"IF($B496 & $C496=\"\",\"\", IF(ISBLANK(I496),\"BLANK\",\"\"))","v":""},""]
[478,null,null,null,null,null,null,null,null,null,null,null,null,null,"",{"$error":"#N/A"},{"$error":"#N/A"},null,null,null,null,null,null,null,null,null,null,null,null,null,null,null,null,null,null,null,null,125,"No",0,"","65+",0,null,null,null,{"$f":"IF($B497 & $C497=\"\",\"\", IF(ISBLANK(D497),\"BLANK\",\"\"))","v":""},"","","",{"$f":"IF($B497 & $C497=\"\",\"\", IF(ISBLANK(I497),\"BLANK\",\"\"))","v":""},""]
[479,null,null,null,null,null,null,null,null,null,null,null,null,null,"",{"$error":"#N/A"},{"$error":"#N/A"},null,null,null,null,null,null,null,null,null,null,null,null,null,null,null,null,null,null,null,null,125,"No",0,"","65+",0,null,null,null,{"$f":"IF($B498 & $C498=\"\",\"\", IF(ISBLANK(D498),\"BLANK\",\"\"))","v":""},"","","",{"$f":"IF($B498 & $C498=\"\",\"\", IF(ISBLANK(I498),\"BLANK\",\"\"))","v":""},""]
[480,null,null,null,null,null,null,null,null,null,null,null,null,null,"",{"$error":"#N/A"},{"$error":"#N/A"},null,null,null,null,null,null,null,null,null,null,null,null,null,null,null,null,null,null,null,null,125,"No",0,"","65+",0,null,null,null,{"$f":"IF($B499 & $C499=\"\",\"\", IF(ISBLANK(D499),\"BLANK\",\"\"))","v":""},"","","",{"$f":"IF($B499 & $C499=\"\",\"\", IF(ISBLANK(I499),\"BLANK\",\"\"))","v":""},""]
[481,null,null,null,null,null,null,null,null,null,null,null,null,null,"",{"$error":"#N/A"},{"$error":"#N/A"},null,null,null,null,null,null,null,null,null,null,null,null,null,null,null,null,null,null,null,null,125,"No",0,"","65+",0,null,null,null,{"$f":"IF($B500 & $C500=\"\",\"\", IF(ISBLANK(D500),\"BLANK\",\"\"))","v":""},"","","",{"$f":"IF($B500 & $C500=\"\",\"\", IF(ISBLANK(I500),\"BLANK\",\"\"))","v":""},""]
[488,null,null,null,null,null,null,null,null,null,null,null,null,null,"",{"$error":"#N/A"},{"$error":"#N/A"},null,null,null,null,null,null,null,null,null,null,null,null,null,null,null,null,null,null,null,null,125,"No",0,"","65+",0,null,null,null,{"$f":"IF($B507 & $C507=\"\",\"\", IF(ISBLANK(D507),\"BLANK\",\"\"))","v":""},"","","",{"$f":"IF($B507 & $C507=\"\",\"\", IF(ISBLANK(I507),\"BLANK\",\"\"))","v":""},""]
[497,null,null,null,null,null,null,null,null,null,null,null,null,null,"",{"$error":"#N/A"},{"$error":"#N/A"},null,null,null,null,null,null,null,null,null,null,null,null,null,null,null,null,null,null,null,null,125,"No",0,"","65+",0,null,null,null,{"$f":"IF($B516 & $C516=\"\",\"\", IF(ISBLANK(D516),\"BLANK\",\"\"))","v":""},"","","",{"$f":"IF($B516 & $C516=\"\",\"\", IF(ISBLANK(I516),\"BLANK\",\"\"))","v":""},""]
[502,null,null,null,null,null,null,null,null,null,null,null,null,null,"",{"$error":"#N/A"},{"$error":"#N/A"},null,null,null,null,null,null,null,null,null,null,null,null,null,null,null,null,null,null,null,null,125,"No",0,"","65+",0,null,null,null,{"$f":"IF($B521 & $C521=\"\",\"\", IF(ISBLANK(D521),\"BLANK\",\"\"))","v":""},"","","",{"$f":"IF($B521 & $C521=\"\",\"\", IF(ISBLANK(I521),\"BLANK\",\"\"))","v":""},""]
[513,null,null,null,null,null,null,null,null,null,null,null,null,null,"",{"$error":"#N/A"},{"$error":"#N/A"},null,null,null,null,null,null,null,null,null,null,null,null,null,null,null,null,null,null,null,null,125,"No",0,"","65+",0,null,null,null,{"$f":"IF($B532 & $C532=\"\",\"\", IF(ISBLANK(D532),\"BLANK\",\"\"))","v":""},"","","",{"$f":"IF($B532 & $C532=\"\",\"\", IF(ISBLANK(I532),\"BLANK\",\"\"))","v":""},""]
[529,null,null,null,null,null,null,null,null,null,null,null,null,null,"",{"$error":"#N/A"},{"$error":"#N/A"},null,null,null,null,null,null,null,null,null,null,null,null,null,null,null,null,null,null,null,null,125,"No",0,"","65+",0,null,null,null,{"$f":"IF($B548 & $C548=\"\",\"\", IF(ISBLANK(D548),\"BLANK\",\"\"))","v":""},"","","",{"$f":"IF($B548 & $C548=\"\",\"\", IF(ISBLANK(I548),\"BLANK\",\"\"))","v":""},""]
[532,null,null,null,null,null,null,null,null,null,null,null,null,null,"",{"$error":"#N/A"},{"$error":"#N/A"},null,null,null,null,null,null,null,null,null,null,null,null,null,null,null,null,null,null,null,null,125,"No",0,"","65+",0,null,null,null,{"$f":"IF($B551 & $C551=\"\",\"\", IF(ISBLANK(D551),\"BLANK\",\"\"))","v":""},"","","",{"$f":"IF($B551 & $C551=\"\",\"\", IF(ISBLANK(I551),\"BLANK\",\"\"))","v":""},""]
[543,null,null,null,null,null,null,null,null,null,null,null,null,null,"",{"$error":"#N/A"},{"$error":"#N/A"},null,null,null,null,null,null,null,null,null,null,null,null,null,null,null,null,null,null,null,null,125,"No",0,"","65+",0,null,null,null,{"$f":"IF($B562 & $C562=\"\",\"\", IF(ISBLANK(D562),\"BLANK\",\"\"))","v":""},"","","",{"$f":"IF($B562 & $C562=\"\",\"\", IF(ISBLANK(I562),\"BLANK\",\"\"))","v":""},""]
[558,null,null,null,null,null,null,null,null,null,null,null,null,null,"",{"$error":"#N/A"},{"$error":"#N/A"},null,null,null,null,null,null,null,null,null,null,null,null,null,null,null,null,null,null,null,null,125,"No",0,"","65+",0,null,null,null,{"$f":"IF($B577 & $C577=\"\",\"\", IF(ISBLANK(D577),\"BLANK\",\"\"))","v":""},"","","",{"$f":"IF($B577 & $C577=\"\",\"\", IF(ISBLANK(I577),\"BLANK\",\"\"))","v":""},""]
[569,null,null,null,null,null,null,null,null,null,null,null,null,null,"",{"$error":"#N/A"},{"$error":"#N/A"},null,null,null,null,null,null,null,null,null,null,null,null,null,null,null,null,null,null,null,null,125,"No",0,"","65+",0,null,null,null,{"$f":"IF($B588 & $C588=\"\",\"\", IF(ISBLANK(D588),\"BLANK\",\"\"))","v":""},"","","",{"$f":"IF($B588 & $C588=\"\",\"\", IF(ISBLANK(I588),\"BLANK\",\"\"))","v":""},""]
[574,null,null,null,null,null,null,null,null,null,null,null,null,null,"",{"$error":"#N/A"},{"$error":"#N/A"},null,null,null,null,null,null,null,null,null,null,null,null,null,null,null,null,null,null,null,null,125,"No",0,"","65+",0,null,null,null,{"$f":"IF($B593 & $C593=\"\",\"\", IF(ISBLANK(D593),\"BLANK\",\"\"))","v":""},"","","",{"$f":"IF($B593 & $C593=\"\",\"\", IF(ISBLANK(I593),\"BLANK\",\"\"))","v":""},""]
[588,null,null,null,null,null,null,null,null,null,null,null,null,null,"",{"$error":"#N/A"},{"$error":"#N/A"},null,null,null,null,null,null,null,null,null,null,null,null,null,null,null,null,null,null,null,null,125,"No",0,"","65+",0,null,null,null,{"$f":"IF($B607 & $C607=\"\",\"\", IF(ISBLANK(D607),\"BLANK\",\"\"))","v":""},"","","",{"$f":"IF($B607 & $C607=\"\",\"\", IF(ISBLANK(I607),\"BLANK\",\"\"))","v":""},""]
[589,null,null,null,null,null,null,null,null,null,null,null,null,null,"",{"$error":"#N/A"},{"$error":"#N/A"},null,null,null,null,null,null,null,null,null,null,null,null,null,null,null,null,null,null,null,null,125,"No",0,"","65+",0,null,null,null,{"$f":"IF($B608 & $C608=\"\",\"\", IF(ISBLANK(D608),\"BLANK\",\"\"))","v":""},"","","",{"$f":"IF($B608 & $C608=\"\",\"\", IF(ISBLANK(I608),\"BLANK\",\"\"))","v":""},""]
[604,null,null,null,null,null,null,null,null,null,null,null,null,null,"",{"$error":"#N/A"},{"$error":"#N/A"},null,null,null,null,null,null,null,null,null,null,null,null,null,null,null,null,null,null,null,null,125,"No",0,"","65+",0,null,null,null,{"$f":"IF($B623 & $C623=\"\",\"\", IF(ISBLANK(D623),\"BLANK\",\"\"))","v":""},"","","",{"$f":"IF($B623 & $C623=\"\",\"\", IF(ISBLANK(I623),\"BLANK\",\"\"))","v":""},""]
[609,null,null,null,null,null,null,null,null,null,null,null,null,null,"",{"$error":"#N/A"},{"$error":"#N/A"},null,null,null,null,null,null,null,null,null,null,null,null,null,null,null,null,null,null,null,null,125,"No",0,"","65+",0,null,null,null,{"$f":"IF($B628 & $C628=\"\",\"\", IF(ISBLANK(D628),\"BLANK\",\"\"))","v":""},"","","",{"$f":"IF($B628 & $C628=\"\",\"\", IF(ISBLANK(I628),\"BLANK\",\"\"))","v":""},""]
[619,null,null,null,null,null,null,null,null,null,null,null,null,null,"",{"$error":"#N/A"},{"$error":"#N/A"},null,null,null,null,null,null,null,null,null,null,null,null,null,null,null,null,null,null,null,null,125,"No",0,"","65+",0,null,null,null,{"$f":"IF($B638 & $C638=\"\",\"\", IF(ISBLANK(D638),\"BLANK\",\"\"))","v":""},"","","",{"$f":"IF($B638 & $C638=\"\",\"\", IF(ISBLANK(I638),\"BLANK\",\"\"))","v":""},""]
[634,null,null,null,null,null,null,null,null,null,null,null,null,null,"",{"$error":"#N/A"},{"$error":"#N/A"},null,null,null,null,null,null,null,null,null,null,null,null,null,null,null,null,null,null,null,null,125,"No",0,"","65+",0,null,null,null,{"$f":"IF($B653 & $C653=\"\",\"\", IF(ISBLANK(D653),\"BLANK\",\"\"))","v":""},"","","",{"$f":"IF($B653 & $C653=\"\",\"\", IF(ISBLANK(I653),\"BLANK\",\"\"))","v":""},""]
[645,null,null,null,null,null,null,null,null,null,null,null,null,null,"",{"$error":"#N/A"},{"$error":"#N/A"},null,null,null,null,null,null,null,null,null,null,null,null,null,null,null,null,null,null,null,null,125,"No",0,"","65+",0,null,null,null,{"$f":"IF($B664 & $C664=\"\",\"\", IF(ISBLANK(D664),\"BLANK\",\"\"))","v":""},"","","",{"$f":"IF($B664 & $C664=\"\",\"\", IF(ISBLANK(I664),\"BLANK\",\"\"))","v":""},""]
[650,null,null,null,null,null,null,null,null,null,null,null,null,null,"",{"$error":"#N/A"},{"$error":"#N/A"},null,null,null,null,null,null,null,null,null,null,null,null,null,null,null,null,null,null,null,null,125,"No",0,"","65+",0,null,null,null,{"$f":"IF($B669 & $C669=\"\",\"\", IF(ISBLANK(D669),\"BLANK\",\"\"))","v":""},"","","",{"$f":"IF($B669 & $C669=\"\",\"\", IF(ISBLANK(I669),\"BLANK\",\"\"))","v":""},""]
[665,null,null,null,null,null,null,null,null,null,null,null,null,null,"",{"$error":"#N/A"},{"$error":"#N/A"},null,null,null,null,null,null,null,null,null,null,null,null,null,null,null,null,null,null,null,null,125,"No",0,"","65+",0,null,null,null,{"$f":"IF($B684 & $C684=\"\",\"\", IF(ISBLANK(D684),\"BLANK\",\"\"))","v":""},"","","",{"$f":"IF($B684 & $C684=\"\",\"\", IF(ISBLANK(I684),\"BLANK\",\"\"))","v":""},""]
[675,null,null,null,null,null,null,null,null,null,null,null,null,null,"",{"$error":"#N/A"},{"$error":"#N/A"},null,null,null,null,null,null,null,null,null,null,null,null,null,null,null,null,null,null,null,null,125,"No",0,"","65+",0,null,null,null,{"$f":"IF($B694 & $C694=\"\",\"\", IF(ISBLANK(D694),\"BLANK\",\"\"))","v":""},"","","",{"$f":"IF($B694 & $C694=\"\",\"\", IF(ISBLANK(I694),\"BLANK\",\"\"))","v":""},""]
[680,null,null,null,null,null,null,null,null,null,null,null,null,null,"",{"$error":"#N/A"},{"$error":"#N/A"},null,null,null,null,null,null,null,null,null,null,null,null,null,null,null,null,null,null,null,null,125,"No",0,"","65+",0,null,null,null,{"$f":"IF($B699 & $C699=\"\",\"\", IF(ISBLANK(D699),\"BLANK\",\"\"))","v":""},"","","",{"$f":"IF($B699 & $C699=\"\",\"\", IF(ISBLANK(I699),\"BLANK\",\"\"))","v":""},""]
[691,null,null,null,null,null,null,null,null,null,null,null,null,null,"",{"$error":"#N/A"},{"$error":"#N/A"},null,null,null,null,null,null,null,null,null,null,null,null,null,null,null,null,null,null,null,null,125,"No",0,"","65+",0,null,null,null,{"$f":"IF($B710 & $C710=\"\",\"\", IF(ISBLANK(D710),\"BLANK\",\"\"))","v":""},"","","",{"$f":"IF($B710 & $C710=\"\",\"\", IF(ISBLANK(I710),\"BLANK\",\"\"))","v":""},""]
[706,null,null,null,null,null,null,null,null,null,null,null,null,null,"",{"$error":"#N/A"},{"$error":"#N/A"},null,null,null,null,null,null,null,null,null,null,null,null,null,null,null,null,null,null,null,null,125,"No",0,"","65+",0,null,null,null,{"$f":"IF($B725 & $C725=\"\",\"\", IF(ISBLANK(D725),\"BLANK\",\"\"))","v":""},"","","",{"$f":"IF($B725 & $C725=\"\",\"\", IF(ISBLANK(I725),\"BLANK\",\"\"))","v":""},""]
[710,null,null,null,null,null,null,null,null,null,null,null,null,null,"",{"$error":"#N/A"},{"$error":"#N/A"},null,null,null,null,null,null,null,null,null,null,null,null,null,null,null,null,null,null,null,null,125,"No",0,"","65+",0,null,null,null,{"$f":"IF($B729 & $C729=\"\",\"\", IF(ISBLANK(D729),\"BLANK\",\"\"))","v":""},"","","",{"$f":"IF($B729 & $C729=\"\",\"\", IF(ISBLANK(I729),\"BLANK\",\"\"))","v":""},""]
[721,null,null,null,null,null,null,null,null,null,null,null,null,null,"",{"$error":"#N/A"},{"$error":"#N/A"},null,null,null,null,null,null,null,null,null,null,null,null,null,null,null,null,null,null,null,null,125,"No",0,"","65+",0,null,null,null,{"$f":"IF($B740 & $C740=\"\",\"\", IF(ISBLANK(D740),\"BLANK\",\"\"))","v":""},"","","",{"$f":"IF($B740 & $C740=\"\",\"\", IF(ISBLANK(I740),\"BLANK\",\"\"))","v":""},""]
[726,null,null,null,null,null,null,null,null,null,null,null,null,null,"",{"$error":"#N/A"},{"$error":"#N/A"},null,null,null,null,null,null,null,null,null,null,null,null,null,null,null,null,null,null,null,null,125,"No",0,"","65+",0,null,null,null,{"$f":"IF($B745 & $C745=\"\",\"\", IF(ISBLANK(D745),\"BLANK\",\"\"))","v":""},"","","",{"$f":"IF($B745 & $C745=\"\",\"\", IF(ISBLANK(I745),\"BLANK\",\"\"))","v":""},""]
[741,null,null,null,null,null,null,null,null,null,null,null,null,null,"",{"$error":"#N/A"},{"$error":"#N/A"},null,null,null,null,null,null,null,null,null,null,null,null,null,null,null,null,null,null,null,null,125,"No",0,"","65+",0,null,null,null,{"$f":"IF($B760 & $C760=\"\",\"\", IF(ISBLANK(D760),\"BLANK\",\"\"))","v":""},"","","",{"$f":"IF($B760 & $C760=\"\",\"\", IF(ISBLANK(I760),\"BLANK\",\"\"))","v":""},""]
[752,null,null,null,null,null,null,null,null,null,null,null,null,null,"",{"$error":"#N/A"},{"$error":"#N/A"},null,null,null,null,null,null,null,null,null,null,null,null,null,null,null,null,null,null,null,null,125,"No",0,"","65+",0,null,null,null,{"$f":"IF($B771 & $C771=\"\",\"\", IF(ISBLANK(D771),\"BLANK\",\"\"))","v":""},"","","",{"$f":"IF($B771 & $C771=\"\",\"\", IF(ISBLANK(I771),\"BLANK\",\"\"))","v":""},""]
[764,null,null,null,null,null,null,null,null,null,null,null,null,null,"",{"$error":"#N/A"},{"$error":"#N/A"},null,null,null,null,null,null,null,null,null,null,null,null,null,null,null,null,null,null,null,null,125,"No",0,"","65+",0,null,null,null,{"$f":"IF($B783 & $C783=\"\",\"\", IF(ISBLANK(D783),\"BLANK\",\"\"))","v":""},"","","",{"$f":"IF($B783 & $C783=\"\",\"\", IF(ISBLANK(I783),\"BLANK\",\"\"))","v":""},""]
[767,null,null,null,null,null,null,null,null,null,null,null,null,null,"",{"$error":"#N/A"},{"$error":"#N/A"},null,null,null,null,null,null,null,null,null,null,null,null,null,null,null,null,null,null,null,null,125,"No",0,"","65+",0,null,null,null,{"$f":"IF($B786 & $C786=\"\",\"\", IF(ISBLANK(D786),\"BLANK\",\"\"))","v":""},"","","",{"$f":"IF($B786 & $C786=\"\",\"\", IF(ISBLANK(I786),\"BLANK\",\"\"))","v":""},""]
[782,null,null,null,null,null,null,null,null,null,null,null,null,null,"",{"$error":"#N/A"},{"$error":"#N/A"},null,null,null,null,null,null,null,null,null,null,null,null,null,null,null,null,null,null,null,null,125,"No",0,"","65+",0,null,null,null,{"$f":"IF($B801 & $C801=\"\",\"\", IF(ISBLANK(D801),\"BLANK\",\"\"))","v":""},"","","",{"$f":"IF($B801 & $C801=\"\",\"\", IF(ISBLANK(I801),\"BLANK\",\"\"))","v":""},""]
[787,null,null,null,null,null,null,null,null,null,null,null,null,null,"",{"$error":"#N/A"},{"$error":"#N/A"},null,null,null,null,null,null,null,null,null,null,null,null,null,null,null,null,null,null,null,null,125,"No",0,"","65+",0,null,null,null,{"$f":"IF($B806 & $C806=\"\",\"\", IF(ISBLANK(D806),\"BLANK\",\"\"))","v":""},"","","",{"$f":"IF($B806 & $C806=\"\",\"\", IF(ISBLANK(I806),\"BLANK\",\"\"))","v":""},""]
[798,null,null,null,null,null,null,null,null,null,null,null,null,null,"",{"$error":"#N/A"},{"$error":"#N/A"},null,null,null,null,null,null,null,null,null,null,null,null,null,null,null,null,null,null,null,null,125,"No",0,"","65+",0,null,null,null,{"$f":"IF($B817 & $C817=\"\",\"\", IF(ISBLANK(D817),\"BLANK\",\"\"))","v":""},"","","",{"$f":"IF($B817 & $C817=\"\",\"\", IF(ISBLANK(I817),\"BLANK\",\"\"))","v":""},""]
[809,null,null,null,null,null,null,null,null,null,null,null,null,null,"",{"$error":"#N/A"},{"$error":"#N/A"},null,null,null,null,null,null,null,null,null,null,null,null,null,null,null,null,null,null,null,null,125,"No",0,"","65+",0,null,null,null,{"$f":"IF($B828 & $C828=\"\",\"\", IF(ISBLANK(D828),\"BLANK\",\"\"))","v":""},"","","",{"$f":"IF($B828 & $C828=\"\",\"\", IF(ISBLANK(I828),\"BLANK\",\"\"))","v":""},""]
[817,null,null,null,null,null,null,null,null,null,null,null,null,null,"",{"$error":"#N/A"},{"$error":"#N/A"},null,null,null,null,null,null,null,null,null,null,null,null,null,null,null,null,null,null,null,null,125,"No",0,"","65+",0,null,null,null,{"$f":"IF($B836 & $C836=\"\",\"\", IF(ISBLANK(D836),\"BLANK\",\"\"))","v":""},"","","",{"$f":"IF($B836 & $C836=\"\",\"\", IF(ISBLANK(I836),\"BLANK\",\"\"))","v":""},""]
[828,null,null,null,null,null,null,null,null,null,null,null,null,null,"",{"$error":"#N/A"},{"$error":"#N/A"},null,null,null,null,null,null,null,null,null,null,null,null,null,null,null,null,null,null,null,null,125,"No",0,"","65+",0,null,null,null,{"$f":"IF($B847 & $C847=\"\",\"\", IF(ISBLANK(D847),\"BLANK\",\"\"))","v":""},"","","",{"$f":"IF($B847 & $C847=\"\",\"\", IF(ISBLANK(I847),\"BLANK\",\"\"))","v":""},""]
[843,null,null,null,null,null,null,null,null,null,null,null,null,null,"",{"$error":"#N/A"},{"$error":"#N/A"},null,null,null,null,null,null,null,null,null,null,null,null,null,null,null,null,null,null,null,null,125,"No",0,"","65+",0,null,null,null,{"$f":"IF($B862 & $C862=\"\",\"\", IF(ISBLANK(D862),\"BLANK\",\"\"))","v":""},"","","",{"$f":"IF($B862 & $C862=\"\",\"\", IF(ISBLANK(I862),\"BLANK\",\"\"))","v":""},""]
[850,null,null,null,null,null,null,null,null,null,null,null,null,null,"",{"$error":"#N/A"},{"$error":"#N/A"},null,null,null,null,null,null,null,null,null,null,null,null,null,null,null,null,null,null,null,null,125,"No",0,"","65+",0,null,null,null,{"$f":"IF($B869 & $C869=\"\",\"\", IF(ISBLANK(D869),\"BLANK\",\"\"))","v":""},"","","",{"$f":"IF($B869 & $C869=\"\",\"\", IF(ISBLANK(I869),\"BLANK\",\"\"))","v":""},""]
[858,null,null,null,null,null,null,null,null,null,null,null,null,null,"",{"$error":"#N/A"},{"$error":"#N/A"},null,null,null,null,null,null,null,null,null,null,null,null,null,null,null,null,null,null,null,null,125,"No",0,"","65+",0,null,null,null,{"$f":"IF($B877 & $C877=\"\",\"\", IF(ISBLANK(D877),\"BLANK\",\"\"))","v":""},"","","",{"$f":"IF($B877 & $C877=\"\",\"\", IF(ISBLANK(I877),\"BLANK\",\"\"))","v":""},""]
[863,null,null,null,null,null,null,null,null,null,null,null,null,null,"",{"$error":"#N/A"},{"$error":"#N/A"},null,null,null,null,null,null,null,null,null,null,null,null,null,null,null,null,null,null,null,null,125,"No",0,"","65+",0,null,null,null,{"$f":"IF($B882 & $C882=\"\",\"\", IF(ISBLANK(D882),\"BLANK\",\"\"))","v":""},"","","",{"$f":"IF($B882 & $C882=\"\",\"\", IF(ISBLANK(I882),\"BLANK\",\"\"))","v":""},""]
[874,null,null,null,null,null,null,null,null,null,null,null,null,null,"",{"$error":"#N/A"},{"$error":"#N/A"},null,null,null,null,null,null,null,null,null,null,null,null,null,null,null,null,null,null,null,null,125,"No",0,"","65+",0,null,null,null,{"$f":"IF($B893 & $C893=\"\",\"\", IF(ISBLANK(D893),\"BLANK\",\"\"))","v":""},"","","",{"$f":"IF($B893 & $C893=\"\",\"\", IF(ISBLANK(I893),\"BLANK\",\"\"))","v":""},""]
[889,null,null,null,null,null,null,null,null,null,null,null,null,null,"",{"$error":"#N/A"},{"$error":"#N/A"},null,null,null,null,null,null,null,null,null,null,null,null,null,null,null,null,null,null,null,null,125,"No",0,"","65+",0,null,null,null,{"$f":"IF($B908 & $C908=\"\",\"\", IF(ISBLANK(D908),\"BLANK\",\"\"))","v":""},"","","",{"$f":"IF($B908 & $C908=\"\",\"\", IF(ISBLANK(I908),\"BLANK\",\"\"))","v":""},""]
[895,null,null,null,null,null,null,null,null,null,null,null,null,null,"",{"$error":"#N/A"},{"$error":"#N/A"},null,null,null,null,null,null,null,null,null,null,null,null,null,null,null,null,null,null,null,null,125,"No",0,"","65+",0,null,null,null,{"$f":"IF($B914 & $C914=\"\",\"\", IF(ISBLANK(D914),\"BLANK\",\"\"))","v":""},"","","",{"$f":"IF($B914 & $C914=\"\",\"\", IF(ISBLANK(I914),\"BLANK\",\"\"))","v":""},""]
[904,null,null,null,null,null,null,null,null,null,null,null,null,null,"",{"$error":"#N/A"},{"$error":"#N/A"},null,null,null,null,null,null,null,null,null,null,null,null,null,null,null,null,null,null,null,null,125,"No",0,"","65+",0,null,null,null,{"$f":"IF($B923 & $C923=\"\",\"\", IF(ISBLANK(D923),\"BLANK\",\"\"))","v":""},"","","",{"$f":"IF($B923 & $C923=\"\",\"\", IF(ISBLANK(I923),\"BLANK\",\"\"))","v":""},""]
[919,null,null,null,null,null,null,null,null,null,null,null,null,null,"",{"$error":"#N/A"},{"$error":"#N/A"},null,null,null,null,null,null,null,null,null,null,null,null,null,null,null,null,null,null,null,null,125,"No",0,"","65+",0,null,null,null,{"$f":"IF($B938 & $C938=\"\",\"\", IF(ISBLANK(D938),\"BLANK\",\"\"))","v":""},"","","",{"$f":"IF($B938 & $C938=\"\",\"\", IF(ISBLANK(I938),\"BLANK\",\"\"))","v":""},""]
[930,null,null,null,null,null,null,null,null,null,null,null,null,null,"",{"$error":"#N/A"},{"$error":"#N/A"},null,null,null,null,null,null,null,null,null,null,null,null,null,null,null,null,null,null,null,null,125,"No",0,"","65+",0,null,null,null,{"$f":"IF($B949 & $C949=\"\",\"\", IF(ISBLANK(D949),\"BLANK\",\"\"))","v":""},"","","",{"$f":"IF($B949 & $C949=\"\",\"\", IF(ISBLANK(I949),\"BLANK\",\"\"))","v":""},""]
[935,null,null,null,null,null,null,null,null,null,null,null,null,null,"",{"$error":"#N/A"},{"$error":"#N/A"},null,null,null,null,null,null,null,null,null,null,null,null,null,null,null,null,null,null,null,null,125,"No",0,"","65+",0,null,null,null,{"$f":"IF($B954 & $C954=\"\",\"\", IF(ISBLANK(D954),\"BLANK\",\"\"))","v":""},"","","",{"$f":"IF($B954 & $C954=\"\",\"\", IF(ISBLANK(I954),\"BLANK\",\"\"))","v":""},""]
[945,null,null,null,null,null,null,null,null,null,null,null,null,null,"",{"$error":"#N/A"},{"$error":"#N/A"},null,null,null,null,null,null,null,null,null,null,null,null,null,null,null,null,null,null,null,null,125,"No",0,"","65+",0,null,null,null,{"$f":"IF($B964 & $C964=\"\",\"\", IF(ISBLANK(D964),\"BLANK\",\"\"))","v":""},"","","",{"$f":"IF($B964 & $C964=\"\",\"\", IF(ISBLANK(I964),\"BLANK\",\"\"))","v":""},""]
[960,null,null,null,null,null,null,null,null,null,null,null,null,null,"",{"$error":"#N/A"},{"$error":"#N/A"},null,null,null,null,null,null,null,null,null,null,null,null,null,null,null,null,null,null,null,null,125,"No",0,"","65+",0,null,null,null,{"$f":"IF($B979 & $C979=\"\",\"\", IF(ISBLANK(D979),\"BLANK\",\"\"))","v":""},"","","",{"$f":"IF($B979 & $C979=\"\",\"\", IF(ISBLANK(I979),\"BLANK\",\"\"))","v":""},""]
[965,null,null,null,null,null,null,null,null,null,null,null,null,null,"",{"$error":"#N/A"},{"$error":"#N/A"},null,null,null,null,null,null,null,null,null,null,null,null,null,null,null,null,null,null,null,null,125,"No",0,"","65+",0,null,null,null,{"$f":"IF($B984 & $C984=\"\",\"\", IF(ISBLANK(D984),\"BLANK\",\"\"))","v":""},"","","",{"$f":"IF($B984 & $C984=\"\",\"\", IF(ISBLANK(I984),\"BLANK\",\"\"))","v":""},""]
[976,null,null,null,null,null,null,null,null,null,null,null,null,null,"",{"$error":"#N/A"},{"$error":"#N/A"},null,null,null,null,null,null,null,null,null,null,null,null,null,null,null,null,null,null,null,null,125,"No",0,"","65+",0,null,null,null,{"$f":"IF($B995 & $C995=\"\",\"\", IF(ISBLANK(D995),\"BLANK\",\"\"))","v":""},"","","",{"$f":"IF($B995 & $C995=\"\",\"\", IF(ISBLANK(I995),\"BLANK\",\"\"))","v":""},""]
[986,null,null,null,null,null,null,null,null,null,null,null,null,null,"",{"$error":"#N/A"},{"$error":"#N/A"},null,null,null,null,null,null,null,null,null,null,null,null,null,null,null,null,null,null,null,null,125,"No",0,"","65+",0,null,null,null,{"$f":"IF($B1005 & $C1005=\"\",\"\", IF(ISBLANK(D1005),\"BLANK\",\"\"))","v":""},"","","",{"$f":"IF($B1005 & $C1005=\"\",\"\", IF(ISBLANK(I1005),\"BLANK\",\"\"))","v":""},""]
[995,null,null,null,null,null,null,null,null,null,null,null,null,null,"",{"$error":"#N/A"},{"$error":"#N/A"},null,null,null,null,null,null,null,null,null,null,null,null,null,null,null,null,null,null,null,null,125,"No",0,"","65+",0,null,null,null,{"$f":"IF($B1014 & $C1014=\"\",\"\", IF(ISBLANK(D1014),\"BLANK\",\"\"))","v":""},"","","",{"$f":"IF($B1014 & $C1014=\"\",\"\", IF(ISBLANK(I1014),\"BLANK\",\"\"))","v":""},""]
[1006,null,null,null,null,null,null,null,null,null,null,null,null,null,"",{"$error":"#N/A"},{"$error":"#N/A"},null,null,null,null,null,null,null,null,null,null,null,null,null,null,null,null,null,null,null,null,125,"No",0,"","65+",0,null,null,null,{"$f":"IF($B1025 & $C1025=\"\",\"\", IF(ISBLANK(D1025),\"BLANK\",\"\"))","v":""},"","","",{"$f":"IF($B1025 & $C1025=\"\",\"\", IF(ISBLANK(I1025),\"BLANK\",\"\"))","v":""},""]
[1011,null,null,null,null,null,null,null,null,null,null,null,null,null,"",{"$error":"#N/A"},{"$error":"#N/A"},null,null,null,null,null,null,null,null,null,null,null,null,null,null,null,null,null,null,null,null,125,"No",0,"","65+",0,null,null,null,{"$f":"IF($B1030 & $C1030=\"\",\"\", IF(ISBLANK(D1030),\"BLANK\",\"\"))","v":""},"","","",{"$f":"IF($B1030 & $C1030=\"\",\"\", IF(ISBLANK(I1030),\"BLANK\",\"\"))","v":""},""]
[1022,null,null,null,null,null,null,null,null,null,null,null,null,null,"",{"$error":"#N/A"},{"$error":"#N/A"},null,null,null,null,null,null,null,null,null,null,null,null,null,null,null,null,null,null,null,null,125,"No",0,"","65+",0,null,null,null,{"$f":"IF($B1041 & $C1041=\"\",\"\", IF(ISBLANK(D1041),\"BLANK\",\"\"))","v":""},"","","",{"$f":"IF($B1041 & $C1041=\"\",\"\", IF(ISBLANK(I1041),\"BLANK\",\"\"))","v":""},""]
[1031,null,null,null,null,null,null,null,null,null,null,null,null,null,"",{"$error":"#N/A"},{"$error":"#N/A"},null,null,null,null,null,null,null,null,null,null,null,null,null,null,null,null,null,null,null,null,125,"No",0,"","65+",0,null,null,null,{"$f":"IF($B1050 & $C1050=\"\",\"\", IF(ISBLANK(D1050),\"BLANK\",\"\"))","v":""},"","","",{"$f":"IF($B1050 & $C1050=\"\",\"\", IF(ISBLANK(I1050),\"BLANK\",\"\"))","v":""},""]
[1041,null,null,null,null,null,null,null,null,null,null,null,null,null,"",{"$error":"#N/A"},{"$error":"#N/A"},null,null,null,null,null,null,null,null,null,null,null,null,null,null,null,null,null,null,null,null,125,"No",0,"","65+",0,null,null,null,{"$f":"IF($B1060 & $C1060=\"\",\"\", IF(ISBLANK(D1060),\"BLANK\",\"\"))","v":""},"","","",{"$f":"IF($B1060 & $C1060=\"\",\"\", IF(ISBLANK(I1060),\"BLANK\",\"\"))","v":""},""]
[1052,null,null,null,null,null,null,null,null,null,null,null,null,null,"",{"$error":"#N/A"},{"$error":"#N/A"},null,null,null,null,null,null,null,null,null,null,null,null,null,null,null,null,null,null,null,null,125,"No",0,"","65+",0,null,null,null,{"$f":"IF($B1071 & $C1071=\"\",\"\", IF(ISBLANK(D1071),\"BLANK\",\"\"))","v":""},"","","",{"$f":"IF($B1071 & $C1071=\"\",\"\", IF(ISBLANK(I1071),\"BLANK\",\"\"))","v":""},""]
[1067,null,null,null,null,null,null,null,null,null,null,null,null,null,"",{"$error":"#N/A"},{"$error":"#N/A"},null,null,null,null,null,null,null,null,null,null,null,null,null,null,null,null,null,null,null,null,125,"No",0,"","65+",0,null,null,null,{"$f":"IF($B1086 & $C1086=\"\",\"\", IF(ISBLANK(D1086),\"BLANK\",\"\"))","v":""},"","","",{"$f":"IF($B1086 & $C1086=\"\",\"\", IF(ISBLANK(I1086),\"BLANK\",\"\"))","v":""},""]
[1072,null,null,null,null,null,null,null,null,null,null,null,null,null,"",{"$error":"#N/A"},{"$error":"#N/A"},null,null,null,null,null,null,null,null,null,null,null,null,null,null,null,null,null,null,null,null,125,"No",0,"","65+",0,null,null,null,{"$f":"IF($B1091 & $C1091=\"\",\"\", IF(ISBLANK(D1091),\"BLANK\",\"\"))","v":""},"","","",{"$f":"IF($B1091 & $C1091=\"\",\"\", IF(ISBLANK(I1091),\"BLANK\",\"\"))","v":""},""]
[1085,null,null,null,null,null,null,null,null,null,null,null,null,null,"",{"$error":"#N/A"},{"$error":"#N/A"},null,null,null,null,null,null,null,null,null,null,null,null,null,null,null,null,null,null,null,null,125,"No",0,"","65+",0,null,null,null,{"$f":"IF($B1104 & $C1104=\"\",\"\", IF(ISBLANK(D1104),\"BLANK\",\"\"))","v":""},"","","",{"$f":"IF($B1104 & $C1104=\"\",\"\", IF(ISBLANK(I1104),\"BLANK\",\"\"))","v":""},""]
[1097,null,null,null,null,null,null,null,null,null,null,null,null,null,"",{"$error":"#N/A"},{"$error":"#N/A"},null,null,null,null,null,null,null,null,null,null,null,null,null,null,null,null,null,null,null,null,125,"No",0,"","65+",0,null,null,null,{"$f":"IF($B1116 & $C1116=\"\",\"\", IF(ISBLANK(D1116),\"BLANK\",\"\"))","v":""},"","","",{"$f":"IF($B1116 & $C1116=\"\",\"\", IF(ISBLANK(I1116),\"BLANK\",\"\"))","v":""},""]
[1098,null,null,null,null,null,null,null,null,null,null,null,null,null,"",{"$error":"#N/A"},{"$error":"#N/A"},null,null,null,null,null,null,null,null,null,null,null,null,null,null,null,null,null,null,null,null,125,"No",0,"","65+",0,null,null,null,{"$f":"IF($B1117 & $C1117=\"\",\"\", IF(ISBLANK(D1117),\"BLANK\",\"\"))","v":""},"","","",{"$f":"IF($B1117 & $C1117=\"\",\"\", IF(ISBLANK(I1117),\"BLANK\",\"\"))","v":""},""]
[1113,null,null,null,null,null,null,null,null,null,null,null,null,null,"",{"$error":"#N/A"},{"$error":"#N/A"},null,null,null,null,null,null,null,null,null,null,null,null,null,null,null,null,null,null,null,null,125,"No",0,"","65+",0,null,null,null,{"$f":"IF($B1132 & $C1132=\"\",\"\", IF(ISBLANK(D1132),\"BLANK\",\"\"))","v":""},"","","",{"$f":"IF($B1132 & $C1132=\"\",\"\", IF(ISBLANK(I1132),\"BLANK\",\"\"))","v":""},""]
[1118,null,null,null,null,null,null,null,null,null,null,null,null,null,"",{"$error":"#N/A"},{"$error":"#N/A"},null,null,null,null,null,null,null,null,null,null,null,null,null,null,null,null,null,null,null,null,125,"No",0,"","65+",0,null,null,null,{"$f":"IF($B1137 & $C1137=\"\",\"\", IF(ISBLANK(D1137),\"BLANK\",\"\"))","v":""},"","","",{"$f":"IF($B1137 & $C1137=\"\",\"\", IF(ISBLANK(I1137),\"BLANK\",\"\"))","v":""},""]
[1130,null,null,null,null,null,null,null,null,null,null,null,null,null,"",{"$error":"#N/A"},{"$error":"#N/A"},null,null,null,null,null,null,null,null,null,null,null,null,null,null,null,null,null,null,null,null,125,"No",0,"","65+",0,null,null,null,{"$f":"IF($B1149 & $C1149=\"\",\"\", IF(ISBLANK(D1149),\"BLANK\",\"\"))","v":""},"","","",{"$f":"IF($B1149 & $C1149=\"\",\"\", IF(ISBLANK(I1149),\"BLANK\",\"\"))","v":""},""]
[1143,null,null,null,null,null,null,null,null,null,null,null,null,null,"",{"$error":"#N/A"},{"$error":"#N/A"},null,null,null,null,null,null,null,null,null,null,null,null,null,null,null,null,null,null,null,null,125,"No",0,"","65+",0,null,null,null,{"$f":"IF($B1162 & $C1162=\"\",\"\", IF(ISBLANK(D1162),\"BLANK\",\"\"))","v":""},"","","",{"$f":"IF($B1162 & $C1162=\"\",\"\", IF(ISBLANK(I1162),\"BLANK\",\"\"))","v":""},""]
[1148,null,null,null,null,null,null,null,null,null,null,null,null,null,"",{"$error":"#N/A"},{"$error":"#N/A"},null,null,null,null,null,null,null,null,null,null,null,null,null,null,null,null,null,null,null,null,125,"No",0,"","65+",0,null,null,null,{"$f":"IF($B1167 & $C1167=\"\",\"\", IF(ISBLANK(D1167),\"BLANK\",\"\"))","v":""},"","","",{"$f":"IF($B1167 & $C1167=\"\",\"\", IF(ISBLANK(I1167),\"BLANK\",\"\"))","v":""},""]
[1159,null,null,null,null,null,null,null,null,null,null,null,null,null,"",{"$error":"#N/A"},{"$error":"#N/A"},null,null,null,null,null,null,null,null,null,null,null,null,null,null,null,null,null,null,null,null,125,"No",0,"","65+",0,null,null,null,{"$f":"IF($B1178 & $C1178=\"\",\"\", IF(ISBLANK(D1178),\"BLANK\",\"\"))","v":""},"","","",{"$f":"IF($B1178 & $C1178=\"\",\"\", IF(ISBLANK(I1178),\"BLANK\",\"\"))","v":""},""]
[1167,null,null,null,null,null,null,null,null,null,null,null,null,null,"",{"$error":"#N/A"},{"$error":"#N/A"},null,null,null,null,null,null,null,null,null,null,null,null,null,null,null,null,null,null,null,null,125,"No",0,"","65+",0,null,null,null,{"$f":"IF($B1186 & $C1186=\"\",\"\", IF(ISBLANK(D1186),\"BLANK\",\"\"))","v":""},"","","",{"$f":"IF($B1186 & $C1186=\"\",\"\", IF(ISBLANK(I1186),\"BLANK\",\"\"))","v":""},""]
[1184,null,null,null,null,null,null,null,null,null,null,null,null,null,"",{"$error":"#N/A"},{"$error":"#N/A"},null,null,null,null,null,null,null,null,null,null,null,null,null,null,null,null,null,null,null,null,125,"No",0,"","65+",0,null,null,null,{"$f":"IF($B1203 & $C1203=\"\",\"\", IF(ISBLANK(D1203),\"BLANK\",\"\"))","v":""},"","","",{"$f":"IF($B1203 & $C1203=\"\",\"\", IF(ISBLANK(I1203),\"BLANK\",\"\"))","v":""},""]
[1189,null,null,null,null,null,null,null,null,null,null,null,null,null,"",{"$error":"#N/A"},{"$error":"#N/A"},null,null,null,null,null,null,null,null,null,null,null,null,null,null,null,null,null,null,null,null,125,"No",0,"","65+",0,null,null,null,{"$f":"IF($B1208 & $C1208=\"\",\"\", IF(ISBLANK(D1208),\"BLANK\",\"\"))","v":""},"","","",{"$f":"IF($B1208 & $C1208=\"\",\"\", IF(ISBLANK(I1208),\"BLANK\",\"\"))","v":""},""]
[1204,null,null,null,null,null,null,null,null,null,null,null,null,null,"",{"$error":"#N/A"},{"$error":"#N/A"},null,null,null,null,null,null,null,null,null,null,null,null,null,null,null,null,null,null,null,null,125,"No",0,"","65+",0,null,null,null,{"$f":"IF($B1223 & $C1223=\"\",\"\", IF(ISBLANK(D1223),\"BLANK\",\"\"))","v":""},"","","",{"$f":"IF($B1223 & $C1223=\"\",\"\", IF(ISBLANK(I1223),\"BLANK\",\"\"))","v":""},""]
[1215,null,null,null,null,null,null,null,null,null,null,null,null,null,"",{"$error":"#N/A"},{"$error":"#N/A"},null,null,null,null,null,null,null,null,null,null,null,null,null,null,null,null,null,null,null,null,125,"No",0,"","65+",0,null,null,null,{"$f":"IF($B1234 & $C1234=\"\",\"\", IF(ISBLANK(D1234),\"BLANK\",\"\"))","v":""},"","","",{"$f":"IF($B1234 & $C1234=\"\",\"\", IF(ISBLANK(I1234),\"BLANK\",\"\"))","v":""},""]
[1221,null,null,null,null,null,null,null,null,null,null,null,null,null,"",{"$error":"#N/A"},{"$error":"#N/A"},null,null,null,null,null,null,null,null,null,null,null,null,null,null,null,null,null,null,null,null,125,"No",0,"","65+",0,null,null,null,{"$f":"IF($B1240 & $C1240=\"\",\"\", IF(ISBLANK(D1240),\"BLANK\",\"\"))","v":""},"","","",{"$f":"IF($B1240 & $C1240=\"\",\"\", IF(ISBLANK(I1240),\"BLANK\",\"\"))","v":""},""]
[1230,null,null,null,null,null,null,null,null,null,null,null,null,null,"",{"$error":"#N/A"},{"$error":"#N/A"},null,null,null,null,null,null,null,null,null,null,null,null,null,null,null,null,null,null,null,null,125,"No",0,"","65+",0,null,null,null,{"$f":"IF($B1249 & $C1249=\"\",\"\", IF(ISBLANK(D1249),\"BLANK\",\"\"))","v":""},"","","",{"$f":"IF($B1249 & $C1249=\"\",\"\", IF(ISBLANK(I1249),\"BLANK\",\"\"))","v":""},""]
[1235,null,null,null,null,null,null,null,null,null,null,null,null,null,"",{"$error":"#N/A"},{"$error":"#N/A"},null,null,null,null,null,null,null,null,null,null,null,null,null,null,null,null,null,null,null,null,125,"No",0,"","65+",0,null,null,null,{"$f":"IF($B1254 & $C1254=\"\",\"\", IF(ISBLANK(D1254),\"BLANK\",\"\"))","v":""},"","","",{"$f":"IF($B1254 & $C1254=\"\",\"\", IF(ISBLANK(I1254),\"BLANK\",\"\"))","v":""},""]
[1250,null,null,null,null,null,null,null,null,null,null,null,null,null,"",{"$error":"#N/A"},{"$error":"#N/A"},null,null,null,null,null,null,null,null,null,null,null,null,null,null,null,null,null,null,null,null,125,"No",0,"","65+",0,null,null,null,{"$f":"IF($B1269 & $C1269=\"\",\"\", IF(ISBLANK(D1269),\"BLANK\",\"\"))","v":""},"","","",{"$f":"IF($B1269 & $C1269=\"\",\"\", IF(ISBLANK(I1269),\"BLANK\",\"\"))","v":""},""]
[1261,null,null,null,null,null,null,null,null,null,null,null,null,null,"",{"$error":"#N/A"},{"$error":"#N/A"},null,null,null,null,null,null,null,null,null,null,null,null,null,null,null,null,null,null,null,null,125,"No",0,"","65+",0,null,null,null,{"$f":"IF($B1280 & $C1280=\"\",\"\", IF(ISBLANK(D1280),\"BLANK\",\"\"))","v":""},"","","",{"$f":"IF($B1280 & $C1280=\"\",\"\", IF(ISBLANK(I1280),\"BLANK\",\"\"))","v":""},""]
[1266,null,null,null,null,null,null,null,null,null,null,null,null,null,"",{"$error":"#N/A"},{"$error":"#N/A"},null,null,null,null,null,null,null,null,null,null,null,null,null,null,null,null,null,null,null,null,125,"No",0,"","65+",0,null,null,null,{"$f":"IF($B1285 & $C1285=\"\",\"\", IF(ISBLANK(D1285),\"BLANK\",\"\"))","v":""},"","","",{"$f":"IF($B1285 & $C1285=\"\",\"\", IF(ISBLANK(I1285),\"BLANK\",\"\"))","v":""},""]
[1280,null,null,null,null,null,null,null,null,null,null,null,null,null,"",{"$error":"#N/A"},{"$error":"#N/A"},null,null,null,null,null,null,null,null,null,null,null,null,null,null,null,null,null,null,null,null,125,"No",0,"","65+",0,null,null,null,{"$f":"IF($B1299 & $C1299=\"\",\"\", IF(ISBLANK(D1299),\"BLANK\",\"\"))","v":""},"","","",{"$f":"IF($B1299 & $C1299=\"\",\"\", IF(ISBLANK(I1299),\"BLANK\",\"\"))","v":""},""]
[1291,null,null,null,null,null,null,null,null,null,null,null,null,null,"",{"$error":"#N/A"},{"$error":"#N/A"},null,null,null,null,null,null,null,null,null,null,null,null,null,null,null,null,null,null,null,null,125,"No",0,"","65+",0,null,null,null,{"$f":"IF($B1310 & $C1310=\"\",\"\", IF(ISBLANK(D1310),\"BLANK\",\"\"))","v":""},"","","",{"$f":"IF($B1310 & $C1310=\"\",\"\", IF(ISBLANK(I1310),\"BLANK\",\"\"))","v":""},""]
[1296,null,null,null,null,null,null,null,null,null,null,null,null,null,"",{"$error":"#N/A"},{"$error":"#N/A"},null,null,null,null,null,null,null,null,null,null,null,null,null,null,null,null,null,null,null,null,125,"No",0,"","65+",0,null,null,null,{"$f":"IF($B1315 & $C1315=\"\",\"\", IF(ISBLANK(D1315),\"BLANK\",\"\"))","v":""},"","","",{"$f":"IF($B1315 & $C1315=\"\",\"\", IF(ISBLANK(I1315),\"BLANK\",\"\"))","v":""},""]
[1307,null,null,null,null,null,null,null,null,null,null,null,null,null,"",{"$error":"#N/A"},{"$error":"#N/A"},null,null,null,null,null,null,null,null,null,null,null,null,null,null,null,null,null,null,null,null,125,"No",0,"","65+",0,null,null,null,{"$f":"IF($B1326 & $C1326=\"\",\"\", IF(ISBLANK(D1326),\"BLANK\",\"\"))","v":""},"","","",{"$f":"IF($B1326 & $C1326=\"\",\"\", IF(ISBLANK(I1326),\"BLANK\",\"\"))","v":""},""]
[1321,null,null,null,null,null,null,null,null,null,null,null,null,null,"",{"$error":"#N/A"},{"$error":"#N/A"},null,null,null,null,null,null,null,null,null,null,null,null,null,null,null,null,null,null,null,null,125,"No",0,"","65+",0,null,null,null,{"$f":"IF($B1340 & $C1340=\"\",\"\", IF(ISBLANK(D1340),\"BLANK\",\"\"))","v":""},"","","",{"$f":"IF($B1340 & $C1340=\"\",\"\", IF(ISBLANK(I1340),\"BLANK\",\"\"))","v":""},""]
[1326,null,null,null,null,null,null,null,null,null,null,null,null,null,"",{"$error":"#N/A"},{"$error":"#N/A"},null,null,null,null,null,null,null,null,null,null,null,null,null,null,null,null,null,null,null,null,125,"No",0,"","65+",0,null,null,null,{"$f":"IF($B1345 & $C1345=\"\",\"\", IF(ISBLANK(D1345),\"BLANK\",\"\"))","v":""},"","","",{"$f":"IF($B1345 & $C1345=\"\",\"\", IF(ISBLANK(I1345),\"BLANK\",\"\"))","v":""},""]
[1337,null,null,null,null,null,null,null,null,null,null,null,null,null,"",{"$error":"#N/A"},{"$error":"#N/A"},null,null,null,null,null,null,null,null,null,null,null,null,null,null,null,null,null,null,null,null,125,"No",0,"","65+",0,null,null,null,{"$f":"IF($B1356 & $C1356=\"\",\"\", IF(ISBLANK(D1356),\"BLANK\",\"\"))","v":""},"","","",{"$f":"IF($B1356 & $C1356=\"\",\"\", IF(ISBLANK(I1356),\"BLANK\",\"\"))","v":""},""]
[1352,null,null,null,null,null,null,null,null,null,null,null,null,null,"",{"$error":"#N/A"},{"$error":"#N/A"},null,null,null,null,null,null,null,null,null,null,null,null,null,null,null,null,null,null,null,null,125,"No",0,"","65+",0,null,null,null,{"$f":"IF($B1371 & $C1371=\"\",\"\", IF(ISBLANK(D1371),\"BLANK\",\"\"))","v":""},"","","",{"$f":"IF($B1371 & $C1371=\"\",\"\", IF(ISBLANK(I1371),\"BLANK\",\"\"))","v":""},""]
[1357,null,null,null,null,null,null,null,null,null,null,null,null,null,"",{"$error":"#N/A"},{"$error":"#N/A"},null,null,null,null,null,null,null,null,null,null,null,null,null,null,null,null,null,null,null,null,125,"No",0,"","65+",0,null,null,null,{"$f":"IF($B1376 & $C1376=\"\",\"\", IF(ISBLANK(D1376),\"BLANK\",\"\"))","v":""},"","","",{"$f":"IF($B1376 & $C1376=\"\",\"\", IF(ISBLANK(I1376),\"BLANK\",\"\"))","v":""},""]
[1367,null,null,null,null,null,null,null,null,null,null,null,null,null,"",{"$error":"#N/A"},{"$error":"#N/A"},null,null,null,null,null,null,null,null,null,null,null,null,null,null,null,null,null,null,null,null,125,"No",0,"","65+",0,null,null,null,{"$f":"IF($B1386 & $C1386=\"\",\"\", IF(ISBLANK(D1386),\"BLANK\",\"\"))","v":""},"","","",{"$f":"IF($B1386 & $C1386=\"\",\"\", IF(ISBLANK(I1386),\"BLANK\",\"\"))","v":""},""]
[1372,null,null,null,null,null,null,null,null,null,null,null,null,null,"",{"$error":"#N/A"},{"$error":"#N/A"},null,null,null,null,null,null,null,null,null,null,null,null,null,null,null,null,null,null,null,null,125,"No",0,"","65+",0,null,null,null,{"$f":"IF($B1391 & $C1391=\"\",\"\", IF(ISBLANK(D1391),\"BLANK\",\"\"))","v":""},"","","",{"$f":"IF($B1391 & $C1391=\"\",\"\", IF(ISBLANK(I1391),\"BLANK\",\"\"))","v":""},""]
[1383,null,null,null,null,null,null,null,null,null,null,null,null,null,"",{"$error":"#N/A"},{"$error":"#N/A"},null,null,null,null,null,null,null,null,null,null,null,null,null,null,null,null,null,null,null,null,125,"No",0,"","65+",0,null,null,null,{"$f":"IF($B1402 & $C1402=\"\",\"\", IF(ISBLANK(D1402),\"BLANK\",\"\"))","v":""},"","","",{"$f":"IF($B1402 & $C1402=\"\",\"\", IF(ISBLANK(I1402),\"BLANK\",\"\"))","v":""},""]
[1398,null,null,null,null,null,null,null,null,null,null,null,null,null,"",{"$error":"#N/A"},{"$error":"#N/A"},null,null,null,null,null,null,null,null,null,null,null,null,null,null,null,null,null,null,null,null,125,"No",0,"","65+",0,null,null,null,{"$f":"IF($B1417 & $C1417=\"\",\"\", IF(ISBLANK(D1417),\"BLANK\",\"\"))","v":""},"","","",{"$f":"IF($B1417 & $C1417=\"\",\"\", IF(ISBLANK(I1417),\"BLANK\",\"\"))","v":""},""]
[1402,null,null,null,null,null,null,null,null,null,null,null,null,null,"",{"$error":"#N/A"},{"$error":"#N/A"},null,null,null,null,null,null,null,null,null,null,null,null,null,null,null,null,null,null,null,null,125,"No",0,"","65+",0,null,null,null,{"$f":"IF($B1421 & $C1421=\"\",\"\", IF(ISBLANK(D1421),\"BLANK\",\"\"))","v":""},"","","",{"$f":"IF($B1421 & $C1421=\"\",\"\", IF(ISBLANK(I1421),\"BLANK\",\"\"))","v":""},""]
[1413,null,null,null,null,null,null,null,null,null,null,null,null,null,"",{"$error":"#N/A"},{"$error":"#N/A"},null,null,null,null,null,null,null,null,null,null,null,null,null,null,null,null,null,null,null,null,125,"No",0,"","65+",0,null,null,null,{"$f":"IF($B1432 & $C1432=\"\",\"\", IF(ISBLANK(D1432),\"BLANK\",\"\"))","v":""},"","","",{"$f":"IF($B1432 & $C1432=\"\",\"\", IF(ISBLANK(I1432),\"BLANK\",\"\"))","v":""},""]
[1428,null,null,null,null,null,null,null,null,null,null,null,null,null,"",{"$error":"#N/A"},{"$error":"#N/A"},null,null,null,null,null,null,null,null,null,null,null,null,null,null,null,null,null,null,null,null,125,"No",0,"","65+",0,null,null,null,{"$f":"IF($B1447 & $C1447=\"\",\"\", IF(ISBLANK(D1447),\"BLANK\",\"\"))","v":""},"","","",{"$f":"IF($B1447 & $C1447=\"\",\"\", IF(ISBLANK(I1447),\"BLANK\",\"\"))","v":""},""]
[1439,null,null,null,null,null,null,null,null,null,null,null,null,null,"",{"$error":"#N/A"},{"$error":"#N/A"},null,null,null,null,null,null,null,null,null,null,null,null,null,null,null,null,null,null,null,null,125,"No",0,"","65+",0,null,null,null,{"$f":"IF($B1458 & $C1458=\"\",\"\", IF(ISBLANK(D1458),\"BLANK\",\"\"))","v":""},"","","",{"$f":"IF($B1458 & $C1458=\"\",\"\", IF(ISBLANK(I1458),\"BLANK\",\"\"))","v":""},""]
[1444,null,null,null,null,null,null,null,null,null,null,null,null,null,"",{"$error":"#N/A"},{"$error":"#N/A"},null,null,null,null,null,null,null,null,null,null,null,null,null,null,null,null,null,null,null,null,125,"No",0,"","65+",0,null,null,null,{"$f":"IF($B1463 & $C1463=\"\",\"\", IF(ISBLANK(D1463),\"BLANK\",\"\"))","v":""},"","","",{"$f":"IF($B1463 & $C1463=\"\",\"\", IF(ISBLANK(I1463),\"BLANK\",\"\"))","v":""},""]
[1456,null,null,null,null,null,null,null,null,null,null,null,null,null,"",{"$error":"#N/A"},{"$error":"#N/A"},null,null,null,null,null,null,null,null,null,null,null,null,null,null,null,null,null,null,null,null,125,"No",0,"","65+",0,null,null,null,{"$f":"IF($B1475 & $C1475=\"\",\"\", IF(ISBLANK(D1475),\"BLANK\",\"\"))","v":""},"","","",{"$f":"IF($B1475 & $C1475=\"\",\"\", IF(ISBLANK(I1475),\"BLANK\",\"\"))","v":""},""]
[1469,null,null,null,null,null,null,null,null,null,null,null,null,null,"",{"$error":"#N/A"},{"$error":"#N/A"},null,null,null,null,null,null,null,null,null,null,null,null,null,null,null,null,null,null,null,null,125,"No",0,"","65+",0,null,null,null,{"$f":"IF($B1488 & $C1488=\"\",\"\", IF(ISBLANK(D1488),\"BLANK\",\"\"))","v":""},"","","",{"$f":"IF($B1488 & $C1488=\"\",\"\", IF(ISBLANK(I1488),\"BLANK\",\"\"))","v":""},""]
[1474,null,null,null,null,null,null,null,null,null,null,null,null,null,"",{"$error":"#N/A"},{"$error":"#N/A"},null,null,null,null,null,null,null,null,null,null,null,null,null,null,null,null,null,null,null,null,125,"No",0,"","65+",0,null,null,null,{"$f":"IF($B1493 & $C1493=\"\",\"\", IF(ISBLANK(D1493),\"BLANK\",\"\"))","v":""},"","","",{"$f":"IF($B1493 & $C1493=\"\",\"\", IF(ISBLANK(I1493),\"BLANK\",\"\"))","v":""},""]
[1489,null,null,null,null,null,null,null,null,null,null,null,null,null,"",{"$error":"#N/A"},{"$error":"#N/A"},null,null,null,null,null,null,null,null,null,null,null,null,null,null,null,null,null,null,null,null,125,"No",0,"","65+",0,null,null,null,{"$f":"IF($B1508 & $C1508=\"\",\"\", IF(ISBLANK(D1508),\"BLANK\",\"\"))","v":""},"","","",{"$f":"IF($B1508 & $C1508=\"\",\"\", IF(ISBLANK(I1508),\"BLANK\",\"\"))","v":""},""]
[1497,null,null,null,null,null,null,null,null,null,null,null,null,null,"",{"$error":"#N/A"},{"$error":"#N/A"},null,null,null,null,null,null,null,null,null,null,null,null,null,null,null,null,null,null,null,null,125,"No",0,"","65+",0,null,null,null,{"$f":"IF($B1516 & $C1516=\"\",\"\", IF(ISBLANK(D1516),\"BLANK\",\"\"))","v":""},"","","",{"$f":"IF($B1516 & $C1516=\"\",\"\", IF(ISBLANK(I1516),\"BLANK\",\"\"))","v":""},""]
[1504,null,null,null,null,null,null,null,null,null,null,null,null,null,"",{"$error":"#N/A"},{"$error":"#N/A"},null,null,null,null,null,null,null,null,null,null,null,null,null,null,null,null,null,null,null,null,125,"No",0,"","65+",0,null,null,null,{"$f":"IF($B1523 & $C1523=\"\",\"\", IF(ISBLANK(D1523),\"BLANK\",\"\"))","v":""},"","","",{"$f":"IF($B1523 & $C1523=\"\",\"\", IF(ISBLANK(I1523),\"BLANK\",\"\"))","v":""},""]
[1515,null,null,null,null,null,null,null,null,null,null,null,null,null,"",{"$error":"#N/A"},{"$error":"#N/A"},null,null,null,null,null,null,null,null,null,null,null,null,null,null,null,null,null,null,null,null,125,"No",0,"","65+",0,null,null,null,{"$f":"IF($B1534 & $C1534=\"\",\"\", IF(ISBLANK(D1534),\"BLANK\",\"\"))","v":""},"","","",{"$f":"IF($B1534 & $C1534=\"\",\"\", IF(ISBLANK(I1534),\"BLANK\",\"\"))","v":""},""]
[1520,null,null,null,null,null,null,null,null,null,null,null,null,null,"",{"$error":"#N/A"},{"$error":"#N/A"},null,null,null,null,null,null,null,null,null,null,null,null,null,null,null,null,null,null,null,null,125,"No",0,"","65+",0,null,null,null,{"$f":"IF($B1539 & $C1539=\"\",\"\", IF(ISBLANK(D1539),\"BLANK\",\"\"))","v":""},"","","",{"$f":"IF($B1539 & $C1539=\"\",\"\", IF(ISBLANK(I1539),\"BLANK\",\"\"))","v":""},""]
[1535,null,null,null,null,null,null,null,null,null,null,null,null,null,"",{"$error":"#N/A"},{"$error":"#N/A"},null,null,null,null,null,null,null,null,null,null,null,null,null,null,null,null,null,null,null,null,125,"No",0,"","65+",0,null,null,null,{"$f":"IF($B1554 & $C1554=\"\",\"\", IF(ISBLANK(D1554),\"BLANK\",\"\"))","v":""},"","","",{"$f":"IF($B1554 & $C1554=\"\",\"\", IF(ISBLANK(I1554),\"BLANK\",\"\"))","v":""},""]
[1542,null,null,null,null,null,null,null,null,null,null,null,null,null,"",{"$error":"#N/A"},{"$error":"#N/A"},null,null,null,null,null,null,null,null,null,null,null,null,null,null,null,null,null,null,null,null,125,"No",0,"","65+",0,null,null,null,{"$f":"IF($B1561 & $C1561=\"\",\"\", IF(ISBLANK(D1561),\"BLANK\",\"\"))","v":""},"","","",{"$f":"IF($B1561 & $C1561=\"\",\"\", IF(ISBLANK(I1561),\"BLANK\",\"\"))","v":""},""]
[1550,null,null,null,null,null,null,null,null,null,null,null,null,null,"",{"$error":"#N/A"},{"$error":"#N/A"},null,null,null,null,null,null,null,null,null,null,null,null,null,null,null,null,null,null,null,null,125,"No",0,"","65+",0,null,null,null,{"$f":"IF($B1569 & $C1569=\"\",\"\", IF(ISBLANK(D1569),\"BLANK\",\"\"))","v":""},"","","",{"$f":"IF($B1569 & $C1569=\"\",\"\", IF(ISBLANK(I1569),\"BLANK\",\"\"))","v":""},""]
[1561,null,null,null,null,null,null,null,null,null,null,null,null,null,"",{"$error":"#N/A"},{"$error":"#N/A"},null,null,null,null,null,null,null,null,null,null,null,null,null,null,null,null,null,null,null,null,125,"No",0,"","65+",0,null,null,null,{"$f":"IF($B1580 & $C1580=\"\",\"\", IF(ISBLANK(D1580),\"BLANK\",\"\"))","v":""},"","","",{"$f":"IF($B1580 & $C1580=\"\",\"\", IF(ISBLANK(I1580),\"BLANK\",\"\"))","v":""},""]
[1576,null,null,null,null,null,null,null,null,null,null,null,null,null,"",{"$error":"#N/A"},{"$error":"#N/A"},null,null,null,null,null,null,null,null,null,null,null,null,null,null,null,null,null,null,null,null,125,"No",0,"","65+",0,null,null,null,{"$f":"IF($B1595 & $C1595=\"\",\"\", IF(ISBLANK(D1595),\"BLANK\",\"\"))","v":""},"","","",{"$f":"IF($B1595 & $C1595=\"\",\"\", IF(ISBLANK(I1595),\"BLANK\",\"\"))","v":""},""]
[1581,null,null,null,null,null,null,null,null,null,null,null,null,null,"",{"$error":"#N/A"},{"$error":"#N/A"},null,null,null,null,null,null,null,null,null,null,null,null,null,null,null,null,null,null,null,null,125,"No",0,"","65+",0,null,null,null,{"$f":"IF($B1600 & $C1600=\"\",\"\", IF(ISBLANK(D1600),\"BLANK\",\"\"))","v":""},"","","",{"$f":"IF($B1600 & $C1600=\"\",\"\", IF(ISBLANK(I1600),\"BLANK\",\"\"))","v":""},""]
[1596,null,null,null,null,null,null,null,null,null,null,null,null,null,"",{"$error":"#N/A"},{"$error":"#N/A"},null,null,null,null,null,null,null,null,null,null,null,null,null,null,null,null,null,null,null,null,125,"No",0,"","65+",0,null,null,null,{"$f":"IF($B1615 & $C1615=\"\",\"\", IF(ISBLANK(D1615),\"BLANK\",\"\"))","v":""},"","","",{"$f":"IF($B1615 & $C1615=\"\",\"\", IF(ISBLANK(I1615),\"BLANK\",\"\"))","v":""},""]
[1606,null,null,null,null,null,null,null,null,null,null,null,null,null,"",{"$error":"#N/A"},{"$error":"#N/A"},null,null,null,null,null,null,null,null,null,null,null,null,null,null,null,null,null,null,null,null,125,"No",0,"","65+",0,null,null,null,{"$f":"IF($B1625 & $C1625=\"\",\"\", IF(ISBLANK(D1625),\"BLANK\",\"\"))","v":""},"","","",{"$f":"IF($B1625 & $C1625=\"\",\"\", IF(ISBLANK(I1625),\"BLANK\",\"\"))","v":""},""]
[1611,null,null,null,null,null,null,null,null,null,null,null,null,null,"",{"$error":"#N/A"},{"$error":"#N/A"},null,null,null,null,null,null,null,null,null,null,null,null,null,null,null,null,null,null,null,null,125,"No",0,"","65+",0,null,null,null,{"$f":"IF($B1630 & $C1630=\"\",\"\", IF(ISBLANK(D1630),\"BLANK\",\"\"))","v":""},"","","",{"$f":"IF($B1630 & $C1630=\"\",\"\", IF(ISBLANK(I1630),\"BLANK\",\"\"))","v":""},""]
[1622,null,null,null,null,null,null,null,null,null,null,null,null,null,"",{"$error":"#N/A"},{"$error":"#N/A"},null,null,null,null,null,null,null,null,null,null,null,null,null,null,null,null,null,null,null,null,125,"No",0,"","65+",0,null,null,null,{"$f":"IF($B1641 & $C1641=\"\",\"\", IF(ISBLANK(D1641),\"BLANK\",\"\"))","v":""},"","","",{"$f":"IF($B1641 & $C1641=\"\",\"\", IF(ISBLANK(I1641),\"BLANK\",\"\"))","v":""},""]
[1633,null,null,null,null,null,null,null,null,null,null,null,null,null,"",{"$error":"#N/A"},{"$error":"#N/A"},null,null,null,null,null,null,null,null,null,null,null,null,null,null,null,null,null,null,null,null,125,"No",0,"","65+",0,null,null,null,{"$f":"IF($B1652 & $C1652=\"\",\"\", IF(ISBLANK(D1652),\"BLANK\",\"\"))","v":""},"","","",{"$f":"IF($B1652 & $C1652=\"\",\"\", IF(ISBLANK(I1652),\"BLANK\",\"\"))","v":""},""]
[1637,null,null,null,null,null,null,null,null,null,null,null,null,null,"",{"$error":"#N/A"},{"$error":"#N/A"},null,null,null,null,null,null,null,null,null,null,null,null,null,null,null,null,null,null,null,null,125,"No",0,"","65+",0,null,null,null,{"$f":"IF($B1656 & $C1656=\"\",\"\", IF(ISBLANK(D1656),\"BLANK\",\"\"))","v":""},"","","",{"$f":"IF($B1656 & $C1656=\"\",\"\", IF(ISBLANK(I1656),\"BLANK\",\"\"))","v":""},""]
[1652,null,null,null,null,null,null,null,null,null,null,null,null,null,"",{"$error":"#N/A"},{"$error":"#N/A"},null,null,null,null,null,null,null,null,null,null,null,null,null,null,null,null,null,null,null,null,125,"No",0,"","65+",0,null,null,null,{"$f":"IF($B1671 & $C1671=\"\",\"\", IF(ISBLANK(D1671),\"BLANK\",\"\"))","v":""},"","","",{"$f":"IF($B1671 & $C1671=\"\",\"\", IF(ISBLANK(I1671),\"BLANK\",\"\"))","v":""},""]
[1657,null,null,null,null,null,null,null,null,null,null,null,null,null,"",{"$error":"#N/A"},{"$error":"#N/A"},null,null,null,null,null,null,null,null,null,null,null,null,null,null,null,null,null,null,null,null,125,"No",0,"","65+",0,null,null,null,{"$f":"IF($B1676 & $C1676=\"\",\"\", IF(ISBLANK(D1676),\"BLANK\",\"\"))","v":""},"","","",{"$f":"IF($B1676 & $C1676=\"\",\"\", IF(ISBLANK(I1676),\"BLANK\",\"\"))","v":""},""]
[1668,null,null,null,null,null,null,null,null,null,null,null,null,null,"",{"$error":"#N/A"},{"$error":"#N/A"},null,null,null,null,null,null,null,null,null,null,null,null,null,null,null,null,null,null,null,null,125,"No",0,"","65+",0,null,null,null,{"$f":"IF($B1687 & $C1687=\"\",\"\", IF(ISBLANK(D1687),\"BLANK\",\"\"))","v":""},"","","",{"$f":"IF($B1687 & $C1687=\"\",\"\", IF(ISBLANK(I1687),\"BLANK\",\"\"))","v":""},""]
[1678,null,null,null,null,null,null,null,null,null,null,null,null,null,"",{"$error":"#N/A"},{"$error":"#N/A"},null,null,null,null,null,null,null,null,null,null,null,null,null,null,null,null,null,null,null,null,125,"No",0,"","65+",0,null,null,null,{"$f":"IF($B1697 & $C1697=\"\",\"\", IF(ISBLANK(D1697),\"BLANK\",\"\"))","v":""},"","","",{"$f":"IF($B1697 & $C1697=\"\",\"\", IF(ISBLANK(I1697),\"BLANK\",\"\"))","v":""},""]
[1687,null,null,null,null,null,null,null,null,null,null,null,null,null,"",{"$error":"#N/A"},{"$error":"#N/A"},null,null,null,null,null,null,null,null,null,null,null,null,null,null,null,null,null,null,null,null,125,"No",0,"","65+",0,null,null,null,{"$f":"IF($B1706 & $C1706=\"\",\"\", IF(ISBLANK(D1706),\"BLANK\",\"\"))","v":""},"","","",{"$f":"IF($B1706 & $C1706=\"\",\"\", IF(ISBLANK(I1706),\"BLANK\",\"\"))","v":""},""]
[1698,null,null,null,null,null,null,null,null,null,null,null,null,null,"",{"$error":"#N/A"},{"$error":"#N/A"},null,null,null,null,null,null,null,null,null,null,null,null,null,null,null,null,null,null,null,null,125,"No",0,"","65+",0,null,null,null,{"$f":"IF($B1717 & $C1717=\"\",\"\", IF(ISBLANK(D1717),\"BLANK\",\"\"))","v":""},"","","",{"$f":"IF($B1717 & $C1717=\"\",\"\", IF(ISBLANK(I1717),\"BLANK\",\"\"))","v":""},""]
[1713,null,null,null,null,null,null,null,null,null,null,null,null,null,"",{"$error":"#N/A"},{"$error":"#N/A"},null,null,null,null,null,null,null,null,null,null,null,null,null,null,null,null,null,null,null,null,125,"No",0,"","65+",0,null,null,null,{"$f":"IF($B1732 & $C1732=\"\",\"\", IF(ISBLANK(D1732),\"BLANK\",\"\"))","v":""},"","","",{"$f":"IF($B1732 & $C1732=\"\",\"\", IF(ISBLANK(I1732),\"BLANK\",\"\"))","v":""},""]
[1724,null,null,null,null,null,null,null,null,null,null,null,null,null,"",{"$error":"#N/A"},{"$error":"#N/A"},null,null,null,null,null,null,null,null,null,null,null,null,null,null,null,null,null,null,null,null,125,"No",0,"","65+",0,null,null,null,{"$f":"IF($B1743 & $C1743=\"\",\"\", IF(ISBLANK(D1743),\"BLANK\",\"\"))","v":""},"","","",{"$f":"IF($B1743 & $C1743=\"\",\"\", IF(ISBLANK(I1743),\"BLANK\",\"\"))","v":""},""]
[1732,null,null,null,null,null,null,null,null,null,null,null,null,null,"",{"$error":"#N/A"},{"$error":"#N/A"},null,null,null,null,null,null,null,null,null,null,null,null,null,null,null,null,null,null,null,null,125,"No",0,"","65+",0,null,null,null,{"$f":"IF($B1751 & $C1751=\"\",\"\", IF(ISBLANK(D1751),\"BLANK\",\"\"))","v":""},"","","",{"$f":"IF($B1751 & $C1751=\"\",\"\", IF(ISBLANK(I1751),\"BLANK\",\"\"))","v":""},""]
[1743,null,null,null,null,null,null,null,null,null,null,null,null,null,"",{"$error":"#N/A"},{"$error":"#N/A"},null,null,null,null,null,null,null,null,null,null,null,null,null,null,null,null,null,null,null,null,125,"No",0,"","65+",0,null,null,null,{"$f":"IF($B1762 & $C1762=\"\",\"\", IF(ISBLANK(D1762),\"BLANK\",\"\"))","v":""},"","","",{"$f":"IF($B1762 & $C1762=\"\",\"\", IF(ISBLANK(I1762),\"BLANK\",\"\"))","v":""},""]
[1744,null,null,null,null,null,null,null,null,null,null,null,null,null,"",{"$error":"#N/A"},{"$error":"#N/A"},null,null,null,null,null,null,null,null,null,null,null,null,null,null,null,null,null,null,null,null,125,"No",0,"","65+",0,null,null,null,{"$f":"IF($B1763 & $C1763=\"\",\"\", IF(ISBLANK(D1763),\"BLANK\",\"\"))","v":""},"","","",{"$f":"IF($B1763 & $C1763=\"\",\"\", IF(ISBLANK(I1763),\"BLANK\",\"\"))","v":""},""]
[1759,null,null,null,null,null,null,null,null,null,null,null,null,null,"",{"$error":"#N/A"},{"$error":"#N/A"},null,null,null,null,null,null,null,null,null,null,null,null,null,null,null,null,null,null,null,null,125,"No",0,"","65+",0,null,null,null,{"$f":"IF($B1778 & $C1778=\"\",\"\", IF(ISBLANK(D1778),\"BLANK\",\"\"))","v":""},"","","",{"$f":"IF($B1778 & $C1778=\"\",\"\", IF(ISBLANK(I1778),\"BLANK\",\"\"))","v":""},""]
[1770,null,null,null,null,null,null,null,null,null,null,null,null,null,"",{"$error":"#N/A"},{"$error":"#N/A"},null,null,null,null,null,null,null,null,null,null,null,null,null,null,null,null,null,null,null,null,125,"No",0,"","65+",0,null,null,null,{"$f":"IF($B1789 & $C1789=\"\",\"\", IF(ISBLANK(D1789),\"BLANK\",\"\"))","v":""},"","","",{"$f":"IF($B1789 & $C1789=\"\",\"\", IF(ISBLANK(I1789),\"BLANK\",\"\"))","v":""},""]
[1777,null,null,null,null,null,null,null,null,null,null,null,null,null,"",{"$error":"#N/A"},{"$error":"#N/A"},null,null,null,null,null,null,null,null,null,null,null,null,null,null,null,null,null,null,null,null,125,"No",0,"","65+",0,null,null,null,{"$f":"IF($B1796 & $C1796=\"\",\"\", IF(ISBLANK(D1796),\"BLANK\",\"\"))","v":""},"","","",{"$f":"IF($B1796 & $C1796=\"\",\"\", IF(ISBLANK(I1796),\"BLANK\",\"\"))","v":""},""]
[1789,null,null,null,null,null,null,null,null,null,null,null,null,null,"",{"$error":"#N/A"},{"$error":"#N/A"},null,null,null,null,null,null,null,null,null,null,null,null,null,null,null,null,null,null,null,null,125,"No",0,"","65+",0,null,null,null,{"$f":"IF($B1808 & $C1808=\"\",\"\", IF(ISBLANK(D1808),\"BLANK\",\"\"))","v":""},"","","",{"$f":"IF($B1808 & $C1808=\"\",\"\", IF(ISBLANK(I1808),\"BLANK\",\"\"))","v":""},""]
[1800,null,null,null,null,null,null,null,null,null,null,null,null,null,"",{"$error":"#N/A"},{"$error":"#N/A"},null,null,null,null,null,null,null,null,null,null,null,null,null,null,null,null,null,null,null,null,125,"No",0,"","65+",0,null,null,null,{"$f":"IF($B1819 & $C1819=\"\",\"\", IF(ISBLANK(D1819),\"BLANK\",\"\"))","v":""},"","","",{"$f":"IF($B1819 & $C1819=\"\",\"\", IF(ISBLANK(I1819),\"BLANK\",\"\"))","v":""},""]
[1805,null,null,null,null,null,null,null,null,null,null,null,null,null,"",{"$error":"#N/A"},{"$error":"#N/A"},null,null,null,null,null,null,null,null,null,null,null,null,null,null,null,null,null,null,null,null,125,"No",0,"","65+",0,null,null,null,{"$f":"IF($B1824 & $C1824=\"\",\"\", IF(ISBLANK(D1824),\"BLANK\",\"\"))","v":""},"","","",{"$f":"IF($B1824 & $C1824=\"\",\"\", IF(ISBLANK(I1824),\"BLANK\",\"\"))","v":""},""]
[1814,null,null,null,null,null,null,null,null,null,null,null,null,null,"",{"$error":"#N/A"},{"$error":"#N/A"},null,null,null,null,null,null,null,null,null,null,null,null,null,null,null,null,null,null,null,null,125,"No",0,"","65+",0,null,null,null,{"$f":"IF($B1833 & $C1833=\"\",\"\", IF(ISBLANK(D1833),\"BLANK\",\"\"))","v":""},"","","",{"$f":"IF($B1833 & $C1833=\"\",\"\", IF(ISBLANK(I1833),\"BLANK\",\"\"))","v":""},""]
[1830,null,null,null,null,null,null,null,null,null,null,null,null,null,"",{"$error":"#N/A"},{"$error":"#N/A"},null,null,null,null,null,null,null,null,null,null,null,null,null,null,null,null,null,null,null,null,125,"No",0,"","65+",0,null,null,null,{"$f":"IF($B1849 & $C1849=\"\",\"\", IF(ISBLANK(D1849),\"BLANK\",\"\"))","v":""},"","","",{"$f":"IF($B1849 & $C1849=\"\",\"\", IF(ISBLANK(I1849),\"BLANK\",\"\"))","v":""},""]
[1835,null,null,null,null,null,null,null,null,null,null,null,null,null,"",{"$error":"#N/A"},{"$error":"#N/A"},null,null,null,null,null,null,null,null,null,null,null,null,null,null,null,null,null,null,null,null,125,"No",0,"","65+",0,null,null,null,{"$f":"IF($B1854 & $C1854=\"\",\"\", IF(ISBLANK(D1854),\"BLANK\",\"\"))","v":""},"","","",{"$f":"IF($B1854 & $C1854=\"\",\"\", IF(ISBLANK(I1854),\"BLANK\",\"\"))","v":""},""]
[1846,null,null,null,null,null,null,null,null,null,null,null,null,null,"",{"$error":"#N/A"},{"$error":"#N/A"},null,null,null,null,null,null,null,null,null,null,null,null,null,null,null,null,null,null,null,null,125,"No",0,"","65+",0,null,null,null,{"$f":"IF($B1865 & $C1865=\"\",\"\", IF(ISBLANK(D1865),\"BLANK\",\"\"))","v":""},"","","",{"$f":"IF($B1865 & $C1865=\"\",\"\", IF(ISBLANK(I1865),\"BLANK\",\"\"))","v":""},""]
[1861,null,null,null,null,null,null,null,null,null,null,null,null,null,"",{"$error":"#N/A"},{"$error":"#N/A"},null,null,null,null,null,null,null,null,null,null,null,null,null,null,null,null,null,null,null,null,125,"No",0,"","65+",0,null,null,null,{"$f":"IF($B1880 & $C1880=\"\",\"\", IF(ISBLANK(D1880),\"BLANK\",\"\"))","v":""},"","","",{"$f":"IF($B1880 & $C1880=\"\",\"\", IF(ISBLANK(I1880),\"BLANK\",\"\"))","v":""},""]
[1868,null,null,null,null,null,null,null,null,null,null,null,null,null,"",{"$error":"#N/A"},{"$error":"#N/A"},null,null,null,null,null,null,null,null,null,null,null,null,null,null,null,null,null,null,null,null,125,"No",0,"","65+",0,null,null,null,{"$f":"IF($B1887 & $C1887=\"\",\"\", IF(ISBLANK(D1887),\"BLANK\",\"\"))","v":""},"","","",{"$f":"IF($B1887 & $C1887=\"\",\"\", IF(ISBLANK(I1887),\"BLANK\",\"\"))","v":""},""]
[1876,null,null,null,null,null,null,null,null,null,null,null,null,null,"",{"$error":"#N/A"},{"$error":"#N/A"},null,null,null,null,null,null,null,null,null,null,null,null,null,null,null,null,null,null,null,null,125,"No",0,"","65+",0,null,null,null,{"$f":"IF($B1895 & $C1895=\"\",\"\", IF(ISBLANK(D1895),\"BLANK\",\"\"))","v":""},"","","",{"$f":"IF($B1895 & $C1895=\"\",\"\", IF(ISBLANK(I1895),\"BLANK\",\"\"))","v":""},""]
[1881,null,null,null,null,null,null,null,null,null,null,null,null,null,"",{"$error":"#N/A"},{"$error":"#N/A"},null,null,null,null,null,null,null,null,null,null,null,null,null,null,null,null,null,null,null,null,125,"No",0,"","65+",0,null,null,null,{"$f":"IF($B1900 & $C1900=\"\",\"\", IF(ISBLANK(D1900),\"BLANK\",\"\"))","v":""},"","","",{"$f":"IF($B1900 & $C1900=\"\",\"\", IF(ISBLANK(I1900),\"BLANK\",\"\"))","v":""},""]
[1892,null,null,null,null,null,null,null,null,null,null,null,null,null,"",{"$error":"#N/A"},{"$error":"#N/A"},null,null,null,null,null,null,null,null,null,null,null,null,null,null,null,null,null,null,null,null,125,"No",0,"","65+",0,null,null,null,{"$f":"IF($B1911 & $C1911=\"\",\"\", IF(ISBLANK(D1911),\"BLANK\",\"\"))","v":""},"","","",{"$f":"IF($B1911 & $C1911=\"\",\"\", IF(ISBLANK(I1911),\"BLANK\",\"\"))","v":""},""]
[1907,null,null,null,null,null,null,null,null,null,null,null,null,null,"",{"$error":"#N/A"},{"$error":"#N/A"},null,null,null,null,null,null,null,null,null,null,null,null,null,null,null,null,null,null,null,null,125,"No",0,"","65+",0,null,null,null,{"$f":"IF($B1926 & $C1926=\"\",\"\", IF(ISBLANK(D1926),\"BLANK\",\"\"))","v":""},"","","",{"$f":"IF($B1926 & $C1926=\"\",\"\", IF(ISBLANK(I1926),\"BLANK\",\"\"))","v":""},""]
[1913,null,null,null,null,null,null,null,null,null,null,null,null,null,"",{"$error":"#N/A"},{"$error":"#N/A"},null,null,null,null,null,null,null,null,null,null,null,null,null,null,null,null,null,null,null,null,125,"No",0,"","65+",0,null,null,null,{"$f":"IF($B1932 & $C1932=\"\",\"\", IF(ISBLANK(D1932),\"BLANK\",\"\"))","v":""},"","","",{"$f":"IF($B1932 & $C1932=\"\",\"\", IF(ISBLANK(I1932),\"BLANK\",\"\"))","v":""},""]
[1922,null,null,null,null,null,null,null,null,null,null,null,null,null,"",{"$error":"#N/A"},{"$error":"#N/A"},null,null,null,null,null,null,null,null,null,null,null,null,null,null,null,null,null,null,null,null,125,"No",0,"","65+",0,null,null,null,{"$f":"IF($B1941 & $C1941=\"\",\"\", IF(ISBLANK(D1941),\"BLANK\",\"\"))","v":""},"","","",{"$f":"IF($B1941 & $C1941=\"\",\"\", IF(ISBLANK(I1941),\"BLANK\",\"\"))","v":""},""]
[1937,null,null,null,null,null,null,null,null,null,null,null,null,null,"",{"$error":"#N/A"},{"$error":"#N/A"},null,null,null,null,null,null,null,null,null,null,null,null,null,null,null,null,null,null,null,null,125,"No",0,"","65+",0,null,null,null,{"$f":"IF($B1956 & $C1956=\"\",\"\", IF(ISBLANK(D1956),\"BLANK\",\"\"))","v":""},"","","",{"$f":"IF($B1956 & $C1956=\"\",\"\", IF(ISBLANK(I1956),\"BLANK\",\"\"))","v":""},""]
[1942,null,null,null,null,null,null,null,null,null,null,null,null,null,"",{"$error":"#N/A"},{"$error":"#N/A"},null,null,null,null,null,null,null,null,null,null,null,null,null,null,null,null,null,null,null,null,125,"No",0,"","65+",0,null,null,null,{"$f":"IF($B1961 & $C1961=\"\",\"\", IF(ISBLANK(D1961),\"BLANK\",\"\"))","v":""},"","","",{"$f":"IF($B1961 & $C1961=\"\",\"\", IF(ISBLANK(I1961),\"BLANK\",\"\"))","v":""},""]
[1954,null,null,null,null,null,null,null,null,null,null,null,null,null,"",{"$error":"#N/A"},{"$error":"#N/A"},null,null,null,null,null,null,null,null,null,null,null,null,null,null,null,null,null,null,null,null,125,"No",0,"","65+",0,null,null,null,{"$f":"IF($B1973 & $C1973=\"\",\"\", IF(ISBLANK(D1973),\"BLANK\",\"\"))","v":""},"","","",{"$f":"IF($B1973 & $C1973=\"\",\"\", IF(ISBLANK(I1973),\"BLANK\",\"\"))","v":""},""]
[1967,null,null,null,null,null,null,null,null,null,null,null,null,null,"",{"$error":"#N/A"},{"$error":"#N/A"},null,null,null,null,null,null,null,null,null,null,null,null,null,null,null,null,null,null,null,null,125,"No",0,"","65+",0,null,null,null,{"$f":"IF($B1986 & $C1986=\"\",\"\", IF(ISBLANK(D1986),\"BLANK\",\"\"))","v":""},"","","",{"$f":"IF($B1986 & $C1986=\"\",\"\", IF(ISBLANK(I1986),\"BLANK\",\"\"))","v":""},""]
[1978,null,null,null,null,null,null,null,null,null,null,null,null,null,"",{"$error":"#N/A"},{"$error":"#N/A"},null,null,null,null,null,null,null,null,null,null,null,null,null,null,null,null,null,null,null,null,125,"No",0,"","65+",0,null,null,null,{"$f":"IF($B1997 & $C1997=\"\",\"\", IF(ISBLANK(D1997),\"BLANK\",\"\"))","v":""},"","","",{"$f":"IF($B1997 & $C1997=\"\",\"\", IF(ISBLANK(I1997),\"BLANK\",\"\"))","v":""},""]
[1983,null,null,null,null,null,null,null,null,null,null,null,null,null,"",{"$error":"#N/A"},{"$error":"#N/A"},null,null,null,null,null,null,null,null,null,null,null,null,null,null,null,null,null,null,null,null,125,"No",0,"","65+",0,null,null,null,{"$f":"IF($B2002 & $C2002=\"\",\"\", IF(ISBLANK(D2002),\"BLANK\",\"\"))","v":""},"","","",{"$f":"IF($B2002 & $C2002=\"\",\"\", IF(ISBLANK(I2002),\"BLANK\",\"\"))","v":""},""]
[1998,null,null,null,null,null,null,null,null,null,null,null,null,null,"",{"$error":"#N/A"},{"$error":"#N/A"},null,null,null,null,null,null,null,null,null,null,null,null,null,null,null,null,null,null,null,null,125,"No",0,"","65+",0,null,null,null,{"$f":"IF($B2017 & $C2017=\"\",\"\", IF(ISBLANK(D2017),\"BLANK\",\"\"))","v":""},"","","",{"$f":"IF($B2017 & $C2017=\"\",\"\", IF(ISBLANK(I2017),\"BLANK\",\"\"))","v":""},""]
[1999,null,null,null,null,null,null,null,null,null,null,null,null,null,"",{"$error":"#N/A"},{"$error":"#N/A"},null,null,null,null,null,null,null,null,null,null,null,null,null,null,null,null,null,null,null,null,125,"No",0,"","65+",0,null,null,null,{"$f":"IF($B2018 & $C2018=\"\",\"\", IF(ISBLANK(D2018),\"BLANK\",\"\"))","v":""},"","","",{"$f":"IF($B2018 & $C2018=\"\",\"\", IF(ISBLANK(I2018),\"BLANK\",\"\"))","v":""},""]
[2013,null,null,null,null,null,null,null,null,null,null,null,null,null,"",{"$error":"#N/A"},{"$error":"#N/A"},null,null,null,null,null,null,null,null,null,null,null,null,null,null,null,null,null,null,null,null,125,"No",0,"","65+",0,null,null,null,{"$f":"IF($B2032 & $C2032=\"\",\"\", IF(ISBLANK(D2032),\"BLANK\",\"\"))","v":""},"","","",{"$f":"IF($B2032 & $C2032=\"\",\"\", IF(ISBLANK(I2032),\"BLANK\",\"\"))","v":""},""]
[2018,null,null,null,null,null,null,null,null,null,null,null,null,null,"",{"$error":"#N/A"},{"$error":"#N/A"},null,null,null,null,null,null,null,null,null,null,null,null,null,null,null,null,null,null,null,null,125,"No",0,"","65+",0,null,null,null,{"$f":"IF($B2037 & $C2037=\"\",\"\", IF(ISBLANK(D2037),\"BLANK\",\"\"))","v":""},"","","",{"$f":"IF($B2037 & $C2037=\"\",\"\", IF(ISBLANK(I2037),\"BLANK\",\"\"))","v":""},""]
[2029,null,null,null,null,null,null,null,null,null,null,null,null,null,"",{"$error":"#N/A"},{"$error":"#N/A"},null,null,null,null,null,null,null,null,null,null,null,null,null,null,null,null,null,null,null,null,125,"No",0,"","65+",0,null,null,null,{"$f":"IF($B2048 & $C2048=\"\",\"\", IF(ISBLANK(D2048),\"BLANK\",\"\"))","v":""},"","","",{"$f":"IF($B2048 & $C2048=\"\",\"\", IF(ISBLANK(I2048),\"BLANK\",\"\"))","v":""},""]
[2044,null,null,null,null,null,null,null,null,null,null,null,null,null,"",{"$error":"#N/A"},{"$error":"#N/A"},null,null,null,null,null,null,null,null,null,null,null,null,null,null,null,null,null,null,null,null,125,"No",0,"","65+",0,null,null,null,{"$f":"IF($B2063 & $C2063=\"\",\"\", IF(ISBLANK(D2063),\"BLANK\",\"\"))","v":""},"","","",{"$f":"IF($B2063 & $C2063=\"\",\"\", IF(ISBLANK(I2063),\"BLANK\",\"\"))","v":""},""]
[2053,null,null,null,null,null,null,null,null,null,null,null,null,null,"",{"$error":"#N/A"},{"$error":"#N/A"},null,null,null,null,null,null,null,null,null,null,null,null,null,null,null,null,null,null,null,null,125,"No",0,"","65+",0,null,null,null,{"$f":"IF($B2072 & $C2072=\"\",\"\", IF(ISBLANK(D2072),\"BLANK\",\"\"))","v":""},"","","",{"$f":"IF($B2072 & $C2072=\"\",\"\", IF(ISBLANK(I2072),\"BLANK\",\"\"))","v":""},""]
[2059,null,null,null,null,null,null,null,null,null,null,null,null,null,"",{"$error":"#N/A"},{"$error":"#N/A"},null,null,null,null,null,null,null,null,null,null,null,null,null,null,null,null,null,null,null,null,125,"No",0,"","65+",0,null,null,null,{"$f":"IF($B2078 & $C2078=\"\",\"\", IF(ISBLANK(D2078),\"BLANK\",\"\"))","v":""},"","","",{"$f":"IF($B2078 & $C2078=\"\",\"\", IF(ISBLANK(I2078),\"BLANK\",\"\"))","v":""},""]
[2074,null,null,null,null,null,null,null,null,null,null,null,null,null,"",{"$error":"#N/A"},{"$error":"#N/A"},null,null,null,null,null,null,null,null,null,null,null,null,null,null,null,null,null,null,null,null,125,"No",0,"","65+",0,null,null,null,{"$f":"IF($B2093 & $C2093=\"\",\"\", IF(ISBLANK(D2093),\"BLANK\",\"\"))","v":""},"","","",{"$f":"IF($B2093 & $C2093=\"\",\"\", IF(ISBLANK(I2093),\"BLANK\",\"\"))","v":""},""]
[2085,null,null,null,null,null,null,null,null,null,null,null,null,null,"",{"$error":"#N/A"},{"$error":"#N/A"},null,null,null,null,null,null,null,null,null,null,null,null,null,null,null,null,null,null,null,null,125,"No",0,"","65+",0,null,null,null,{"$f":"IF($B2104 & $C2104=\"\",\"\", IF(ISBLANK(D2104),\"BLANK\",\"\"))","v":""},"","","",{"$f":"IF($B2104 & $C2104=\"\",\"\", IF(ISBLANK(I2104),\"BLANK\",\"\"))","v":""},""]
[2090,null,null,null,null,null,null,null,null,null,null,null,null,null,"",{"$error":"#N/A"},{"$error":"#N/A"},null,null,null,null,null,null,null,null,null,null,null,null,null,null,null,null,null,null,null,null,125,"No",0,"","65+",0,null,null,null,{"$f":"IF($B2109 & $C2109=\"\",\"\", IF(ISBLANK(D2109),\"BLANK\",\"\"))","v":""},"","","",{"$f":"IF($B2109 & $C2109=\"\",\"\", IF(ISBLANK(I2109),\"BLANK\",\"\"))","v":""},""]
[2098,null,null,null,null,null,null,null,null,null,null,null,null,null,"",{"$error":"#N/A"},{"$error":"#N/A"},null,null,null,null,null,null,null,null,null,null,null,null,null,null,null,null,null,null,null,null,125,"No",0,"","65+",0,null,null,null,{"$f":"IF($B2117 & $C2117=\"\",\"\", IF(ISBLANK(D2117),\"BLANK\",\"\"))","v":""},"","","",{"$f":"IF($B2117 & $C2117=\"\",\"\", IF(ISBLANK(I2117),\"BLANK\",\"\"))","v":""},""]
[2115,null,null,null,null,null,null,null,null,null,null,null,null,null,"",{"$error":"#N/A"},{"$error":"#N/A"},null,null,null,null,null,null,null,null,null,null,null,null,null,null,null,null,null,null,null,null,125,"No",0,"","65+",0,null,null,null,{"$f":"IF($B2134 & $C2134=\"\",\"\", IF(ISBLANK(D2134),\"BLANK\",\"\"))","v":""},"","","",{"$f":"IF($B2134 & $C2134=\"\",\"\", IF(ISBLANK(I2134),\"BLANK\",\"\"))","v":""},""]
[2120,null,null,null,null,null,null,null,null,null,null,null,null,null,"",{"$error":"#N/A"},{"$error":"#N/A"},null,null,null,null,null,null,null,null,null,null,null,null,null,null,null,null,null,null,null,null,125,"No",0,"","65+",0,null,null,null,{"$f":"IF($B2139 & $C2139=\"\",\"\", IF(ISBLANK(D2139),\"BLANK\",\"\"))","v":""},"","","",{"$f":"IF($B2139 & $C2139=\"\",\"\", IF(ISBLANK(I2139),\"BLANK\",\"\"))","v":""},""]
[2131,null,null,null,null,null,null,null,null,null,null,null,null,null,"",{"$error":"#N/A"},{"$error":"#N/A"},null,null,null,null,null,null,null,null,null,null,null,null,null,null,null,null,null,null,null,null,125,"No",0,"","65+",0,null,null,null,{"$f":"IF($B2150 & $C2150=\"\",\"\", IF(ISBLANK(D2150),\"BLANK\",\"\"))","v":""},"","","",{"$f":"IF($B2150 & $C2150=\"\",\"\", IF(ISBLANK(I2150),\"BLANK\",\"\"))","v":""},""]
[2144,null,null,null,null,null,null,null,null,null,null,null,null,null,"",{"$error":"#N/A"},{"$error":"#N/A"},null,null,null,null,null,null,null,null,null,null,null,null,null,null,null,null,null,null,null,null,125,"No",0,"","65+",0,null,null,null,{"$f":"IF($B2163 & $C2163=\"\",\"\", IF(ISBLANK(D2163),\"BLANK\",\"\"))","v":""},"","","",{"$f":"IF($B2163 & $C2163=\"\",\"\", IF(ISBLANK(I2163),\"BLANK\",\"\"))","v":""},""]
[2150,null,null,null,null,null,null,null,null,null,null,null,null,null,"",{"$error":"#N/A"},{"$error":"#N/A"},null,null,null,null,null,null,null,null,null,null,null,null,null,null,null,null,null,null,null,null,125,"No",0,"","65+",0,null,null,null,{"$f":"IF($B2169 & $C2169=\"\",\"\", IF(ISBLANK(D2169),\"BLANK\",\"\"))","v":""},"","","",{"$f":"IF($B2169 & $C2169=\"\",\"\", IF(ISBLANK(I2169),\"BLANK\",\"\"))","v":""},""]
[2161,null,null,null,null,null,null,null,null,null,null,null,null,null,"",{"$error":"#N/A"},{"$error":"#N/A"},null,null,null,null,null,null,null,null,null,null,null,null,null,null,null,null,null,null,null,null,125,"No",0,"","65+",0,null,null,null,{"$f":"IF($B2180 & $C2180=\"\",\"\", IF(ISBLANK(D2180),\"BLANK\",\"\"))","v":""},"","","",{"$f":"IF($B2180 & $C2180=\"\",\"\", IF(ISBLANK(I2180),\"BLANK\",\"\"))","v":""},""]
[2166,null,null,null,null,null,null,null,null,null,null,null,null,null,"",{"$error":"#N/A"},{"$error":"#N/A"},null,null,null,null,null,null,null,null,null,null,null,null,null,null,null,null,null,null,null,null,125,"No",0,"","65+",0,null,null,null,{"$f":"IF($B2185 & $C2185=\"\",\"\", IF(ISBLANK(D2185),\"BLANK\",\"\"))","v":""},"","","",{"$f":"IF($B2185 & $C2185=\"\",\"\", IF(ISBLANK(I2185),\"BLANK\",\"\"))","v":""},""]
[2177,null,null,null,null,null,null,null,null,null,null,null,null,null,"",{"$error":"#N/A"},{"$error":"#N/A"},null,null,null,null,null,null,null,null,null,null,null,null,null,null,null,null,null,null,null,null,125,"No",0,"","65+",0,null,null,null,{"$f":"IF($B2196 & $C2196=\"\",\"\", IF(ISBLANK(D2196),\"BLANK\",\"\"))","v":""},"","","",{"$f":"IF($B2196 & $C2196=\"\",\"\", IF(ISBLANK(I2196),\"BLANK\",\"\"))","v":""},""]
[2189,null,null,null,null,null,null,null,null,null,null,null,null,null,"",{"$error":"#N/A"},{"$error":"#N/A"},null,null,null,null,null,null,null,null,null,null,null,null,null,null,null,null,null,null,null,null,125,"No",0,"","65+",0,null,null,null,{"$f":"IF($B2208 & $C2208=\"\",\"\", IF(ISBLANK(D2208),\"BLANK\",\"\"))","v":""},"","","",{"$f":"IF($B2208 & $C2208=\"\",\"\", IF(ISBLANK(I2208),\"BLANK\",\"\"))","v":""},""]
[2196,null,null,null,null,null,null,null,null,null,null,null,null,null,"",{"$error":"#N/A"},{"$error":"#N/A"},null,null,null,null,null,null,null,null,null,null,null,null,null,null,null,null,null,null,null,null,125,"No",0,"","65+",0,null,null,null,{"$f":"IF($B2215 & $C2215=\"\",\"\", IF(ISBLANK(D2215),\"BLANK\",\"\"))","v":""},"","","",{"$f":"IF($B2215 & $C2215=\"\",\"\", IF(ISBLANK(I2215),\"BLANK\",\"\"))","v":""},""]
[2207,null,null,null,null,null,null,null,null,null,null,null,null,null,"",{"$error":"#N/A"},{"$error":"#N/A"},null,null,null,null,null,null,null,null,null,null,null,null,null,null,null,null,null,null,null,null,125,"No",0,"","65+",0,null,null,null,{"$f":"IF($B2226 & $C2226=\"\",\"\", IF(ISBLANK(D2226),\"BLANK\",\"\"))","v":""},"","","",{"$f":"IF($B2226 & $C2226=\"\",\"\", IF(ISBLANK(I2226),\"BLANK\",\"\"))","v":""},""]
[2222,null,null,null,null,null,null,null,null,null,null,null,null,null,"",{"$error":"#N/A"},{"$error":"#N/A"},null,null,null,null,null,null,null,null,null,null,null,null,null,null,null,null,null,null,null,null,125,"No",0,"","65+",0,null,null,null,{"$f":"IF($B2241 & $C2241=\"\",\"\", IF(ISBLANK(D2241),\"BLANK\",\"\"))","v":""},"","","",{"$f":"IF($B2241 & $C2241=\"\",\"\", IF(ISBLANK(I2241),\"BLANK\",\"\"))","v":""},""]
[2227,null,null,null,null,null,null,null,null,null,null,null,null,null,"",{"$error":"#N/A"},{"$error":"#N/A"},null,null,null,null,null,null,null,null,null,null,null,null,null,null,null,null,null,null,null,null,125,"No",0,"","65+",0,null,null,null,{"$f":"IF($B2246 & $C2246=\"\",\"\", IF(ISBLANK(D2246),\"BLANK\",\"\"))","v":""},"","","",{"$f":"IF($B2246 & $C2246=\"\",\"\", IF(ISBLANK(I2246),\"BLANK\",\"\"))","v":""},""]
[2234,null,null,null,null,null,null,null,null,null,null,null,null,null,"",{"$error":"#N/A"},{"$error":"#N/A"},null,null,null,null,null,null,null,null,null,null,null,null,null,null,null,null,null,null,null,null,125,"No",0,"","65+",0,null,null,null,{"$f":"IF($B2253 & $C2253=\"\",\"\", IF(ISBLANK(D2253),\"BLANK\",\"\"))","v":""},"","","",{"$f":"IF($B2253 & $C2253=\"\",\"\", IF(ISBLANK(I2253),\"BLANK\",\"\"))","v":""},""]
[2252,null,null,null,null,null,null,null,null,null,null,null,null,null,"",{"$error":"#N/A"},{"$error":"#N/A"},null,null,null,null,null,null,null,null,null,null,null,null,null,null,null,null,null,null,null,null,125,"No",0,"","65+",0,null,null,null,{"$f":"IF($B2271 & $C2271=\"\",\"\", IF(ISBLANK(D2271),\"BLANK\",\"\"))","v":""},"","","",{"$f":"IF($B2271 & $C2271=\"\",\"\", IF(ISBLANK(I2271),\"BLANK\",\"\"))","v":""},""]
[2253,null,null,null,null,null,null,null,null,null,null,null,null,null,"",{"$error":"#N/A"},{"$error":"#N/A"},null,null,null,null,null,null,null,null,null,null,null,null,null,null,null,null,null,null,null,null,125,"No",0,"","65+",0,null,null,null,{"$f":"IF($B2272 & $C2272=\"\",\"\", IF(ISBLANK(D2272),\"BLANK\",\"\"))","v":""},"","","",{"$f":"IF($B2272 & $C2272=\"\",\"\", IF(ISBLANK(I2272),\"BLANK\",\"\"))","v":""},""]
[2268,null,null,null,null,null,null,null,null,null,null,null,null,null,"",{"$error":"#N/A"},{"$error":"#N/A"},null,null,null,null,null,null,null,null,null,null,null,null,null,null,null,null,null,null,null,null,125,"No",0,"","65+",0,null,null,null,{"$f":"IF($B2287 & $C2287=\"\",\"\", IF(ISBLANK(D2287),\"BLANK\",\"\"))","v":""},"","","",{"$f":"IF($B2287 & $C2287=\"\",\"\", IF(ISBLANK(I2287),\"BLANK\",\"\"))","v":""},""]
[2280,null,null,null,null,null,null,null,null,null,null,null,null,null,"",{"$error":"#N/A"},{"$error":"#N/A"},null,null,null,null,null,null,null,null,null,null,null,null,null,null,null,null,null,null,null,null,125,"No",0,"","65+",0,null,null,null,{"$f":"IF($B2299 & $C2299=\"\",\"\", IF(ISBLANK(D2299),\"BLANK\",\"\"))","v":""},"","","",{"$f":"IF($B2299 & $C2299=\"\",\"\", IF(ISBLANK(I2299),\"BLANK\",\"\"))","v":""},""]
[2283,null,null,null,null,null,null,null,null,null,null,null,null,null,"",{"$error":"#N/A"},{"$error":"#N/A"},null,null,null,null,null,null,null,null,null,null,null,null,null,null,null,null,null,null,null,null,125,"No",0,"","65+",0,null,null,null,{"$f":"IF($B2302 & $C2302=\"\",\"\", IF(ISBLANK(D2302),\"BLANK\",\"\"))","v":""},"","","",{"$f":"IF($B2302 & $C2302=\"\",\"\", IF(ISBLANK(I2302),\"BLANK\",\"\"))","v":""},""]
[2298,null,null,null,null,null,null,null,null,null,null,null,null,null,"",{"$error":"#N/A"},{"$error":"#N/A"},null,null,null,null,null,null,null,null,null,null,null,null,null,null,null,null,null,null,null,null,125,"No",0,"","65+",0,null,null,null,{"$f":"IF($B2317 & $C2317=\"\",\"\", IF(ISBLANK(D2317),\"BLANK\",\"\"))","v":""},"","","",{"$f":"IF($B2317 & $C2317=\"\",\"\", IF(ISBLANK(I2317),\"BLANK\",\"\"))","v":""},""]
[2309,null,null,null,null,null,null,null,null,null,null,null,null,null,"",{"$error":"#N/A"},{"$error":"#N/A"},null,null,null,null,null,null,null,null,null,null,null,null,null,null,null,null,null,null,null,null,125,"No",0,"","65+",0,null,null,null,{"$f":"IF($B2328 & $C2328=\"\",\"\", IF(ISBLANK(D2328),\"BLANK\",\"\"))","v":""},"","","",{"$f":"IF($B2328 & $C2328=\"\",\"\", IF(ISBLANK(I2328),\"BLANK\",\"\"))","v":""},""]
[2314,null,null,null,null,null,null,null,null,null,null,null,null,null,"",{"$error":"#N/A"},{"$error":"#N/A"},null,null,null,null,null,null,null,null,null,null,null,null,null,null,null,null,null,null,null,null,125,"No",0,"","65+",0,null,null,null,{"$f":"IF($B2333 & $C2333=\"\",\"\", IF(ISBLANK(D2333),\"BLANK\",\"\"))","v":""},"","","",{"$f":"IF($B2333 & $C2333=\"\",\"\", IF(ISBLANK(I2333),\"BLANK\",\"\"))","v":""},""]
[2325,null,null,null,null,null,null,null,null,null,null,null,null,null,"",{"$error":"#N/A"},{"$error":"#N/A"},null,null,null,null,null,null,null,null,null,null,null,null,null,null,null,null,null,null,null,null,125,"No",0,"","65+",0,null,null,null,{"$f":"IF($B2344 & $C2344=\"\",\"\", IF(ISBLANK(D2344),\"BLANK\",\"\"))","v":""},"","","",{"$f":"IF($B2344 & $C2344=\"\",\"\", IF(ISBLANK(I2344),\"BLANK\",\"\"))","v":""},""]
[2339,null,null,null,null,null,null,null,null,null,null,null,null,null,"",{"$error":"#N/A"},{"$error":"#N/A"},null,null,null,null,null,null,null,null,null,null,null,null,null,null,null,null,null,null,null,null,125,"No",0,"","65+",0,null,null,null,{"$f":"IF($B2358 & $C2358=\"\",\"\", IF(ISBLANK(D2358),\"BLANK\",\"\"))","v":""},"","","",{"$f":"IF($B2358 & $C2358=\"\",\"\", IF(ISBLANK(I2358),\"BLANK\",\"\"))","v":""},""]
[2344,null,null,null,null,null,null,null,null,null,null,null,null,null,"",{"$error":"#N/A"},{"$error":"#N/A"},null,null,null,null,null,null,null,null,null,null,null,null,null,null,null,null,null,null,null,null,125,"No",0,"","65+",0,null,null,null,{"$f":"IF($B2363 & $C2363=\"\",\"\", IF(ISBLANK(D2363),\"BLANK\",\"\"))","v":""},"","","",{"$f":"IF($B2363 & $C2363=\"\",\"\", IF(ISBLANK(I2363),\"BLANK\",\"\"))","v":""},""]
[2359,null,null,null,null,null,null,null,null,null,null,null,null,null,"",{"$error":"#N/A"},{"$error":"#N/A"},null,null,null,null,null,null,null,null,null,null,null,null,null,null,null,null,null,null,null,null,125,"No",0,"","65+",0,null,null,null,{"$f":"IF($B2378 & $C2378=\"\",\"\", IF(ISBLANK(D2378),\"BLANK\",\"\"))","v":""},"","","",{"$f":"IF($B2378 & $C2378=\"\",\"\", IF(ISBLANK(I2378),\"BLANK\",\"\"))","v":""},""]
[2370,null,null,null,null,null,null,null,null,null,null,null,null,null,"",{"$error":"#N/A"},{"$error":"#N/A"},null,null,null,null,null,null,null,null,null,null,null,null,null,null,null,null,null,null,null,null,125,"No",0,"","65+",0,null,null,null,{"$f":"IF($B2389 & $C2389=\"\",\"\", IF(ISBLANK(D2389),\"BLANK\",\"\"))","v":""},"","","",{"$f":"IF($B2389 & $C2389=\"\",\"\", IF(ISBLANK(I2389),\"BLANK\",\"\"))","v":""},""]
[2379,null,null,null,null,null,null,null,null,null,null,null,null,null,"",{"$error":"#N/A"},{"$error":"#N/A"},null,null,null,null,null,null,null,null,null,null,null,null,null,null,null,null,null,null,null,null,125,"No",0,"","65+",0,null,null,null,{"$f":"IF($B2398 & $C2398=\"\",\"\", IF(ISBLANK(D2398),\"BLANK\",\"\"))","v":""},"","","",{"$f":"IF($B2398 & $C2398=\"\",\"\", IF(ISBLANK(I2398),\"BLANK\",\"\"))","v":""},""]
[2385,null,null,null,null,null,null,null,null,null,null,null,null,null,"",{"$error":"#N/A"},{"$error":"#N/A"},null,null,null,null,null,null,null,null,null,null,null,null,null,null,null,null,null,null,null,null,125,"No",0,"","65+",0,null,null,null,{"$f":"IF($B2404 & $C2404=\"\",\"\", IF(ISBLANK(D2404),\"BLANK\",\"\"))","v":""},"","","",{"$f":"IF($B2404 & $C2404=\"\",\"\", IF(ISBLANK(I2404),\"BLANK\",\"\"))","v":""},""]
[2390,null,null,null,null,null,null,null,null,null,null,null,null,null,"",{"$error":"#N/A"},{"$error":"#N/A"},null,null,null,null,null,null,null,null,null,null,null,null,null,null,null,null,null,null,null,null,125,"No",0,"","65+",0,null,null,null,{"$f":"IF($B2409 & $C2409=\"\",\"\", IF(ISBLANK(D2409),\"BLANK\",\"\"))","v":""},"","","",{"$f":"IF($B2409 & $C2409=\"\",\"\", IF(ISBLANK(I2409),\"BLANK\",\"\"))","v":""},""]
[2405,null,null,null,null,null,null,null,null,null,null,null,null,null,"",{"$error":"#N/A"},{"$error":"#N/A"},null,null,null,null,null,null,null,null,null,null,null,null,null,null,null,null,null,null,null,null,125,"No",0,"","65+",0,null,null,null,{"$f":"IF($B2424 & $C2424=\"\",\"\", IF(ISBLANK(D2424),\"BLANK\",\"\"))","v":""},"","","",{"$f":"IF($B2424 & $C2424=\"\",\"\", IF(ISBLANK(I2424),\"BLANK\",\"\"))","v":""},""]
[2416,null,null,null,null,null,null,null,null,null,null,null,null,null,"",{"$error":"#N/A"},{"$error":"#N/A"},null,null,null,null,null,null,null,null,null,null,null,null,null,null,null,null,null,null,null,null,125,"No",0,"","65+",0,null,null,null,{"$f":"IF($B2435 & $C2435=\"\",\"\", IF(ISBLANK(D2435),\"BLANK\",\"\"))","v":""},"","","",{"$f":"IF($B2435 & $C2435=\"\",\"\", IF(ISBLANK(I2435),\"BLANK\",\"\"))","v":""},""]
[2424,null,null,null,null,null,null,null,null,null,null,null,null,null,"",{"$error":"#N/A"},{"$error":"#N/A"},null,null,null,null,null,null,null,null,null,null,null,null,null,null,null,null,null,null,null,null,125,"No",0,"","65+",0,null,null,null,{"$f":"IF($B2443 & $C2443=\"\",\"\", IF(ISBLANK(D2443),\"BLANK\",\"\"))","v":""},"","","",{"$f":"IF($B2443 & $C2443=\"\",\"\", IF(ISBLANK(I2443),\"BLANK\",\"\"))","v":""},""]
[2431,null,null,null,null,null,null,null,null,null,null,null,null,null,"",{"$error":"#N/A"},{"$error":"#N/A"},null,null,null,null,null,null,null,null,null,null,null,null,null,null,null,null,null,null,null,null,125,"No",0,"","65+",0,null,null,null,{"$f":"IF($B2450 & $C2450=\"\",\"\", IF(ISBLANK(D2450),\"BLANK\",\"\"))","v":""},"","","",{"$f":"IF($B2450 & $C2450=\"\",\"\", IF(ISBLANK(I2450),\"BLANK\",\"\"))","v":""},""]
[2446,null,null,null,null,null,null,null,null,null,null,null,null,null,"",{"$error":"#N/A"},{"$error":"#N/A"},null,null,null,null,null,null,null,null,null,null,null,null,null,null,null,null,null,null,null,null,125,"No",0,"","65+",0,null,null,null,{"$f":"IF($B2465 & $C2465=\"\",\"\", IF(ISBLANK(D2465),\"BLANK\",\"\"))","v":""},"","","",{"$f":"IF($B2465 & $C2465=\"\",\"\", IF(ISBLANK(I2465),\"BLANK\",\"\"))","v":""},""]
[2451,null,null,null,null,null,null,null,null,null,null,null,null,null,"",{"$error":"#N/A"},{"$error":"#N/A"},null,null,null,null,null,null,null,null,null,null,null,null,null,null,null,null,null,null,null,null,125,"No",0,"","65+",0,null,null,null,{"$f":"IF($B2470 & $C2470=\"\",\"\", IF(ISBLANK(D2470),\"BLANK\",\"\"))","v":""},"","","",{"$f":"IF($B2470 & $C2470=\"\",\"\", IF(ISBLANK(I2470),\"BLANK\",\"\"))","v":""},""]
[2465,null,null,null,null,null,null,null,null,null,null,null,null,null,"",{"$error":"#N/A"},{"$error":"#N/A"},null,null,null,null,null,null,null,null,null,null,null,null,null,null,null,null,null,null,null,null,125,"No",0,"","65+",0,null,null,null,{"$f":"IF($B2484 & $C2484=\"\",\"\", IF(ISBLANK(D2484),\"BLANK\",\"\"))","v":""},"","","",{"$f":"IF($B2484 & $C2484=\"\",\"\", IF(ISBLANK(I2484),\"BLANK\",\"\"))","v":""},""]
[2476,null,null,null,null,null,null,null,null,null,null,null,null,null,"",{"$error":"#N/A"},{"$error":"#N/A"},null,null,null,null,null,null,null,null,null,null,null,null,null,null,null,null,null,null,null,null,125,"No",0,"","65+",0,null,null,null,{"$f":"IF($B2495 & $C2495=\"\",\"\", IF(ISBLANK(D2495),\"BLANK\",\"\"))","v":""},"","","",{"$f":"IF($B2495 & $C2495=\"\",\"\", IF(ISBLANK(I2495),\"BLANK\",\"\"))","v":""},""]
[2481,null,null,null,null,null,null,null,null,null,null,null,null,null,"",{"$error":"#N/A"},{"$error":"#N/A"},null,null,null,null,null,null,null,null,null,null,null,null,null,null,null,null,null,null,null,null,125,"No",0,"","65+",0,null,null,null,{"$f":"IF($B2500 & $C2500=\"\",\"\", IF(ISBLANK(D2500),\"BLANK\",\"\"))","v":""},"","","",{"$f":"IF($B2500 & $C2500=\"\",\"\", IF(ISBLANK(I2500),\"BLANK\",\"\"))","v":""},""]
[2492,null,null,null,null,null,null,null,null,null,null,null,null,null,"",{"$error":"#N/A"},{"$error":"#N/A"},null,null,null,null,null,null,null,null,null,null,null,null,null,null,null,null,null,null,null,null,125,"No",0,"","65+",0,null,null,null,{"$f":"IF($B2511 & $C2511=\"\",\"\", IF(ISBLANK(D2511),\"BLANK\",\"\"))","v":""},"","","",{"$f":"IF($B2511 & $C2511=\"\",\"\", IF(ISBLANK(I2511),\"BLANK\",\"\"))","v":""},""]
[2507,null,null,null,null,null,null,null,null,null,null,null,null,null,"",{"$error":"#N/A"},{"$error":"#N/A"},null,null,null,null,null,null,null,null,null,null,null,null,null,null,null,null,null,null,null,null,125,"No",0,"","65+",0,null,null,null,{"$f":"IF($B2526 & $C2526=\"\",\"\", IF(ISBLANK(D2526),\"BLANK\",\"\"))","v":""},"","","",{"$f":"IF($B2526 & $C2526=\"\",\"\", IF(ISBLANK(I2526),\"BLANK\",\"\"))","v":""},""]
[2510,null,null,null,null,null,null,null,null,null,null,null,null,null,"",{"$error":"#N/A"},{"$error":"#N/A"},null,null,null,null,null,null,null,null,null,null,null,null,null,null,null,null,null,null,null,null,125,"No",0,"","65+",0,null,null,null,{"$f":"IF($B2529 & $C2529=\"\",\"\", IF(ISBLANK(D2529),\"BLANK\",\"\"))","v":""},"","","",{"$f":"IF($B2529 & $C2529=\"\",\"\", IF(ISBLANK(I2529),\"BLANK\",\"\"))","v":""},""]
[2522,null,null,null,null,null,null,null,null,null,null,null,null,null,"",{"$error":"#N/A"},{"$error":"#N/A"},null,null,null,null,null,null,null,null,null,null,null,null,null,null,null,null,null,null,null,null,125,"No",0,"","65+",0,null,null,null,{"$f":"IF($B2541 & $C2541=\"\",\"\", IF(ISBLANK(D2541),\"BLANK\",\"\"))","v":""},"","","",{"$f":"IF($B2541 & $C2541=\"\",\"\", IF(ISBLANK(I2541),\"BLANK\",\"\"))","v":""},""]
[2527,null,null,null,null,null,null,null,null,null,null,null,null,null,"",{"$error":"#N/A"},{"$error":"#N/A"},null,null,null,null,null,null,null,null,null,null,null,null,null,null,null,null,null,null,null,null,125,"No",0,"","65+",0,null,null,null,{"$f":"IF($B2546 & $C2546=\"\",\"\", IF(ISBLANK(D2546),\"BLANK\",\"\"))","v":""},"","","",{"$f":"IF($B2546 & $C2546=\"\",\"\", IF(ISBLANK(I2546),\"BLANK\",\"\"))","v":""},""]
[2538,null,null,null,null,null,null,null,null,null,null,null,null,null,"",{"$error":"#N/A"},{"$error":"#N/A"},null,null,null,null,null,null,null,null,null,null,null,null,null,null,null,null,null,null,null,null,125,"No",0,"","65+",0,null,null,null,{"$f":"IF($B2557 & $C2557=\"\",\"\", IF(ISBLANK(D2557),\"BLANK\",\"\"))","v":""},"","","",{"$f":"IF($B2557 & $C2557=\"\",\"\", IF(ISBLANK(I2557),\"BLANK\",\"\"))","v":""},""]
[2553,null,null,null,null,null,null,null,null,null,null,null,null,null,"",{"$error":"#N/A"},{"$error":"#N/A"},null,null,null,null,null,null,null,null,null,null,null,null,null,null,null,null,null,null,null,null,125,"No",0,"","65+",0,null,null,null,{"$f":"IF($B2572 & $C2572=\"\",\"\", IF(ISBLANK(D2572),\"BLANK\",\"\"))","v":""},"","","",{"$f":"IF($B2572 & $C2572=\"\",\"\", IF(ISBLANK(I2572),\"BLANK\",\"\"))","v":""},""]
[2560,null,null,null,null,null,null,null,null,null,null,null,null,null,"",{"$error":"#N/A"},{"$error":"#N/A"},null,null,null,null,null,null,null,null,null,null,null,null,null,null,null,null,null,null,null,null,125,"No",0,"","65+",0,null,null,null,{"$f":"IF($B2579 & $C2579=\"\",\"\", IF(ISBLANK(D2579),\"BLANK\",\"\"))","v":""},"","","",{"$f":"IF($B2579 & $C2579=\"\",\"\", IF(ISBLANK(I2579),\"BLANK\",\"\"))","v":""},""]
[2568,null,null,null,null,null,null,null,null,null,null,null,null,null,"",{"$error":"#N/A"},{"$error":"#N/A"},null,null,null,null,null,null,null,null,null,null,null,null,null,null,null,null,null,null,null,null,125,"No",0,"","65+",0,null,null,null,{"$f":"IF($B2587 & $C2587=\"\",\"\", IF(ISBLANK(D2587),\"BLANK\",\"\"))","v":""},"","","",{"$f":"IF($B2587 & $C2587=\"\",\"\", IF(ISBLANK(I2587),\"BLANK\",\"\"))","v":""},""]
[2583,null,null,null,null,null,null,null,null,null,null,null,null,null,"",{"$error":"#N/A"},{"$error":"#N/A"},null,null,null,null,null,null,null,null,null,null,null,null,null,null,null,null,null,null,null,null,125,"No",0,"","65+",0,null,null,null,{"$f":"IF($B2602 & $C2602=\"\",\"\", IF(ISBLANK(D2602),\"BLANK\",\"\"))","v":""},"","","",{"$f":"IF($B2602 & $C2602=\"\",\"\", IF(ISBLANK(I2602),\"BLANK\",\"\"))","v":""},""]
[2594,null,null,null,null,null,null,null,null,null,null,null,null,null,"",{"$error":"#N/A"},{"$error":"#N/A"},null,null,null,null,null,null,null,null,null,null,null,null,null,null,null,null,null,null,null,null,125,"No",0,"","65+",0,null,null,null,{"$f":"IF($B2613 & $C2613=\"\",\"\", IF(ISBLANK(D2613),\"BLANK\",\"\"))","v":""},"","","",{"$f":"IF($B2613 & $C2613=\"\",\"\", IF(ISBLANK(I2613),\"BLANK\",\"\"))","v":""},""]
[2601,null,null,null,null,null,null,null,null,null,null,null,null,null,"",{"$error":"#N/A"},{"$error":"#N/A"},null,null,null,null,null,null,null,null,null,null,null,null,null,null,null,null,null,null,null,null,125,"No",0,"","65+",0,null,null,null,{"$f":"IF($B2620 & $C2620=\"\",\"\", IF(ISBLANK(D2620),\"BLANK\",\"\"))","v":""},"","","",{"$f":"IF($B2620 & $C2620=\"\",\"\", IF(ISBLANK(I2620),\"BLANK\",\"\"))","v":""},""]
[2613,null,null,null,null,null,null,null,null,null,null,null,null,null,"",{"$error":"#N/A"},{"$error":"#N/A"},null,null,null,null,null,null,null,null,null,null,null,null,null,null,null,null,null,null,null,null,125,"No",0,"","65+",0,null,null,null,{"$f":"IF($B2632 & $C2632=\"\",\"\", IF(ISBLANK(D2632),\"BLANK\",\"\"))","v":""},"","","",{"$f":"IF($B2632 & $C2632=\"\",\"\", IF(ISBLANK(I2632),\"BLANK\",\"\"))","v":""},""]
[2624,null,null,null,null,null,null,null,null,null,null,null,null,null,"",{"$error":"#N/A"},{"$error":"#N/A"},null,null,null,null,null,null,null,null,null,null,null,null,null,null,null,null,null,null,null,null,125,"No",0,"","65+",0,null,null,null,{"$f":"IF($B2643 & $C2643=\"\",\"\", IF(ISBLANK(D2643),\"BLANK\",\"\"))","v":""},"","","",{"$f":"IF($B2643 & $C2643=\"\",\"\", IF(ISBLANK(I2643),\"BLANK\",\"\"))","v":""},""]
[2629,null,null,null,null,null,null,null,null,null,null,null,null,null,"",{"$error":"#N/A"},{"$error":"#N/A"},null,null,null,null,null,null,null,null,null,null,null,null,null,null,null,null,null,null,null,null,125,"No",0,"","65+",0,null,null,null,{"$f":"IF($B2648 & $C2648=\"\",\"\", IF(ISBLANK(D2648),\"BLANK\",\"\"))","v":""},"","","",{"$f":"IF($B2648 & $C2648=\"\",\"\", IF(ISBLANK(I2648),\"BLANK\",\"\"))","v":""},""]
[2640,null,null,null,null,null,null,null,null,null,null,null,null,null,"",{"$error":"#N/A"},{"$error":"#N/A"},null,null,null,null,null,null,null,null,null,null,null,null,null,null,null,null,null,null,null,null,125,"No",0,"","65+",0,null,null,null,{"$f":"IF($B2659 & $C2659=\"\",\"\", IF(ISBLANK(D2659),\"BLANK\",\"\"))","v":""},"","","",{"$f":"IF($B2659 & $C2659=\"\",\"\", IF(ISBLANK(I2659),\"BLANK\",\"\"))","v":""},""]
[2646,null,null,null,null,null,null,null,null,null,null,null,null,null,"",{"$error":"#N/A"},{"$error":"#N/A"},null,null,null,null,null,null,null,null,null,null,null,null,null,null,null,null,null,null,null,null,125,"No",0,"","65+",0,null,null,null,{"$f":"IF($B2665 & $C2665=\"\",\"\", IF(ISBLANK(D2665),\"BLANK\",\"\"))","v":""},"","","",{"$f":"IF($B2665 & $C2665=\"\",\"\", IF(ISBLANK(I2665),\"BLANK\",\"\"))","v":""},""]
[2659,null,null,null,null,null,null,null,null,null,null,null,null,null,"",{"$error":"#N/A"},{"$error":"#N/A"},null,null,null,null,null,null,null,null,null,null,null,null,null,null,null,null,null,null,null,null,125,"No",0,"","65+",0,null,null,null,{"$f":"IF($B2678 & $C2678=\"\",\"\", IF(ISBLANK(D2678),\"BLANK\",\"\"))","v":""},"","","",{"$f":"IF($B2678 & $C2678=\"\",\"\", IF(ISBLANK(I2678),\"BLANK\",\"\"))","v":""},""]
[2670,null,null,null,null,null,null,null,null,null,null,null,null,null,"",{"$error":"#N/A"},{"$error":"#N/A"},null,null,null,null,null,null,null,null,null,null,null,null,null,null,null,null,null,null,null,null,125,"No",0,"","65+",0,null,null,null,{"$f":"IF($B2689 & $C2689=\"\",\"\", IF(ISBLANK(D2689),\"BLANK\",\"\"))","v":""},"","","",{"$f":"IF($B2689 & $C2689=\"\",\"\", IF(ISBLANK(I2689),\"BLANK\",\"\"))","v":""},""]
[2675,null,null,null,null,null,null,null,null,null,null,null,null,null,"",{"$error":"#N/A"},{"$error":"#N/A"},null,null,null,null,null,null,null,null,null,null,null,null,null,null,null,null,null,null,null,null,125,"No",0,"","65+",0,null,null,null,{"$f":"IF($B2694 & $C2694=\"\",\"\", IF(ISBLANK(D2694),\"BLANK\",\"\"))","v":""},"","","",{"$f":"IF($B2694 & $C2694=\"\",\"\", IF(ISBLANK(I2694),\"BLANK\",\"\"))","v":""},""]
[2690,null,null,null,null,null,null,null,null,null,null,null,null,null,"",{"$error":"#N/A"},{"$error":"#N/A"},null,null,null,null,null,null,null,null,null,null,null,null,null,null,null,null,null,null,null,null,125,"No",0,"","65+",0,null,null,null,{"$f":"IF($B2709 & $C2709=\"\",\"\", IF(ISBLANK(D2709),\"BLANK\",\"\"))","v":""},"","","",{"$f":"IF($B2709 & $C2709=\"\",\"\", IF(ISBLANK(I2709),\"BLANK\",\"\"))","v":""},""]
[2700,null,null,null,null,null,null,null,null,null,null,null,null,null,"",{"$error":"#N/A"},{"$error":"#N/A"},null,null,null,null,null,null,null,null,null,null,null,null,null,null,null,null,null,null,null,null,125,"No",0,"","65+",0,null,null,null,{"$f":"IF($B2719 & $C2719=\"\",\"\", IF(ISBLANK(D2719),\"BLANK\",\"\"))","v":""},"","","",{"$f":"IF($B2719 & $C2719=\"\",\"\", IF(ISBLANK(I2719),\"BLANK\",\"\"))","v":""},""]
[2705,null,null,null,null,null,null,null,null,null,null,null,null,null,"",{"$error":"#N/A"},{"$error":"#N/A"},null,null,null,null,null,null,null,null,null,null,null,null,null,null,null,null,null,null,null,null,125,"No",0,"","65+",0,null,null,null,{"$f":"IF($B2724 & $C2724=\"\",\"\", IF(ISBLANK(D2724),\"BLANK\",\"\"))","v":""},"","","",{"$f":"IF($B2724 & $C2724=\"\",\"\", IF(ISBLANK(I2724),\"BLANK\",\"\"))","v":""},""]
[2716,null,null,null,null,null,null,null,null,null,null,null,null,null,"",{"$error":"#N/A"},{"$error":"#N/A"},null,null,null,null,null,null,null,null,null,null,null,null,null,null,null,null,null,null,null,null,125,"No",0,"","65+",0,null,null,null,{"$f":"IF($B2735 & $C2735=\"\",\"\", IF(ISBLANK(D2735),\"BLANK\",\"\"))","v":""},"","","",{"$f":"IF($B2735 & $C2735=\"\",\"\", IF(ISBLANK(I2735),\"BLANK\",\"\"))","v":""},""]
[2731,null,null,null,null,null,null,null,null,null,null,null,null,null,"",{"$error":"#N/A"},{"$error":"#N/A"},null,null,null,null,null,null,null,null,null,null,null,null,null,null,null,null,null,null,null,null,125,"No",0,"","65+",0,null,null,null,{"$f":"IF($B2750 & $C2750=\"\",\"\", IF(ISBLANK(D2750),\"BLANK\",\"\"))","v":""},"","","",{"$f":"IF($B2750 & $C2750=\"\",\"\", IF(ISBLANK(I2750),\"BLANK\",\"\"))","v":""},""]
[2736,null,null,null,null,null,null,null,null,null,null,null,null,null,"",{"$error":"#N/A"},{"$error":"#N/A"},null,null,null,null,null,null,null,null,null,null,null,null,null,null,null,null,null,null,null,null,125,"No",0,"","65+",0,null,null,null,{"$f":"IF($B2755 & $C2755=\"\",\"\", IF(ISBLANK(D2755),\"BLANK\",\"\"))","v":""},"","","",{"$f":"IF($B2755 & $C2755=\"\",\"\", IF(ISBLANK(I2755),\"BLANK\",\"\"))","v":""},""]
[2745,null,null,null,null,null,null,null,null,null,null,null,null,null,"",{"$error":"#N/A"},{"$error":"#N/A"},null,null,null,null,null,null,null,null,null,null,null,null,null,null,null,null,null,null,null,null,125,"No",0,"","65+",0,null,null,null,{"$f":"IF($B2764 & $C2764=\"\",\"\", IF(ISBLANK(D2764),\"BLANK\",\"\"))","v":""},"","","",{"$f":"IF($B2764 & $C2764=\"\",\"\", IF(ISBLANK(I2764),\"BLANK\",\"\"))","v":""},""]
[2761,null,null,null,null,null,null,null,null,null,null,null,null,null,"",{"$error":"#N/A"},{"$error":"#N/A"},null,null,null,null,null,null,null,null,null,null,null,null,null,null,null,null,null,null,null,null,125,"No",0,"","65+",0,null,null,null,{"$f":"IF($B2780 & $C2780=\"\",\"\", IF(ISBLANK(D2780),\"BLANK\",\"\"))","v":""},"","","",{"$f":"IF($B2780 & $C2780=\"\",\"\", IF(ISBLANK(I2780),\"BLANK\",\"\"))","v":""},""]
[2766,null,null,null,null,null,null,null,null,null,null,null,null,null,"",{"$error":"#N/A"},{"$error":"#N/A"},null,null,null,null,null,null,null,null,null,null,null,null,null,null,null,null,null,null,null,null,125,"No",0,"","65+",0,null,null,null,{"$f":"IF($B2785 & $C2785=\"\",\"\", IF(ISBLANK(D2785),\"BLANK\",\"\"))","v":""},"","","",{"$f":"IF($B2785 & $C2785=\"\",\"\", IF(ISBLANK(I2785),\"BLANK\",\"\"))","v":""},""]
[2777,null,null,null,null,null,null,null,null,null,null,null,null,null,"",{"$error":"#N/A"},{"$error":"#N/A"},null,null,null,null,null,null,null,null,null,null,null,null,null,null,null,null,null,null,null,null,125,"No",0,"","65+",0,null,null,null,{"$f":"IF($B2796 & $C2796=\"\",\"\", IF(ISBLANK(D2796),\"BLANK\",\"\"))","v":""},"","","",{"$f":"IF($B2796 & $C2796=\"\",\"\", IF(ISBLANK(I2796),\"BLANK\",\"\"))","v":""},""]
[2782,null,null,null,null,null,null,null,null,null,null,null,null,null,"",{"$error":"#N/A"},{"$error":"#N/A"},null,null,null,null,null,null,null,null,null,null,null,null,null,null,null,null,null,null,null,null,125,"No",0,"","65+",0,null,null,null,{"$f":"IF($B2801 & $C2801=\"\",\"\", IF(ISBLANK(D2801),\"BLANK\",\"\"))","v":""},"","","",{"$f":"IF($B2801 & $C2801=\"\",\"\", IF(ISBLANK(I2801),\"BLANK\",\"\"))","v":""},""]
[2792,null,null,null,null,null,null,null,null,null,null,null,null,null,"",{"$error":"#N/A"},{"$error":"#N/A"},null,null,null,null,null,null,null,null,null,null,null,null,null,null,null,null,null,null,null,null,125,"No",0,"","65+",0,null,null,null,{"$f":"IF($B2811 & $C2811=\"\",\"\", IF(ISBLANK(D2811),\"BLANK\",\"\"))","v":""},"","","",{"$f":"IF($B2811 & $C2811=\"\",\"\", IF(ISBLANK(I2811),\"BLANK\",\"\"))","v":""},""]
[2807,null,null,null,null,null,null,null,null,null,null,null,null,null,"",{"$error":"#N/A"},{"$error":"#N/A"},null,null,null,null,null,null,null,null,null,null,null,null,null,null,null,null,null,null,null,null,125,"No",0,"","65+",0,null,null,null,{"$f":"IF($B2826 & $C2826=\"\",\"\", IF(ISBLANK(D2826),\"BLANK\",\"\"))","v":""},"","","",{"$f":"IF($B2826 & $C2826=\"\",\"\", IF(ISBLANK(I2826),\"BLANK\",\"\"))","v":""},""]
[2812,null,null,null,null,null,null,null,null,null,null,null,null,null,"",{"$error":"#N/A"},{"$error":"#N/A"},null,null,null,null,null,null,null,null,null,null,null,null,null,null,null,null,null,null,null,null,125,"No",0,"","65+",0,null,null,null,{"$f":"IF($B2831 & $C2831=\"\",\"\", IF(ISBLANK(D2831),\"BLANK\",\"\"))","v":""},"","","",{"$f":"IF($B2831 & $C2831=\"\",\"\", IF(ISBLANK(I2831),\"BLANK\",\"\"))","v":""},""]
[2823,null,null,null,null,null,null,null,null,null,null,null,null,null,"",{"$error":"#N/A"},{"$error":"#N/A"},null,null,null,null,null,null,null,null,null,null,null,null,null,null,null,null,null,null,null,null,125,"No",0,"","65+",0,null,null,null,{"$f":"IF($B2842 & $C2842=\"\",\"\", IF(ISBLANK(D2842),\"BLANK\",\"\"))","v":""},"","","",{"$f":"IF($B2842 & $C2842=\"\",\"\", IF(ISBLANK(I2842),\"BLANK\",\"\"))","v":""},""]
[2836,null,null,null,null,null,null,null,null,null,null,null,null,null,"",{"$error":"#N/A"},{"$error":"#N/A"},null,null,null,null,null,null,null,null,null,null,null,null,null,null,null,null,null,null,null,null,125,"No",0,"","65+",0,null,null,null,{"$f":"IF($B2855 & $C2855=\"\",\"\", IF(ISBLANK(D2855),\"BLANK\",\"\"))","v":""},"","","",{"$f":"IF($B2855 & $C2855=\"\",\"\", IF(ISBLANK(I2855),\"BLANK\",\"\"))","v":""},""]
[2848,null,null,null,null,null,null,null,null,null,null,null,null,null,"",{"$error":"#N/A"},{"$error":"#N/A"},null,null,null,null,null,null,null,null,null,null,null,null,null,null,null,null,null,null,null,null,125,"No",0,"","65+",0,null,null,null,{"$f":"IF($B2867 & $C2867=\"\",\"\", IF(ISBLANK(D2867),\"BLANK\",\"\"))","v":""},"","","",{"$f":"IF($B2867 & $C2867=\"\",\"\", IF(ISBLANK(I2867),\"BLANK\",\"\"))","v":""},""]
[2853,null,null,null,null,null,null,null,null,null,null,null,null,null,"",{"$error":"#N/A"},{"$error":"#N/A"},null,null,null,null,null,null,null,null,null,null,null,null,null,null,null,null,null,null,null,null,125,"No",0,"","65+",0,null,null,null,{"$f":"IF($B2872 & $C2872=\"\",\"\", IF(ISBLANK(D2872),\"BLANK\",\"\"))","v":""},"","","",{"$f":"IF($B2872 & $C2872=\"\",\"\", IF(ISBLANK(I2872),\"BLANK\",\"\"))","v":""},""]
[2868,null,null,null,null,null,null,null,null,null,null,null,null,null,"",{"$error":"#N/A"},{"$error":"#N/A"},null,null,null,null,null,null,null,null,null,null,null,null,null,null,null,null,null,null,null,null,125,"No",0,"","65+",0,null,null,null,{"$f":"IF($B2887 & $C2887=\"\",\"\", IF(ISBLANK(D2887),\"BLANK\",\"\"))","v":""},"","","",{"$f":"IF($B2887 & $C2887=\"\",\"\", IF(ISBLANK(I2887),\"BLANK\",\"\"))","v":""},""]
[2879,null,null,null,null,null,null,null,null,null,null,null,null,null,"",{"$error":"#N/A"},{"$error":"#N/A"},null,null,null,null,null,null,null,null,null,null,null,null,null,null,null,null,null,null,null,null,125,"No",0,"","65+",0,null,null,null,{"$f":"IF($B2898 & $C2898=\"\",\"\", IF(ISBLANK(D2898),\"BLANK\",\"\"))","v":""},"","","",{"$f":"IF($B2898 & $C2898=\"\",\"\", IF(ISBLANK(I2898),\"BLANK\",\"\"))","v":""},""]
[2881,null,null,null,null,null,null,null,null,null,null,null,null,null,"",{"$error":"#N/A"},{"$error":"#N/A"},null,null,null,null,null,null,null,null,null,null,null,null,null,null,null,null,null,null,null,null,125,"No",0,"","65+",0,null,null,null,{"$f":"IF($B2900 & $C2900=\"\",\"\", IF(ISBLANK(D2900),\"BLANK\",\"\"))","v":""},"","","",{"$f":"IF($B2900 & $C2900=\"\",\"\", IF(ISBLANK(I2900),\"BLANK\",\"\"))","v":""},""]
[2898,null,null,null,null,null,null,null,null,null,null,null,null,null,"",{"$error":"#N/A"},{"$error":"#N/A"},null,null,null,null,null,null,null,null,null,null,null,null,null,null,null,null,null,null,null,null,125,"No",0,"","65+",0,null,null,null,{"$f":"IF($B2917 & $C2917=\"\",\"\", IF(ISBLANK(D2917),\"BLANK\",\"\"))","v":""},"","","",{"$f":"IF($B2917 & $C2917=\"\",\"\", IF(ISBLANK(I2917),\"BLANK\",\"\"))","v":""},""]
[2899,null,null,null,null,null,null,null,null,null,null,null,null,null,"",{"$error":"#N/A"},{"$error":"#N/A"},null,null,null,null,null,null,null,null,null,null,null,null,null,null,null,null,null,null,null,null,125,"No",0,"","65+",0,null,null,null,{"$f":"IF($B2918 & $C2918=\"\",\"\", IF(ISBLANK(D2918),\"BLANK\",\"\"))","v":""},"","","",{"$f":"IF($B2918 & $C2918=\"\",\"\", IF(ISBLANK(I2918),\"BLANK\",\"\"))","v":""},""]
[2914,null,null,null,null,null,null,null,null,null,null,null,null,null,"",{"$error":"#N/A"},{"$error":"#N/A"},null,null,null,null,null,null,null,null,null,null,null,null,null,null,null,null,null,null,null,null,125,"No",0,"","65+",0,null,null,null,{"$f":"IF($B2933 & $C2933=\"\",\"\", IF(ISBLANK(D2933),\"BLANK\",\"\"))","v":""},"","","",{"$f":"IF($B2933 & $C2933=\"\",\"\", IF(ISBLANK(I2933),\"BLANK\",\"\"))","v":""},""]
[2925,null,null,null,null,null,null,null,null,null,null,null,null,null,"",{"$error":"#N/A"},{"$error":"#N/A"},null,null,null,null,null,null,null,null,null,null,null,null,null,null,null,null,null,null,null,null,125,"No",0,"","65+",0,null,null,null,{"$f":"IF($B2944 & $C2944=\"\",\"\", IF(ISBLANK(D2944),\"BLANK\",\"\"))","v":""},"","","",{"$f":"IF($B2944 & $C2944=\"\",\"\", IF(ISBLANK(I2944),\"BLANK\",\"\"))","v":""},""]
[2935,null,null,null,null,null,null,null,null,null,null,null,null,null,"",{"$error":"#N/A"},{"$error":"#N/A"},null,null,null,null,null,null,null,null,null,null,null,null,null,null,null,null,null,null,null,null,125,"No",0,"","65+",0,null,null,null,{"$f":"IF($B2954 & $C2954=\"\",\"\", IF(ISBLANK(D2954),\"BLANK\",\"\"))","v":""},"","","",{"$f":"IF($B2954 & $C2954=\"\",\"\", IF(ISBLANK(I2954),\"BLANK\",\"\"))","v":""},""]
[2944,null,null,null,null,null,null,null,null,null,null,null,null,null,"",{"$error":"#N/A"},{"$error":"#N/A"},null,null,null,null,null,null,null,null,null,null,null,null,null,null,null,null,null,null,null,null,125,"No",0,"","65+",0,null,null,null,{"$f":"IF($B2963 & $C2963=\"\",\"\", IF(ISBLANK(D2963),\"BLANK\",\"\"))","v":""},"","","",{"$f":"IF($B2963 & $C2963=\"\",\"\", IF(ISBLANK(I2963),\"BLANK\",\"\"))","v":""},""]
[2955,null,null,null,null,null,null,null,null,null,null,null,null,null,"",{"$error":"#N/A"},{"$error":"#N/A"},null,null,null,null,null,null,null,null,null,null,null,null,null,null,null,null,null,null,null,null,125,"No",0,"","65+",0,null,null,null,{"$f":"IF($B2974 & $C2974=\"\",\"\", IF(ISBLANK(D2974),\"BLANK\",\"\"))","v":""},"","","",{"$f":"IF($B2974 & $C2974=\"\",\"\", IF(ISBLANK(I2974),\"BLANK\",\"\"))","v":""},""]
[2960,null,null,null,null,null,null,null,null,null,null,null,null,null,"",{"$error":"#N/A"},{"$error":"#N/A"},null,null,null,null,null,null,null,null,null,null,null,null,null,null,null,null,null,null,null,null,125,"No",0,"","65+",0,null,null,null,{"$f":"IF($B2979 & $C2979=\"\",\"\", IF(ISBLANK(D2979),\"BLANK\",\"\"))","v":""},"","","",{"$f":"IF($B2979 & $C2979=\"\",\"\", IF(ISBLANK(I2979),\"BLANK\",\"\"))","v":""},""]
[2976,null,null,null,null,null,null,null,null,null,null,null,null,null,"",{"$error":"#N/A"},{"$error":"#N/A"},null,null,null,null,null,null,null,null,null,null,null,null,null,null,null,null,null,null,null,null,125,"No",0,"","65+",0,null,null,null,{"$f":"IF($B2995 & $C2995=\"\",\"\", IF(ISBLANK(D2995),\"BLANK\",\"\"))","v":""},"","","",{"$f":"IF($B2995 & $C2995=\"\",\"\", IF(ISBLANK(I2995),\"BLANK\",\"\"))","v":""},""]
[2985,null,null,null,null,null,null,null,null,null,null,null,null,null,"",{"$error":"#N/A"},{"$error":"#N/A"},null,null,null,null,null,null,null,null,null,null,null,null,null,null,null,null,null,null,null,null,125,"No",0,"","65+",0,null,null,null,{"$f":"IF($B3004 & $C3004=\"\",\"\", IF(ISBLANK(D3004),\"BLANK\",\"\"))","v":""},"","","",{"$f":"IF($B3004 & $C3004=\"\",\"\", IF(ISBLANK(I3004),\"BLANK\",\"\"))","v":""},""]
[2990,null,null,null,null,null,null,null,null,null,null,null,null,null,"",{"$error":"#N/A"},{"$error":"#N/A"},null,null,null,null,null,null,null,null,null,null,null,null,null,null,null,null,null,null,null,null,125,"No",0,"","65+",0,null,null,null,{"$f":"IF($B3009 & $C3009=\"\",\"\", IF(ISBLANK(D3009),\"BLANK\",\"\"))","v":""},"","","",{"$f":"IF($B3009 & $C3009=\"\",\"\", IF(ISBLANK(I3009),\"BLANK\",\"\"))","v":""},""]
[3001,null,null,null,null,null,null,null,null,null,null,null,null,null,"",{"$error":"#N/A"},{"$error":"#N/A"},null,null,null,null,null,null,null,null,null,null,null,null,null,null,null,null,null,null,null,null,125,"No",0,"","65+",0,null,null,null,{"$f":"IF($B3020 & $C3020=\"\",\"\", IF(ISBLANK(D3020),\"BLANK\",\"\"))","v":""},"","","",{"$f":"IF($B3020 & $C3020=\"\",\"\", IF(ISBLANK(I3020),\"BLANK\",\"\"))","v":""},""]
[3016,null,null,null,null,null,null,null,null,null,null,null,null,null,"",{"$error":"#N/A"},{"$error":"#N/A"},null,null,null,null,null,null,null,null,null,null,null,null,null,null,null,null,null,null,null,null,125,"No",0,"","65+",0,null,null,null,{"$f":"IF($B3035 & $C3035=\"\",\"\", IF(ISBLANK(D3035),\"BLANK\",\"\"))","v":""},"","","",{"$f":"IF($B3035 & $C3035=\"\",\"\", IF(ISBLANK(I3035),\"BLANK\",\"\"))","v":""},""]
[3017,null,null,null,null,null,null,null,null,null,null,null,null,null,"",{"$error":"#N/A"},{"$error":"#N/A"},null,null,null,null,null,null,null,null,null,null,null,null,null,null,null,null,null,null,null,null,125,"No",0,"","65+",0,null,null,null,{"$f":"IF($B3036 & $C3036=\"\",\"\", IF(ISBLANK(D3036),\"BLANK\",\"\"))","v":""},"","","",{"$f":"IF($B3036 & $C3036=\"\",\"\", IF(ISBLANK(I3036),\"BLANK\",\"\"))","v":""},""]
[3031,null,null,null,null,null,null,null,null,null,null,null,null,null,"",{"$error":"#N/A"},{"$error":"#N/A"},null,null,null,null,null,null,null,null,null,null,null,null,null,null,null,null,null,null,null,null,125,"No",0,"","65+",0,null,null,null,{"$f":"IF($B3050 & $C3050=\"\",\"\", IF(ISBLANK(D3050),\"BLANK\",\"\"))","v":""},"","","",{"$f":"IF($B3050 & $C3050=\"\",\"\", IF(ISBLANK(I3050),\"BLANK\",\"\"))","v":""},""]
[3036,null,null,null,null,null,null,null,null,null,null,null,null,null,"",{"$error":"#N/A"},{"$error":"#N/A"},null,null,null,null,null,null,null,null,null,null,null,null,null,null,null,null,null,null,null,null,125,"No",0,"","65+",0,null,null,null,{"$f":"IF($B3055 & $C3055=\"\",\"\", IF(ISBLANK(D3055),\"BLANK\",\"\"))","v":""},"","","",{"$f":"IF($B3055 & $C3055=\"\",\"\", IF(ISBLANK(I3055),\"BLANK\",\"\"))","v":""},""]
[3047,null,null,null,null,null,null,null,null,null,null,null,null,null,"",{"$error":"#N/A"},{"$error":"#N/A"},null,null,null,null,null,null,null,null,null,null,null,null,null,null,null,null,null,null,null,null,125,"No",0,"","65+",0,null,null,null,{"$f":"IF($B3066 & $C3066=\"\",\"\", IF(ISBLANK(D3066),\"BLANK\",\"\"))","v":""},"","","",{"$f":"IF($B3066 & $C3066=\"\",\"\", IF(ISBLANK(I3066),\"BLANK\",\"\"))","v":""},""]
[3062,null,null,null,null,null,null,null,null,null,null,null,null,null,"",{"$error":"#N/A"},{"$error":"#N/A"},null,null,null,null,null,null,null,null,null,null,null,null,null,null,null,null,null,null,null,null,125,"No",0,"","65+",0,null,null,null,{"$f":"IF($B3081 & $C3081=\"\",\"\", IF(ISBLANK(D3081),\"BLANK\",\"\"))","v":""},"","","",{"$f":"IF($B3081 & $C3081=\"\",\"\", IF(ISBLANK(I3081),\"BLANK\",\"\"))","v":""},""]
[3071,null,null,null,null,null,null,null,null,null,null,null,null,null,"",{"$error":"#N/A"},{"$error":"#N/A"},null,null,null,null,null,null,null,null,null,null,null,null,null,null,null,null,null,null,null,null,125,"No",0,"","65+",0,null,null,null,{"$f":"IF($B3090 & $C3090=\"\",\"\", IF(ISBLANK(D3090),\"BLANK\",\"\"))","v":""},"","","",{"$f":"IF($B3090 & $C3090=\"\",\"\", IF(ISBLANK(I3090),\"BLANK\",\"\"))","v":""},""]
[3077,null,null,null,null,null,null,null,null,null,null,null,null,null,"",{"$error":"#N/A"},{"$error":"#N/A"},null,null,null,null,null,null,null,null,null,null,null,null,null,null,null,null,null,null,null,null,125,"No",0,"","65+",0,null,null,null,{"$f":"IF($B3096 & $C3096=\"\",\"\", IF(ISBLANK(D3096),\"BLANK\",\"\"))","v":""},"","","",{"$f":"IF($B3096 & $C3096=\"\",\"\", IF(ISBLANK(I3096),\"BLANK\",\"\"))","v":""},""]
[3092,null,null,null,null,null,null,null,null,null,null,null,null,null,"",{"$error":"#N/A"},{"$error":"#N/A"},null,null,null,null,null,null,null,null,null,null,null,null,null,null,null,null,null,null,null,null,125,"No",0,"","65+",0,null,null,null,{"$f":"IF($B3111 & $C3111=\"\",\"\", IF(ISBLANK(D3111),\"BLANK\",\"\"))","v":""},"","","",{"$f":"IF($B3111 & $C3111=\"\",\"\", IF(ISBLANK(I3111),\"BLANK\",\"\"))","v":""},""]
[3097,null,null,null,null,null,null,null,null,null,null,null,null,null,"",{"$error":"#N/A"},{"$error":"#N/A"},null,null,null,null,null,null,null,null,null,null,null,null,null,null,null,null,null,null,null,null,125,"No",0,"","65+",0,null,null,null,{"$f":"IF($B3116 & $C3116=\"\",\"\", IF(ISBLANK(D3116),\"BLANK\",\"\"))","v":""},"","","",{"$f":"IF($B3116 & $C3116=\"\",\"\", IF(ISBLANK(I3116),\"BLANK\",\"\"))","v":""},""]
[3112,null,null,null,null,null,null,null,null,null,null,null,null,null,"",{"$error":"#N/A"},{"$error":"#N/A"},null,null,null,null,null,null,null,null,null,null,null,null,null,null,null,null,null,null,null,null,125,"No",0,"","65+",0,null,null,null,{"$f":"IF($B3131 & $C3131=\"\",\"\", IF(ISBLANK(D3131),\"BLANK\",\"\"))","v":""},"","","",{"$f":"IF($B3131 & $C3131=\"\",\"\", IF(ISBLANK(I3131),\"BLANK\",\"\"))","v":""},""]
[3122,null,null,null,null,null,null,null,null,null,null,null,null,null,"",{"$error":"#N/A"},{"$error":"#N/A"},null,null,null,null,null,null,null,null,null,null,null,null,null,null,null,null,null,null,null,null,125,"No",0,"","65+",0,null,null,null,{"$f":"IF($B3141 & $C3141=\"\",\"\", IF(ISBLANK(D3141),\"BLANK\",\"\"))","v":""},"","","",{"$f":"IF($B3141 & $C3141=\"\",\"\", IF(ISBLANK(I3141),\"BLANK\",\"\"))","v":""},""]
[3133,null,null,null,null,null,null,null,null,null,null,null,null,null,"",{"$error":"#N/A"},{"$error":"#N/A"},null,null,null,null,null,null,null,null,null,null,null,null,null,null,null,null,null,null,null,null,125,"No",0,"","65+",0,null,null,null,{"$f":"IF($B3152 & $C3152=\"\",\"\", IF(ISBLANK(D3152),\"BLANK\",\"\"))","v":""},"","","",{"$f":"IF($B3152 & $C3152=\"\",\"\", IF(ISBLANK(I3152),\"BLANK\",\"\"))","v":""},""]
[3138,null,null,null,null,null,null,null,null,null,null,null,null,null,"",{"$error":"#N/A"},{"$error":"#N/A"},null,null,null,null,null,null,null,null,null,null,null,null,null,null,null,null,null,null,null,null,125,"No",0,"","65+",0,null,null,null,{"$f":"IF($B3157 & $C3157=\"\",\"\", IF(ISBLANK(D3157),\"BLANK\",\"\"))","v":""},"","","",{"$f":"IF($B3157 & $C3157=\"\",\"\", IF(ISBLANK(I3157),\"BLANK\",\"\"))","v":""},""]
[3153,null,null,null,null,null,null,null,null,null,null,null,null,null,"",{"$error":"#N/A"},{"$error":"#N/A"},null,null,null,null,null,null,null,null,null,null,null,null,null,null,null,null,null,null,null,null,125,"No",0,"","65+",0,null,null,null,{"$f":"IF($B3172 & $C3172=\"\",\"\", IF(ISBLANK(D3172),\"BLANK\",\"\"))","v":""},"","","",{"$f":"IF($B3172 & $C3172=\"\",\"\", IF(ISBLANK(I3172),\"BLANK\",\"\"))","v":""},""]
[3157,null,null,null,null,null,null,null,null,null,null,null,null,null,"",{"$error":"#N/A"},{"$error":"#N/A"},null,null,null,null,null,null,null,null,null,null,null,null,null,null,null,null,null,null,null,null,125,"No",0,"","65+",0,null,null,null,{"$f":"IF($B3176 & $C3176=\"\",\"\", IF(ISBLANK(D3176),\"BLANK\",\"\"))","v":""},"","","",{"$f":"IF($B3176 & $C3176=\"\",\"\", IF(ISBLANK(I3176),\"BLANK\",\"\"))","v":""},""]
[3168,null,null,null,null,null,null,null,null,null,null,null,null,null,"",{"$error":"#N/A"},{"$error":"#N/A"},null,null,null,null,null,null,null,null,null,null,null,null,null,null,null,null,null,null,null,null,125,"No",0,"","65+",0,null,null,null,{"$f":"IF($B3187 & $C3187=\"\",\"\", IF(ISBLANK(D3187),\"BLANK\",\"\"))","v":""},"","","",{"$f":"IF($B3187 & $C3187=\"\",\"\", IF(ISBLANK(I3187),\"BLANK\",\"\"))","v":""},""]
[3179,null,null,null,null,null,null,null,null,null,null,null,null,null,"",{"$error":"#N/A"},{"$error":"#N/A"},null,null,null,null,null,null,null,null,null,null,null,null,null,null,null,null,null,null,null,null,125,"No",0,"","65+",0,null,null,null,{"$f":"IF($B3198 & $C3198=\"\",\"\", IF(ISBLANK(D3198),\"BLANK\",\"\"))","v":""},"","","",{"$f":"IF($B3198 & $C3198=\"\",\"\", IF(ISBLANK(I3198),\"BLANK\",\"\"))","v":""},""]
[3184,null,null,null,null,null,null,null,null,null,null,null,null,null,"",{"$error":"#N/A"},{"$error":"#N/A"},null,null,null,null,null,null,null,null,null,null,null,null,null,null,null,null,null,null,null,null,125,"No",0,"","65+",0,null,null,null,{"$f":"IF($B3203 & $C3203=\"\",\"\", IF(ISBLANK(D3203),\"BLANK\",\"\"))","v":""},"","","",{"$f":"IF($B3203 & $C3203=\"\",\"\", IF(ISBLANK(I3203),\"BLANK\",\"\"))","v":""},""]
[3199,null,null,null,null,null,null,null,null,null,null,null,null,null,"",{"$error":"#N/A"},{"$error":"#N/A"},null,null,null,null,null,null,null,null,null,null,null,null,null,null,null,null,null,null,null,null,125,"No",0,"","65+",0,null,null,null,{"$f":"IF($B3218 & $C3218=\"\",\"\", IF(ISBLANK(D3218),\"BLANK\",\"\"))","v":""},"","","",{"$f":"IF($B3218 & $C3218=\"\",\"\", IF(ISBLANK(I3218),\"BLANK\",\"\"))","v":""},""]
[3211,null,null,null,null,null,null,null,null,null,null,null,null,null,"",{"$error":"#N/A"},{"$error":"#N/A"},null,null,null,null,null,null,null,null,null,null,null,null,null,null,null,null,null,null,null,null,125,"No",0,"","65+",0,null,null,null,{"$f":"IF($B3230 & $C3230=\"\",\"\", IF(ISBLANK(D3230),\"BLANK\",\"\"))","v":""},"","","",{"$f":"IF($B3230 & $C3230=\"\",\"\", IF(ISBLANK(I3230),\"BLANK\",\"\"))","v":""},""]
[3214,null,null,null,null,null,null,null,null,null,null,null,null,null,"",{"$error":"#N/A"},{"$error":"#N/A"},null,null,null,null,null,null,null,null,null,null,null,null,null,null,null,null,null,null,null,null,125,"No",0,"","65+",0,null,null,null,{"$f":"IF($B3233 & $C3233=\"\",\"\", IF(ISBLANK(D3233),\"BLANK\",\"\"))","v":""},"","","",{"$f":"IF($B3233 & $C3233=\"\",\"\", IF(ISBLANK(I3233),\"BLANK\",\"\"))","v":""},""]
[3229,null,null,null,null,null,null,null,null,null,null,null,null,null,"",{"$error":"#N/A"},{"$error":"#N/A"},null,null,null,null,null,null,null,null,null,null,null,null,null,null,null,null,null,null,null,null,125,"No",0,"","65+",0,null,null,null,{"$f":"IF($B3248 & $C3248=\"\",\"\", IF(ISBLANK(D3248),\"BLANK\",\"\"))","v":""},"","","",{"$f":"IF($B3248 & $C3248=\"\",\"\", IF(ISBLANK(I3248),\"BLANK\",\"\"))","v":""},""]
[3240,null,null,null,null,null,null,null,null,null,null,null,null,null,"",{"$error":"#N/A"},{"$error":"#N/A"},null,null,null,null,null,null,null,null,null,null,null,null,null,null,null,null,null,null,null,null,125,"No",0,"","65+",0,null,null,null,{"$f":"IF($B3259 & $C3259=\"\",\"\", IF(ISBLANK(D3259),\"BLANK\",\"\"))","v":""},"","","",{"$f":"IF($B3259 & $C3259=\"\",\"\", IF(ISBLANK(I3259),\"BLANK\",\"\"))","v":""},""]
[3245,null,null,null,null,null,null,null,null,null,null,null,null,null,"",{"$error":"#N/A"},{"$error":"#N/A"},null,null,null,null,null,null,null,null,null,null,null,null,null,null,null,null,null,null,null,null,125,"No",0,"","65+",0,null,null,null,{"$f":"IF($B3264 & $C3264=\"\",\"\", IF(ISBLANK(D3264),\"BLANK\",\"\"))","v":""},"","","",{"$f":"IF($B3264 & $C3264=\"\",\"\", IF(ISBLANK(I3264),\"BLANK\",\"\"))","v":""},""]
[3256,null,null,null,null,null,null,null,null,null,null,null,null,null,"",{"$error":"#N/A"},{"$error":"#N/A"},null,null,null,null,null,null,null,null,null,null,null,null,null,null,null,null,null,null,null,null,125,"No",0,"","65+",0,null,null,null,{"$f":"IF($B3275 & $C3275=\"\",\"\", IF(ISBLANK(D3275),\"BLANK\",\"\"))","v":""},"","","",{"$f":"IF($B3275 & $C3275=\"\",\"\", IF(ISBLANK(I3275),\"BLANK\",\"\"))","v":""},""]
[3270,null,null,null,null,null,null,null,null,null,null,null,null,null,"",{"$error":"#N/A"},{"$error":"#N/A"},null,null,null,null,null,null,null,null,null,null,null,null,null,null,null,null,null,null,null,null,125,"No",0,"","65+",0,null,null,null,{"$f":"IF($B3289 & $C3289=\"\",\"\", IF(ISBLANK(D3289),\"BLANK\",\"\"))","v":""},"","","",{"$f":"IF($B3289 & $C3289=\"\",\"\", IF(ISBLANK(I3289),\"BLANK\",\"\"))","v":""},""]
[3275,null,null,null,null,null,null,null,null,null,null,null,null,null,"",{"$error":"#N/A"},{"$error":"#N/A"},null,null,null,null,null,null,null,null,null,null,null,null,null,null,null,null,null,null,null,null,125,"No",0,"","65+",0,null,null,null,{"$f":"IF($B3294 & $C3294=\"\",\"\", IF(ISBLANK(D3294),\"BLANK\",\"\"))","v":""},"","","",{"$f":"IF($B3294 & $C3294=\"\",\"\", IF(ISBLANK(I3294),\"BLANK\",\"\"))","v":""},""]
[3286,null,null,null,null,null,null,null,null,null,null,null,null,null,"",{"$error":"#N/A"},{"$error":"#N/A"},null,null,null,null,null,null,null,null,null,null,null,null,null,null,null,null,null,null,null,null,125,"No",0,"","65+",0,null,null,null,{"$f":"IF($B3305 & $C3305=\"\",\"\", IF(ISBLANK(D3305),\"BLANK\",\"\"))","v":""},"","","",{"$f":"IF($B3305 & $C3305=\"\",\"\", IF(ISBLANK(I3305),\"BLANK\",\"\"))","v":""},""]
[3293,null,null,null,null,null,null,null,null,null,null,null,null,null,"",{"$error":"#N/A"},{"$error":"#N/A"},null,null,null,null,null,null,null,null,null,null,null,null,null,null,null,null,null,null,null,null,125,"No",0,"","65+",0,null,null,null,{"$f":"IF($B3312 & $C3312=\"\",\"\", IF(ISBLANK(D3312),\"BLANK\",\"\"))","v":""},"","","",{"$f":"IF($B3312 & $C3312=\"\",\"\", IF(ISBLANK(I3312),\"BLANK\",\"\"))","v":""},""]
[3301,null,null,null,null,null,null,null,null,null,null,null,null,null,"",{"$error":"#N/A"},{"$error":"#N/A"},null,null,null,null,null,null,null,null,null,null,null,null,null,null,null,null,null,null,null,null,125,"No",0,"","65+",0,null,null,null,{"$f":"IF($B3320 & $C3320=\"\",\"\", IF(ISBLANK(D3320),\"BLANK\",\"\"))","v":""},"","","",{"$f":"IF($B3320 & $C3320=\"\",\"\", IF(ISBLANK(I3320),\"BLANK\",\"\"))","v":""},""]
[3316,null,null,null,null,null,null,null,null,null,null,null,null,null,"",{"$error":"#N/A"},{"$error":"#N/A"},null,null,null,null,null,null,null,null,null,null,null,null,null,null,null,null,null,null,null,null,125,"No",0,"","65+",0,null,null,null,{"$f":"IF($B3335 & $C3335=\"\",\"\", IF(ISBLANK(D3335),\"BLANK\",\"\"))","v":""},"","","",{"$f":"IF($B3335 & $C3335=\"\",\"\", IF(ISBLANK(I3335),\"BLANK\",\"\"))","v":""},""]
[3321,null,null,null,null,null,null,null,null,null,null,null,null,null,"",{"$error":"#N/A"},{"$error":"#N/A"},null,null,null,null,null,null,null,null,null,null,null,null,null,null,null,null,null,null,null,null,125,"No",0,"","65+",0,null,null,null,{"$f":"IF($B3340 & $C3340=\"\",\"\", IF(ISBLANK(D3340),\"BLANK\",\"\"))","v":""},"","","",{"$f":"IF($B3340 & $C3340=\"\",\"\", IF(ISBLANK(I3340),\"BLANK\",\"\"))","v":""},""]
[3332,null,null,null,null,null,null,null,null,null,null,null,null,null,"",{"$error":"#N/A"},{"$error":"#N/A"},null,null,null,null,null,null,null,null,null,null,null,null,null,null,null,null,null,null,null,null,125,"No",0,"","65+",0,null,null,null,{"$f":"IF($B3351 & $C3351=\"\",\"\", IF(ISBLANK(D3351),\"BLANK\",\"\"))","v":""},"","","",{"$f":"IF($B3351 & $C3351=\"\",\"\", IF(ISBLANK(I3351),\"BLANK\",\"\"))","v":""},""]
[3347,null,null,null,null,null,null,null,null,null,null,null,null,null,"",{"$error":"#N/A"},{"$error":"#N/A"},null,null,null,null,null,null,null,null,null,null,null,null,null,null,null,null,null,null,null,null,125,"No",0,"","65+",0,null,null,null,{"$f":"IF($B3366 & $C3366=\"\",\"\", IF(ISBLANK(D3366),\"BLANK\",\"\"))","v":""},"","","",{"$f":"IF($B3366 & $C3366=\"\",\"\", IF(ISBLANK(I3366),\"BLANK\",\"\"))","v":""},""]
[3351,null,null,null,null,null,null,null,null,null,null,null,null,null,"",{"$error":"#N/A"},{"$error":"#N/A"},null,null,null,null,null,null,null,null,null,null,null,null,null,null,null,null,null,null,null,null,125,"No",0,"","65+",0,null,null,null,{"$f":"IF($B3370 & $C3370=\"\",\"\", IF(ISBLANK(D3370),\"BLANK\",\"\"))","v":""},"","","",{"$f":"IF($B3370 & $C3370=\"\",\"\", IF(ISBLANK(I3370),\"BLANK\",\"\"))","v":""},""]
[3362,null,null,null,null,null,null,null,null,null,null,null,null,null,"",{"$error":"#N/A"},{"$error":"#N/A"},null,null,null,null,null,null,null,null,null,null,null,null,null,null,null,null,null,null,null,null,125,"No",0,"","65+",0,null,null,null,{"$f":"IF($B3381 & $C3381=\"\",\"\", IF(ISBLANK(D3381),\"BLANK\",\"\"))","v":""},"","","",{"$f":"IF($B3381 & $C3381=\"\",\"\", IF(ISBLANK(I3381),\"BLANK\",\"\"))","v":""},""]
[3377,null,null,null,null,null,null,null,null,null,null,null,null,null,"",{"$error":"#N/A"},{"$error":"#N/A"},null,null,null,null,null,null,null,null,null,null,null,null,null,null,null,null,null,null,null,null,125,"No",0,"","65+",0,null,null,null,{"$f":"IF($B3396 & $C3396=\"\",\"\", IF(ISBLANK(D3396),\"BLANK\",\"\"))","v":""},"","","",{"$f":"IF($B3396 & $C3396=\"\",\"\", IF(ISBLANK(I3396),\"BLANK\",\"\"))","v":""},""]
[3388,null,null,null,null,null,null,null,null,null,null,null,null,null,"",{"$error":"#N/A"},{"$error":"#N/A"},null,null,null,null,null,null,null,null,null,null,null,null,null,null,null,null,null,null,null,null,125,"No",0,"","65+",0,null,null,null,{"$f":"IF($B3407 & $C3407=\"\",\"\", IF(ISBLANK(D3407),\"BLANK\",\"\"))","v":""},"","","",{"$f":"IF($B3407 & $C3407=\"\",\"\", IF(ISBLANK(I3407),\"BLANK\",\"\"))","v":""},""]
[3392,null,null,null,null,null,null,null,null,null,null,null,null,null,"",{"$error":"#N/A"},{"$error":"#N/A"},null,null,null,null,null,null,null,null,null,null,null,null,null,null,null,null,null,null,null,null,125,"No",0,"","65+",0,null,null,null,{"$f":"IF($B3411 & $C3411=\"\",\"\", IF(ISBLANK(D3411),\"BLANK\",\"\"))","v":""},"","","",{"$f":"IF($B3411 & $C3411=\"\",\"\", IF(ISBLANK(I3411),\"BLANK\",\"\"))","v":""},""]
[3407,null,null,null,null,null,null,null,null,null,null,null,null,null,"",{"$error":"#N/A"},{"$error":"#N/A"},null,null,null,null,null,null,null,null,null,null,null,null,null,null,null,null,null,null,null,null,125,"No",0,"","65+",0,null,null,null,{"$f":"IF($B3426 & $C3426=\"\",\"\", IF(ISBLANK(D3426),\"BLANK\",\"\"))","v":""},"","","",{"$f":"IF($B3426 & $C3426=\"\",\"\", IF(ISBLANK(I3426),\"BLANK\",\"\"))","v":""},""]
[3408,null,null,null,null,null,null,null,null,null,null,null,null,null,"",{"$error":"#N/A"},{"$error":"#N/A"},null,null,null,null,null,null,null,null,null,null,null,null,null,null,null,null,null,null,null,null,125,"No",0,"","65+",0,null,null,null,{"$f":"IF($B3427 & $C3427=\"\",\"\", IF(ISBLANK(D3427),\"BLANK\",\"\"))","v":""},"","","",{"$f":"IF($B3427 & $C3427=\"\",\"\", IF(ISBLANK(I3427),\"BLANK\",\"\"))","v":""},""]
[3423,null,null,null,null,null,null,null,null,null,null,null,null,null,"",{"$error":"#N/A"},{"$error":"#N/A"},null,null,null,null,null,null,null,null,null,null,null,null,null,null,null,null,null,null,null,null,125,"No",0,"","65+",0,null,null,null,{"$f":"IF($B3442 & $C3442=\"\",\"\", IF(ISBLANK(D3442),\"BLANK\",\"\"))","v":""},"","","",{"$f":"IF($B3442 & $C3442=\"\",\"\", IF(ISBLANK(I3442),\"BLANK\",\"\"))","v":""},""]
[3429,null,null,null,null,null,null,null,null,null,null,null,null,null,"",{"$error":"#N/A"},{"$error":"#N/A"},null,null,null,null,null,null,null,null,null,null,null,null,null,null,null,null,null,null,null,null,125,"No",0,"","65+",0,null,null,null,{"$f":"IF($B3448 & $C3448=\"\",\"\", IF(ISBLANK(D3448),\"BLANK\",\"\"))","v":""},"","","",{"$f":"IF($B3448 & $C3448=\"\",\"\", IF(ISBLANK(I3448),\"BLANK\",\"\"))","v":""},""]
[3438,null,null,null,null,null,null,null,null,null,null,null,null,null,"",{"$error":"#N/A"},{"$error":"#N/A"},null,null,null,null,null,null,null,null,null,null,null,null,null,null,null,null,null,null,null,null,125,"No",0,"","65+",0,null,null,null,{"$f":"IF($B3457 & $C3457=\"\",\"\", IF(ISBLANK(D3457),\"BLANK\",\"\"))","v":""},"","","",{"$f":"IF($B3457 & $C3457=\"\",\"\", IF(ISBLANK(I3457),\"BLANK\",\"\"))","v":""},""]
[3453,null,null,null,null,null,null,null,null,null,null,null,null,null,"",{"$error":"#N/A"},{"$error":"#N/A"},null,null,null,null,null,null,null,null,null,null,null,null,null,null,null,null,null,null,null,null,125,"No",0,"","65+",0,null,null,null,{"$f":"IF($B3472 & $C3472=\"\",\"\", IF(ISBLANK(D3472),\"BLANK\",\"\"))","v":""},"","","",{"$f":"IF($B3472 & $C3472=\"\",\"\", IF(ISBLANK(I3472),\"BLANK\",\"\"))","v":""},""]
[3464,null,null,null,null,null,null,null,null,null,null,null,null,null,"",{"$error":"#N/A"},{"$error":"#N/A"},null,null,null,null,null,null,null,null,null,null,null,null,null,null,null,null,null,null,null,null,125,"No",0,"","65+",0,null,null,null,{"$f":"IF($B3483 & $C3483=\"\",\"\", IF(ISBLANK(D3483),\"BLANK\",\"\"))","v":""},"","","",{"$f":"IF($B3483 & $C3483=\"\",\"\", IF(ISBLANK(I3483),\"BLANK\",\"\"))","v":""},""]
[3469,null,null,null,null,null,null,null,null,null,null,null,null,null,"",{"$error":"#N/A"},{"$error":"#N/A"},null,null,null,null,null,null,null,null,null,null,null,null,null,null,null,null,null,null,null,null,125,"No",0,"","65+",0,null,null,null,{"$f":"IF($B3488 & $C3488=\"\",\"\", IF(ISBLANK(D3488),\"BLANK\",\"\"))","v":""},"","","",{"$f":"IF($B3488 & $C3488=\"\",\"\", IF(ISBLANK(I3488),\"BLANK\",\"\"))","v":""},""]
[3483,null,null,null,null,null,null,null,null,null,null,null,null,null,"",{"$error":"#N/A"},{"$error":"#N/A"},null,null,null,null,null,null,null,null,null,null,null,null,null,null,null,null,null,null,null,null,125,"No",0,"","65+",0,null,null,null,{"$f":"IF($B3502 & $C3502=\"\",\"\", IF(ISBLANK(D3502),\"BLANK\",\"\"))","v":""},"","","",{"$f":"IF($B3502 & $C3502=\"\",\"\", IF(ISBLANK(I3502),\"BLANK\",\"\"))","v":""},""]
[3494,null,null,null,null,null,null,null,null,null,null,null,null,null,"",{"$error":"#N/A"},{"$error":"#N/A"},null,null,null,null,null,null,null,null,null,null,null,null,null,null,null,null,null,null,null,null,125,"No",0,"","65+",0,null,null,null,{"$f":"IF($B3513 & $C3513=\"\",\"\", IF(ISBLANK(D3513),\"BLANK\",\"\"))","v":""},"","","",{"$f":"IF($B3513 & $C3513=\"\",\"\", IF(ISBLANK(I3513),\"BLANK\",\"\"))","v":""},""]
[3499,null,null,null,null,null,null,null,null,null,null,null,null,null,"",{"$error":"#N/A"},{"$error":"#N/A"},null,null,null,null,null,null,null,null,null,null,null,null,null,null,null,null,null,null,null,null,125,"No",0,"","65+",0,null,null,null,{"$f":"IF($B3518 & $C3518=\"\",\"\", IF(ISBLANK(D3518),\"BLANK\",\"\"))","v":""},"","","",{"$f":"IF($B3518 & $C3518=\"\",\"\", IF(ISBLANK(I3518),\"BLANK\",\"\"))","v":""},""]
[3510,null,null,null,null,null,null,null,null,null,null,null,null,null,"",{"$error":"#N/A"},{"$error":"#N/A"},null,null,null,null,null,null,null,null,null,null,null,null,null,null,null,null,null,null,null,null,125,"No",0,"","65+",0,null,null,null,{"$f":"IF($B3529 & $C3529=\"\",\"\", IF(ISBLANK(D3529),\"BLANK\",\"\"))","v":""},"","","",{"$f":"IF($B3529 & $C3529=\"\",\"\", IF(ISBLANK(I3529),\"BLANK\",\"\"))","v":""},""]
[3525,null,null,null,null,null,null,null,null,null,null,null,null,null,"",{"$error":"#N/A"},{"$error":"#N/A"},null,null,null,null,null,null,null,null,null,null,null,null,null,null,null,null,null,null,null,null,125,"No",0,"","65+",0,null,null,null,{"$f":"IF($B3544 & $C3544=\"\",\"\", IF(ISBLANK(D3544),\"BLANK\",\"\"))","v":""},"","","",{"$f":"IF($B3544 & $C3544=\"\",\"\", IF(ISBLANK(I3544),\"BLANK\",\"\"))","v":""},""]
[3528,null,null,null,null,null,null,null,null,null,null,null,null,null,"",{"$error":"#N/A"},{"$error":"#N/A"},null,null,null,null,null,null,null,null,null,null,null,null,null,null,null,null,null,null,null,null,125,"No",0,"","65+",0,null,null,null,{"$f":"IF($B3547 & $C3547=\"\",\"\", IF(ISBLANK(D3547),\"BLANK\",\"\"))","v":""},"","","",{"$f":"IF($B3547 & $C3547=\"\",\"\", IF(ISBLANK(I3547),\"BLANK\",\"\"))","v":""},""]
[3540,null,null,null,null,null,null,null,null,null,null,null,null,null,"",{"$error":"#N/A"},{"$error":"#N/A"},null,null,null,null,null,null,null,null,null,null,null,null,null,null,null,null,null,null,null,null,125,"No",0,"","65+",0,null,null,null,{"$f":"IF($B3559 & $C3559=\"\",\"\", IF(ISBLANK(D3559),\"BLANK\",\"\"))","v":""},"","","",{"$f":"IF($B3559 & $C3559=\"\",\"\", IF(ISBLANK(I3559),\"BLANK\",\"\"))","v":""},""]
[3545,null,null,null,null,null,null,null,null,null,null,null,null,null,"",{"$error":"#N/A"},{"$error":"#N/A"},null,null,null,null,null,null,null,null,null,null,null,null,null,null,null,null,null,null,null,null,125,"No",0,"","65+",0,null,null,null,{"$f":"IF($B3564 & $C3564=\"\",\"\", IF(ISBLANK(D3564),\"BLANK\",\"\"))","v":""},"","","",{"$f":"IF($B3564 & $C3564=\"\",\"\", IF(ISBLANK(I3564),\"BLANK\",\"\"))","v":""},""]
[3560,null,null,null,null,null,null,null,null,null,null,null,null,null,"",{"$error":"#N/A"},{"$error":"#N/A"},null,null,null,null,null,null,null,null,null,null,null,null,null,null,null,null,null,null,null,null,125,"No",0,"","65+",0,null,null,null,{"$f":"IF($B3579 & $C3579=\"\",\"\", IF(ISBLANK(D3579),\"BLANK\",\"\"))","v":""},"","","",{"$f":"IF($B3579 & $C3579=\"\",\"\", IF(ISBLANK(I3579),\"BLANK\",\"\"))","v":""},""]
[3571,null,null,null,null,null,null,null,null,null,null,null,null,null,"",{"$error":"#N/A"},{"$error":"#N/A"},null,null,null,null,null,null,null,null,null,null,null,null,null,null,null,null,null,null,null,null,125,"No",0,"","65+",0,null,null,null,{"$f":"IF($B3590 & $C3590=\"\",\"\", IF(ISBLANK(D3590),\"BLANK\",\"\"))","v":""},"","","",{"$f":"IF($B3590 & $C3590=\"\",\"\", IF(ISBLANK(I3590),\"BLANK\",\"\"))","v":""},""]
[3582,null,null,null,null,null,null,null,null,null,null,null,null,null,"",{"$error":"#N/A"},{"$error":"#N/A"},null,null,null,null,null,null,null,null,null,null,null,null,null,null,null,null,null,null,null,null,125,"No",0,"","65+",0,null,null,null,{"$f":"IF($B3601 & $C3601=\"\",\"\", IF(ISBLANK(D3601),\"BLANK\",\"\"))","v":""},"","","",{"$f":"IF($B3601 & $C3601=\"\",\"\", IF(ISBLANK(I3601),\"BLANK\",\"\"))","v":""},""]
[3586,null,null,null,null,null,null,null,null,null,null,null,null,null,"",{"$error":"#N/A"},{"$error":"#N/A"},null,null,null,null,null,null,null,null,null,null,null,null,null,null,null,null,null,null,null,null,125,"No",0,"","65+",0,null,null,null,{"$f":"IF($B3605 & $C3605=\"\",\"\", IF(ISBLANK(D3605),\"BLANK\",\"\"))","v":""},"","","",{"$f":"IF($B3605 & $C3605=\"\",\"\", IF(ISBLANK(I3605),\"BLANK\",\"\"))","v":""},""]
[3601,null,null,null,null,null,null,null,null,null,null,null,null,null,"",{"$error":"#N/A"},{"$error":"#N/A"},null,null,null,null,null,null,null,null,null,null,null,null,null,null,null,null,null,null,null,null,125,"No",0,"","65+",0,null,null,null,{"$f":"IF($B3620 & $C3620=\"\",\"\", IF(ISBLANK(D3620),\"BLANK\",\"\"))","v":""},"","","",{"$f":"IF($B3620 & $C3620=\"\",\"\", IF(ISBLANK(I3620),\"BLANK\",\"\"))","v":""},""]
[3606,null,null,null,null,null,null,null,null,null,null,null,null,null,"",{"$error":"#N/A"},{"$error":"#N/A"},null,null,null,null,null,null,null,null,null,null,null,null,null,null,null,null,null,null,null,null,125,"No",0,"","65+",0,null,null,null,{"$f":"IF($B3625 & $C3625=\"\",\"\", IF(ISBLANK(D3625),\"BLANK\",\"\"))","v":""},"","","",{"$f":"IF($B3625 & $C3625=\"\",\"\", IF(ISBLANK(I3625),\"BLANK\",\"\"))","v":""},""]
[3614,null,null,null,null,null,null,null,null,null,null,null,null,null,"",{"$error":"#N/A"},{"$error":"#N/A"},null,null,null,null,null,null,null,null,null,null,null,null,null,null,null,null,null,null,null,null,125,"No",0,"","65+",0,null,null,null,{"$f":"IF($B3633 & $C3633=\"\",\"\", IF(ISBLANK(D3633),\"BLANK\",\"\"))","v":""},"","","",{"$f":"IF($B3633 & $C3633=\"\",\"\", IF(ISBLANK(I3633),\"BLANK\",\"\"))","v":""},""]
[3631,null,null,null,null,null,null,null,null,null,null,null,null,null,"",{"$error":"#N/A"},{"$error":"#N/A"},null,null,null,null,null,null,null,null,null,null,null,null,null,null,null,null,null,null,null,null,125,"No",0,"","65+",0,null,null,null,{"$f":"IF($B3650 & $C3650=\"\",\"\", IF(ISBLANK(D3650),\"BLANK\",\"\"))","v":""},"","","",{"$f":"IF($B3650 & $C3650=\"\",\"\", IF(ISBLANK(I3650),\"BLANK\",\"\"))","v":""},""]
[3636,null,null,null,null,null,null,null,null,null,null,null,null,null,"",{"$error":"#N/A"},{"$error":"#N/A"},null,null,null,null,null,null,null,null,null,null,null,null,null,null,null,null,null,null,null,null,125,"No",0,"","65+",0,null,null,null,{"$f":"IF($B3655 & $C3655=\"\",\"\", IF(ISBLANK(D3655),\"BLANK\",\"\"))","v":""},"","","",{"$f":"IF($B3655 & $C3655=\"\",\"\", IF(ISBLANK(I3655),\"BLANK\",\"\"))","v":""},""]
[3647,null,null,null,null,null,null,null,null,null,null,null,null,null,"",{"$error":"#N/A"},{"$error":"#N/A"},null,null,null,null,null,null,null,null,null,null,null,null,null,null,null,null,null,null,null,null,125,"No",0,"","65+",0,null,null,null,{"$f":"IF($B3666 & $C3666=\"\",\"\", IF(ISBLANK(D3666),\"BLANK\",\"\"))","v":""},"","","",{"$f":"IF($B3666 & $C3666=\"\",\"\", IF(ISBLANK(I3666),\"BLANK\",\"\"))","v":""},""]
[3662,null,null,null,null,null,null,null,null,null,null,null,null,null,"",{"$error":"#N/A"},{"$error":"#N/A"},null,null,null,null,null,null,null,null,null,null,null,null,null,null,null,null,null,null,null,null,125,"No",0,"","65+",0,null,null,null,{"$f":"IF($B3681 & $C3681=\"\",\"\", IF(ISBLANK(D3681),\"BLANK\",\"\"))","v":""},"","","",{"$f":"IF($B3681 & $C3681=\"\",\"\", IF(ISBLANK(I3681),\"BLANK\",\"\"))","v":""},""]
[3668,null,null,null,null,null,null,null,null,null,null,null,null,null,"",{"$error":"#N/A"},{"$error":"#N/A"},null,null,null,null,null,null,null,null,null,null,null,null,null,null,null,null,null,null,null,null,125,"No",0,"","65+",0,null,null,null,{"$f":"IF($B3687 & $C3687=\"\",\"\", IF(ISBLANK(D3687),\"BLANK\",\"\"))","v":""},"","","",{"$f":"IF($B3687 & $C3687=\"\",\"\", IF(ISBLANK(I3687),\"BLANK\",\"\"))","v":""},""]
[3677,null,null,null,null,null,null,null,null,null,null,null,null,null,"",{"$error":"#N/A"},{"$error":"#N/A"},null,null,null,null,null,null,null,null,null,null,null,null,null,null,null,null,null,null,null,null,125,"No",0,"","65+",0,null,null,null,{"$f":"IF($B3696 & $C3696=\"\",\"\", IF(ISBLANK(D3696),\"BLANK\",\"\"))","v":""},"","","",{"$f":"IF($B3696 & $C3696=\"\",\"\", IF(ISBLANK(I3696),\"BLANK\",\"\"))","v":""},""]
[3682,null,null,null,null,null,null,null,null,null,null,null,null,null,"",{"$error":"#N/A"},{"$error":"#N/A"},null,null,null,null,null,null,null,null,null,null,null,null,null,null,null,null,null,null,null,null,125,"No",0,"","65+",0,null,null,null,{"$f":"IF($B3701 & $C3701=\"\",\"\", IF(ISBLANK(D3701),\"BLANK\",\"\"))","v":""},"","","",{"$f":"IF($B3701 & $C3701=\"\",\"\", IF(ISBLANK(I3701),\"BLANK\",\"\"))","v":""},""]
[3693,null,null,null,null,null,null,null,null,null,null,null,null,null,"",{"$error":"#N/A"},{"$error":"#N/A"},null,null,null,null,null,null,null,null,null,null,null,null,null,null,null,null,null,null,null,null,125,"No",0,"","65+",0,null,null,null,{"$f":"IF($B3712 & $C3712=\"\",\"\", IF(ISBLANK(D3712),\"BLANK\",\"\"))","v":""},"","","",{"$f":"IF($B3712 & $C3712=\"\",\"\", IF(ISBLANK(I3712),\"BLANK\",\"\"))","v":""},""]
[3708,null,null,null,null,null,null,null,null,null,null,null,null,null,"",{"$error":"#N/A"},{"$error":"#N/A"},null,null,null,null,null,null,null,null,null,null,null,null,null,null,null,null,null,null,null,null,125,"No",0,"","65+",0,null,null,null,{"$f":"IF($B3727 & $C3727=\"\",\"\", IF(ISBLANK(D3727),\"BLANK\",\"\"))","v":""},"","","",{"$f":"IF($B3727 & $C3727=\"\",\"\", IF(ISBLANK(I3727),\"BLANK\",\"\"))","v":""},""]
[3713,null,null,null,null,null,null,null,null,null,null,null,null,null,"",{"$error":"#N/A"},{"$error":"#N/A"},null,null,null,null,null,null,null,null,null,null,null,null,null,null,null,null,null,null,null,null,125,"No",0,"","65+",0,null,null,null,{"$f":"IF($B3732 & $C3732=\"\",\"\", IF(ISBLANK(D3732),\"BLANK\",\"\"))","v":""},"","","",{"$f":"IF($B3732 & $C3732=\"\",\"\", IF(ISBLANK(I3732),\"BLANK\",\"\"))","v":""},""]
[3723,null,null,null,null,null,null,null,null,null,null,null,null,null,"",{"$error":"#N/A"},{"$error":"#N/A"},null,null,null,null,null,null,null,null,null,null,null,null,null,null,null,null,null,null,null,null,125,"No",0,"","65+",0,null,null,null,{"$f":"IF($B3742 & $C3742=\"\",\"\", IF(ISBLANK(D3742),\"BLANK\",\"\"))","v":""},"","","",{"$f":"IF($B3742 & $C3742=\"\",\"\", IF(ISBLANK(I3742),\"BLANK\",\"\"))","v":""},""]
[3738,null,null,null,null,null,null,null,null,null,null,null,null,null,"",{"$error":"#N/A"},{"$error":"#N/A"},null,null,null,null,null,null,null,null,null,null,null,null,null,null,null,null,null,null,null,null,125,"No",0,"","65+",0,null,null,null,{"$f":"IF($B3757 & $C3757=\"\",\"\", IF(ISBLANK(D3757),\"BLANK\",\"\"))","v":""},"","","",{"$f":"IF($B3757 & $C3757=\"\",\"\", IF(ISBLANK(I3757),\"BLANK\",\"\"))","v":""},""]
[3749,null,null,null,null,null,null,null,null,null,null,null,null,null,"",{"$error":"#N/A"},{"$error":"#N/A"},null,null,null,null,null,null,null,null,null,null,null,null,null,null,null,null,null,null,null,null,125,"No",0,"","65+",0,null,null,null,{"$f":"IF($B3768 & $C3768=\"\",\"\", IF(ISBLANK(D3768),\"BLANK\",\"\"))","v":""},"","","",{"$f":"IF($B3768 & $C3768=\"\",\"\", IF(ISBLANK(I3768),\"BLANK\",\"\"))","v":""},""]
[3759,null,null,null,null,null,null,null,null,null,null,null,null,null,"",{"$error":"#N/A"},{"$error":"#N/A"},null,null,null,null,null,null,null,null,null,null,null,null,null,null,null,null,null,null,null,null,125,"No",0,"","65+",0,null,null,null,{"$f":"IF($B3778 & $C3778=\"\",\"\", IF(ISBLANK(D3778),\"BLANK\",\"\"))","v":""},"","","",{"$f":"IF($B3778 & $C3778=\"\",\"\", IF(ISBLANK(I3778),\"BLANK\",\"\"))","v":""},""]
[3768,null,null,null,null,null,null,null,null,null,null,null,null,null,"",{"$error":"#N/A"},{"$error":"#N/A"},null,null,null,null,null,null,null,null,null,null,null,null,null,null,null,null,null,null,null,null,125,"No",0,"","65+",0,null,null,null,{"$f":"IF($B3787 & $C3787=\"\",\"\", IF(ISBLANK(D3787),\"BLANK\",\"\"))","v":""},"","","",{"$f":"IF($B3787 & $C3787=\"\",\"\", IF(ISBLANK(I3787),\"BLANK\",\"\"))","v":""},""]
[3779,null,null,null,null,null,null,null,null,null,null,null,null,null,"",{"$error":"#N/A"},{"$error":"#N/A"},null,null,null,null,null,null,null,null,null,null,null,null,null,null,null,null,null,null,null,null,125,"No",0,"","65+",0,null,null,null,{"$f":"IF($B3798 & $C3798=\"\",\"\", IF(ISBLANK(D3798),\"BLANK\",\"\"))","v":""},"","","",{"$f":"IF($B3798 & $C3798=\"\",\"\", IF(ISBLANK(I3798),\"BLANK\",\"\"))","v":""},""]
[3784,null,null,null,null,null,null,null,null,null,null,null,null,null,"",{"$error":"#N/A"},{"$error":"#N/A"},null,null,null,null,null,null,null,null,null,null,null,null,null,null,null,null,null,null,null,null,125,"No",0,"","65+",0,null,null,null,{"$f":"IF($B3803 & $C3803=\"\",\"\", IF(ISBLANK(D3803),\"BLANK\",\"\"))","v":""},"","","",{"$f":"IF($B3803 & $C3803=\"\",\"\", IF(ISBLANK(I3803),\"BLANK\",\"\"))","v":""},""]
[3795,null,null,null,null,null,null,null,null,null,null,null,null,null,"",{"$error":"#N/A"},{"$error":"#N/A"},null,null,null,null,null,null,null,null,null,null,null,null,null,null,null,null,null,null,null,null,125,"No",0,"","65+",0,null,null,null,{"$f":"IF($B3814 & $C3814=\"\",\"\", IF(ISBLANK(D3814),\"BLANK\",\"\"))","v":""},"","","",{"$f":"IF($B3814 & $C3814=\"\",\"\", IF(ISBLANK(I3814),\"BLANK\",\"\"))","v":""},""]
[3804,null,null,null,null,null,null,null,null,null,null,null,null,null,"",{"$error":"#N/A"},{"$error":"#N/A"},null,null,null,null,null,null,null,null,null,null,null,null,null,null,null,null,null,null,null,null,125,"No",0,"","65+",0,null,null,null,{"$f":"IF($B3823 & $C3823=\"\",\"\", IF(ISBLANK(D3823),\"BLANK\",\"\"))","v":""},"","","",{"$f":"IF($B3823 & $C3823=\"\",\"\", IF(ISBLANK(I3823),\"BLANK\",\"\"))","v":""},""]
[3814,null,null,null,null,null,null,null,null,null,null,null,null,null,"",{"$error":"#N/A"},{"$error":"#N/A"},null,null,null,null,null,null,null,null,null,null,null,null,null,null,null,null,null,null,null,null,125,"No",0,"","65+",0,null,null,null,{"$f":"IF($B3833 & $C3833=\"\",\"\", IF(ISBLANK(D3833),\"BLANK\",\"\"))","v":""},"","","",{"$f":"IF($B3833 & $C3833=\"\",\"\", IF(ISBLANK(I3833),\"BLANK\",\"\"))","v":""},""]
[3825,null,null,null,null,null,null,null,null,null,null,null,null,null,"",{"$error":"#N/A"},{"$error":"#N/A"},null,null,null,null,null,null,null,null,null,null,null,null,null,null,null,null,null,null,null,null,125,"No",0,"","65+",0,null,null,null,{"$f":"IF($B3844 & $C3844=\"\",\"\", IF(ISBLANK(D3844),\"BLANK\",\"\"))","v":""},"","","",{"$f":"IF($B3844 & $C3844=\"\",\"\", IF(ISBLANK(I3844),\"BLANK\",\"\"))","v":""},""]
[3830,null,null,null,null,null,null,null,null,null,null,null,null,null,"",{"$error":"#N/A"},{"$error":"#N/A"},null,null,null,null,null,null,null,null,null,null,null,null,null,null,null,null,null,null,null,null,125,"No",0,"","65+",0,null,null,null,{"$f":"IF($B3849 & $C3849=\"\",\"\", IF(ISBLANK(D3849),\"BLANK\",\"\"))","v":""},"","","",{"$f":"IF($B3849 & $C3849=\"\",\"\", IF(ISBLANK(I3849),\"BLANK\",\"\"))","v":""},""]
[3841,null,null,null,null,null,null,null,null,null,null,null,null,null,"",{"$error":"#N/A"},{"$error":"#N/A"},null,null,null,null,null,null,null,null,null,null,null,null,null,null,null,null,null,null,null,null,125,"No",0,"","65+",0,null,null,null,{"$f":"IF($B3860 & $C3860=\"\",\"\", IF(ISBLANK(D3860),\"BLANK\",\"\"))","v":""},"","","",{"$f":"IF($B3860 & $C3860=\"\",\"\", IF(ISBLANK(I3860),\"BLANK\",\"\"))","v":""},""]
[3849,null,null,null,null,null,null,null,null,null,null,null,null,null,"",{"$error":"#N/A"},{"$error":"#N/A"},null,null,null,null,null,null,null,null,null,null,null,null,null,null,null,null,null,null,null,null,125,"No",0,"","65+",0,null,null,null,{"$f":"IF($B3868 & $C3868=\"\",\"\", IF(ISBLANK(D3868),\"BLANK\",\"\"))","v":""},"","","",{"$f":"IF($B3868 & $C3868=\"\",\"\", IF(ISBLANK(I3868),\"BLANK\",\"\"))","v":""},""]
[3860,null,null,null,null,null,null,null,null,null,null,null,null,null,"",{"$error":"#N/A"},{"$error":"#N/A"},null,null,null,null,null,null,null,null,null,null,null,null,null,null,null,null,null,null,null,null,125,"No",0,"","65+",0,null,null,null,{"$f":"IF($B3879 & $C3879=\"\",\"\", IF(ISBLANK(D3879),\"BLANK\",\"\"))","v":""},"","","",{"$f":"IF($B3879 & $C3879=\"\",\"\", IF(ISBLANK(I3879),\"BLANK\",\"\"))","v":""},""]
[3871,null,null,null,null,null,null,null,null,null,null,null,null,null,"",{"$error":"#N/A"},{"$error":"#N/A"},null,null,null,null,null,null,null,null,null,null,null,null,null,null,null,null,null,null,null,null,125,"No",0,"","65+",0,null,null,null,{"$f":"IF($B3890 & $C3890=\"\",\"\", IF(ISBLANK(D3890),\"BLANK\",\"\"))","v":""},"","","",{"$f":"IF($B3890 & $C3890=\"\",\"\", IF(ISBLANK(I3890),\"BLANK\",\"\"))","v":""},""]
[3886,null,null,null,null,null,null,null,null,null,null,null,null,null,"",{"$error":"#N/A"},{"$error":"#N/A"},null,null,null,null,null,null,null,null,null,null,null,null,null,null,null,null,null,null,null,null,125,"No",0,"","65+",0,null,null,null,{"$f":"IF($B3905 & $C3905=\"\",\"\", IF(ISBLANK(D3905),\"BLANK\",\"\"))","v":""},"","","",{"$f":"IF($B3905 & $C3905=\"\",\"\", IF(ISBLANK(I3905),\"BLANK\",\"\"))","v":""},""]
[3891,null,null,null,null,null,null,null,null,null,null,null,null,null,"",{"$error":"#N/A"},{"$error":"#N/A"},null,null,null,null,null,null,null,null,null,null,null,null,null,null,null,null,null,null,null,null,125,"No",0,"","65+",0,null,null,null,{"$f":"IF($B3910 & $C3910=\"\",\"\", IF(ISBLANK(D3910),\"BLANK\",\"\"))","v":""},"","","",{"$f":"IF($B3910 & $C3910=\"\",\"\", IF(ISBLANK(I3910),\"BLANK\",\"\"))","v":""},""]
[3903,null,null,null,null,null,null,null,null,null,null,null,null,null,"",{"$error":"#N/A"},{"$error":"#N/A"},null,null,null,null,null,null,null,null,null,null,null,null,null,null,null,null,null,null,null,null,125,"No",0,"","65+",0,null,null,null,{"$f":"IF($B3922 & $C3922=\"\",\"\", IF(ISBLANK(D3922),\"BLANK\",\"\"))","v":""},"","","",{"$f":"IF($B3922 & $C3922=\"\",\"\", IF(ISBLANK(I3922),\"BLANK\",\"\"))","v":""},""]
[3916,null,null,null,null,null,null,null,null,null,null,null,null,null,"",{"$error":"#N/A"},{"$error":"#N/A"},null,null,null,null,null,null,null,null,null,null,null,null,null,null,null,null,null,null,null,null,125,"No",0,"","65+",0,null,null,null,{"$f":"IF($B3935 & $C3935=\"\",\"\", IF(ISBLANK(D3935),\"BLANK\",\"\"))","v":""},"","","",{"$f":"IF($B3935 & $C3935=\"\",\"\", IF(ISBLANK(I3935),\"BLANK\",\"\"))","v":""},""]
[3917,null,null,null,null,null,null,null,null,null,null,null,null,null,"",{"$error":"#N/A"},{"$error":"#N/A"},null,null,null,null,null,null,null,null,null,null,null,null,null,null,null,null,null,null,null,null,125,"No",0,"","65+",0,null,null,null,{"$f":"IF($B3936 & $C3936=\"\",\"\", IF(ISBLANK(D3936),\"BLANK\",\"\"))","v":""},"","","",{"$f":"IF($B3936 & $C3936=\"\",\"\", IF(ISBLANK(I3936),\"BLANK\",\"\"))","v":""},""]
[3932,null,null,null,null,null,null,null,null,null,null,null,null,null,"",{"$error":"#N/A"},{"$error":"#N/A"},null,null,null,null,null,null,null,null,null,null,null,null,null,null,null,null,null,null,null,null,125,"No",0,"","65+",0,null,null,null,{"$f":"IF($B3951 & $C3951=\"\",\"\", IF(ISBLANK(D3951),\"BLANK\",\"\"))","v":""},"","","",{"$f":"IF($B3951 & $C3951=\"\",\"\", IF(ISBLANK(I3951),\"BLANK\",\"\"))","v":""},""]
[3940,null,null,null,null,null,null,null,null,null,null,null,null,null,"",{"$error":"#N/A"},{"$error":"#N/A"},null,null,null,null,null,null,null,null,null,null,null,null,null,null,null,null,null,null,null,null,125,"No",0,"","65+",0,null,null,null,{"$f":"IF($B3959 & $C3959=\"\",\"\", IF(ISBLANK(D3959),\"BLANK\",\"\"))","v":""},"","","",{"$f":"IF($B3959 & $C3959=\"\",\"\", IF(ISBLANK(I3959),\"BLANK\",\"\"))","v":""},""]
[3947,null,null,null,null,null,null,null,null,null,null,null,null,null,"",{"$error":"#N/A"},{"$error":"#N/A"},null,null,null,null,null,null,null,null,null,null,null,null,null,null,null,null,null,null,null,null,125,"No",0,"","65+",0,null,null,null,{"$f":"IF($B3966 & $C3966=\"\",\"\", IF(ISBLANK(D3966),\"BLANK\",\"\"))","v":""},"","","",{"$f":"IF($B3966 & $C3966=\"\",\"\", IF(ISBLANK(I3966),\"BLANK\",\"\"))","v":""},""]
[3962,null,null,null,null,null,null,null,null,null,null,null,null,null,"",{"$error":"#N/A"},{"$error":"#N/A"},null,null,null,null,null,null,null,null,null,null,null,null,null,null,null,null,null,null,null,null,125,"No",0,"","65+",0,null,null,null,{"$f":"IF($B3981 & $C3981=\"\",\"\", IF(ISBLANK(D3981),\"BLANK\",\"\"))","v":""},"","","",{"$f":"IF($B3981 & $C3981=\"\",\"\", IF(ISBLANK(I3981),\"BLANK\",\"\"))","v":""},""]
[3967,null,null,null,null,null,null,null,null,null,null,null,null,null,"",{"$error":"#N/A"},{"$error":"#N/A"},null,null,null,null,null,null,null,null,null,null,null,null,null,null,null,null,null,null,null,null,125,"No",0,"","65+",0,null,null,null,{"$f":"IF($B3986 & $C3986=\"\",\"\", IF(ISBLANK(D3986),\"BLANK\",\"\"))","v":""},"","","",{"$f":"IF($B3986 & $C3986=\"\",\"\", IF(ISBLANK(I3986),\"BLANK\",\"\"))","v":""},""]
[3978,null,null,null,null,null,null,null,null,null,null,null,null,null,"",{"$error":"#N/A"},{"$error":"#N/A"},null,null,null,null,null,null,null,null,null,null,null,null,null,null,null,null,null,null,null,null,125,"No",0,"","65+",0,null,null,null,{"$f":"IF($B3997 & $C3997=\"\",\"\", IF(ISBLANK(D3997),\"BLANK\",\"\"))","v":""},"","","",{"$f":"IF($B3997 & $C3997=\"\",\"\", IF(ISBLANK(I3997),\"BLANK\",\"\"))","v":""},""]
[3994,null,null,null,null,null,null,null,null,null,null,null,null,null,"",{"$error":"#N/A"},{"$error":"#N/A"},null,null,null,null,null,null,null,null,null,null,null,null,null,null,null,null,null,null,null,null,125,"No",0,"","65+",0,null,null,null,{"$f":"IF($B4013 & $C4013=\"\",\"\", IF(ISBLANK(D4013),\"BLANK\",\"\"))","v":""},"","","",{"$f":"IF($B4013 & $C4013=\"\",\"\", IF(ISBLANK(I4013),\"BLANK\",\"\"))","v":""},""]
[4003,null,null,null,null,null,null,null,null,null,null,null,null,null,"",{"$error":"#N/A"},{"$error":"#N/A"},null,null,null,null,null,null,null,null,null,null,null,null,null,null,null,null,null,null,null,null,125,"No",0,"","65+",0,null,null,null,{"$f":"IF($B4022 & $C4022=\"\",\"\", IF(ISBLANK(D4022),\"BLANK\",\"\"))","v":""},"","","",{"$f":"IF($B4022 & $C4022=\"\",\"\", IF(ISBLANK(I4022),\"BLANK\",\"\"))","v":""},""]
[4008,null,null,null,null,null,null,null,null,null,null,null,null,null,"",{"$error":"#N/A"},{"$error":"#N/A"},null,null,null,null,null,null,null,null,null,null,null,null,null,null,null,null,null,null,null,null,125,"No",0,"","65+",0,null,null,null,{"$f":"IF($B4027 & $C4027=\"\",\"\", IF(ISBLANK(D4027),\"BLANK\",\"\"))","v":""},"","","",{"$f":"IF($B4027 & $C4027=\"\",\"\", IF(ISBLANK(I4027),\"BLANK\",\"\"))","v":""},""]
[4023,null,null,null,null,null,null,null,null,null,null,null,null,null,"",{"$error":"#N/A"},{"$error":"#N/A"},null,null,null,null,null,null,null,null,null,null,null,null,null,null,null,null,null,null,null,null,125,"No",0,"","65+",0,null,null,null,{"$f":"IF($B4042 & $C4042=\"\",\"\", IF(ISBLANK(D4042),\"BLANK\",\"\"))","v":""},"","","",{"$f":"IF($B4042 & $C4042=\"\",\"\", IF(ISBLANK(I4042),\"BLANK\",\"\"))","v":""},""]
[4034,null,null,null,null,null,null,null,null,null,null,null,null,null,"",{"$error":"#N/A"},{"$error":"#N/A"},null,null,null,null,null,null,null,null,null,null,null,null,null,null,null,null,null,null,null,null,125,"No",0,"","65+",0,null,null,null,{"$f":"IF($B4053 & $C4053=\"\",\"\", IF(ISBLANK(D4053),\"BLANK\",\"\"))","v":""},"","","",{"$f":"IF($B4053 & $C4053=\"\",\"\", IF(ISBLANK(I4053),\"BLANK\",\"\"))","v":""},""]
[4039,null,null,null,null,null,null,null,null,null,null,null,null,null,"",{"$error":"#N/A"},{"$error":"#N/A"},null,null,null,null,null,null,null,null,null,null,null,null,null,null,null,null,null,null,null,null,125,"No",0,"","65+",0,null,null,null,{"$f":"IF($B4058 & $C4058=\"\",\"\", IF(ISBLANK(D4058),\"BLANK\",\"\"))","v":""},"","","",{"$f":"IF($B4058 & $C4058=\"\",\"\", IF(ISBLANK(I4058),\"BLANK\",\"\"))","v":""},""]
[4049,null,null,null,null,null,null,null,null,null,null,null,null,null,"",{"$error":"#N/A"},{"$error":"#N/A"},null,null,null,null,null,null,null,null,null,null,null,null,null,null,null,null,null,null,null,null,125,"No",0,"","65+",0,null,null,null,{"$f":"IF($B4068 & $C4068=\"\",\"\", IF(ISBLANK(D4068),\"BLANK\",\"\"))","v":""},"","","",{"$f":"IF($B4068 & $C4068=\"\",\"\", IF(ISBLANK(I4068),\"BLANK\",\"\"))","v":""},""]
[4054,null,null,null,null,null,null,null,null,null,null,null,null,null,"",{"$error":"#N/A"},{"$error":"#N/A"},null,null,null,null,null,null,null,null,null,null,null,null,null,null,null,null,null,null,null,null,125,"No",0,"","65+",0,null,null,null,{"$f":"IF($B4073 & $C4073=\"\",\"\", IF(ISBLANK(D4073),\"BLANK\",\"\"))","v":""},"","","",{"$f":"IF($B4073 & $C4073=\"\",\"\", IF(ISBLANK(I4073),\"BLANK\",\"\"))","v":""},""]
[4069,null,null,null,null,null,null,null,null,null,null,null,null,null,"",{"$error":"#N/A"},{"$error":"#N/A"},null,null,null,null,null,null,null,null,null,null,null,null,null,null,null,null,null,null,null,null,125,"No",0,"","65+",0,null,null,null,{"$f":"IF($B4088 & $C4088=\"\",\"\", IF(ISBLANK(D4088),\"BLANK\",\"\"))","v":""},"","","",{"$f":"IF($B4088 & $C4088=\"\",\"\", IF(ISBLANK(I4088),\"BLANK\",\"\"))","v":""},""]
[4080,null,null,null,null,null,null,null,null,null,null,null,null,null,"",{"$error":"#N/A"},{"$error":"#N/A"},null,null,null,null,null,null,null,null,null,null,null,null,null,null,null,null,null,null,null,null,125,"No",0,"","65+",0,null,null,null,{"$f":"IF($B4099 & $C4099=\"\",\"\", IF(ISBLANK(D4099),\"BLANK\",\"\"))","v":""},"","","",{"$f":"IF($B4099 & $C4099=\"\",\"\", IF(ISBLANK(I4099),\"BLANK\",\"\"))","v":""},""]
[4084,null,null,null,null,null,null,null,null,null,null,null,null,null,"",{"$error":"#N/A"},{"$error":"#N/A"},null,null,null,null,null,null,null,null,null,null,null,null,null,null,null,null,null,null,null,null,125,"No",0,"","65+",0,null,null,null,{"$f":"IF($B4103 & $C4103=\"\",\"\", IF(ISBLANK(D4103),\"BLANK\",\"\"))","v":""},"","","",{"$f":"IF($B4103 & $C4103=\"\",\"\", IF(ISBLANK(I4103),\"BLANK\",\"\"))","v":""},""]
[4099,null,null,null,null,null,null,null,null,null,null,null,null,null,"",{"$error":"#N/A"},{"$error":"#N/A"},null,null,null,null,null,null,null,null,null,null,null,null,null,null,null,null,null,null,null,null,125,"No",0,"","65+",0,null,null,null,{"$f":"IF($B4118 & $C4118=\"\",\"\", IF(ISBLANK(D4118),\"BLANK\",\"\"))","v":""},"","","",{"$f":"IF($B4118 & $C4118=\"\",\"\", IF(ISBLANK(I4118),\"BLANK\",\"\"))","v":""},""]
[4110,null,null,null,null,null,null,null,null,null,null,null,null,null,"",{"$error":"#N/A"},{"$error":"#N/A"},null,null,null,null,null,null,null,null,null,null,null,null,null,null,null,null,null,null,null,null,125,"No",0,"","65+",0,null,null,null,{"$f":"IF($B4129 & $C4129=\"\",\"\", IF(ISBLANK(D4129),\"BLANK\",\"\"))","v":""},"","","",{"$f":"IF($B4129 & $C4129=\"\",\"\", IF(ISBLANK(I4129),\"BLANK\",\"\"))","v":""},""]
[4115,null,null,null,null,null,null,null,null,null,null,null,null,null,"",{"$error":"#N/A"},{"$error":"#N/A"},null,null,null,null,null,null,null,null,null,null,null,null,null,null,null,null,null,null,null,null,125,"No",0,"","65+",0,null,null,null,{"$f":"IF($B4134 & $C4134=\"\",\"\", IF(ISBLANK(D4134),\"BLANK\",\"\"))","v":""},"","","",{"$f":"IF($B4134 & $C4134=\"\",\"\", IF(ISBLANK(I4134),\"BLANK\",\"\"))","v":""},""]
[4125,null,null,null,null,null,null,null,null,null,null,null,null,null,"",{"$error":"#N/A"},{"$error":"#N/A"},null,null,null,null,null,null,null,null,null,null,null,null,null,null,null,null,null,null,null,null,125,"No",0,"","65+",0,null,null,null,{"$f":"IF($B4144 & $C4144=\"\",\"\", IF(ISBLANK(D4144),\"BLANK\",\"\"))","v":""},"","","",{"$f":"IF($B4144 & $C4144=\"\",\"\", IF(ISBLANK(I4144),\"BLANK\",\"\"))","v":""},""]
[4140,null,null,null,null,null,null,null,null,null,null,null,null,null,"",{"$error":"#N/A"},{"$error":"#N/A"},null,null,null,null,null,null,null,null,null,null,null,null,null,null,null,null,null,null,null,null,125,"No",0,"","65+",0,null,null,null,{"$f":"IF($B4159 & $C4159=\"\",\"\", IF(ISBLANK(D4159),\"BLANK\",\"\"))","v":""},"","","",{"$f":"IF($B4159 & $C4159=\"\",\"\", IF(ISBLANK(I4159),\"BLANK\",\"\"))","v":""},""]
[4145,null,null,null,null,null,null,null,null,null,null,null,null,null,"",{"$error":"#N/A"},{"$error":"#N/A"},null,null,null,null,null,null,null,null,null,null,null,null,null,null,null,null,null,null,null,null,125,"No",0,"","65+",0,null,null,null,{"$f":"IF($B4164 & $C4164=\"\",\"\", IF(ISBLANK(D4164),\"BLANK\",\"\"))","v":""},"","","",{"$f":"IF($B4164 & $C4164=\"\",\"\", IF(ISBLANK(I4164),\"BLANK\",\"\"))","v":""},""]
[4156,null,null,null,null,null,null,null,null,null,null,null,null,null,"",{"$error":"#N/A"},{"$error":"#N/A"},null,null,null,null,null,null,null,null,null,null,null,null,null,null,null,null,null,null,null,null,125,"No",0,"","65+",0,null,null,null,{"$f":"IF($B4175 & $C4175=\"\",\"\", IF(ISBLANK(D4175),\"BLANK\",\"\"))","v":""},"","","",{"$f":"IF($B4175 & $C4175=\"\",\"\", IF(ISBLANK(I4175),\"BLANK\",\"\"))","v":""},""]
[4171,null,null,null,null,null,null,null,null,null,null,null,null,null,"",{"$error":"#N/A"},{"$error":"#N/A"},null,null,null,null,null,null,null,null,null,null,null,null,null,null,null,null,null,null,null,null,125,"No",0,"","65+",0,null,null,null,{"$f":"IF($B4190 & $C4190=\"\",\"\", IF(ISBLANK(D4190),\"BLANK\",\"\"))","v":""},"","","",{"$f":"IF($B4190 & $C4190=\"\",\"\", IF(ISBLANK(I4190),\"BLANK\",\"\"))","v":""},""]
[4179,null,null,null,null,null,null,null,null,null,null,null,null,null,"",{"$error":"#N/A"},{"$error":"#N/A"},null,null,null,null,null,null,null,null,null,null,null,null,null,null,null,null,null,null,null,null,125,"No",0,"","65+",0,null,null,null,{"$f":"IF($B4198 & $C4198=\"\",\"\", IF(ISBLANK(D4198),\"BLANK\",\"\"))","v":""},"","","",{"$f":"IF($B4198 & $C4198=\"\",\"\", IF(ISBLANK(I4198),\"BLANK\",\"\"))","v":""},""]
[4186,null,null,null,null,null,null,null,null,null,null,null,null,null,"",{"$error":"#N/A"},{"$error":"#N/A"},null,null,null,null,null,null,null,null,null,null,null,null,null,null,null,null,null,null,null,null,125,"No",0,"","65+",0,null,null,null,{"$f":"IF($B4205 & $C4205=\"\",\"\", IF(ISBLANK(D4205),\"BLANK\",\"\"))","v":""},"","","",{"$f":"IF($B4205 & $C4205=\"\",\"\", IF(ISBLANK(I4205),\"BLANK\",\"\"))","v":""},""]
[4191,null,null,null,null,null,null,null,null,null,null,null,null,null,"",{"$error":"#N/A"},{"$error":"#N/A"},null,null,null,null,null,null,null,null,null,null,null,null,null,null,null,null,null,null,null,null,125,"No",0,"","65+",0,null,null,null,{"$f":"IF($B4210 & $C4210=\"\",\"\", IF(ISBLANK(D4210),\"BLANK\",\"\"))","v":""},"","","",{"$f":"IF($B4210 & $C4210=\"\",\"\", IF(ISBLANK(I4210),\"BLANK\",\"\"))","v":""},""]
[4202,null,null,null,null,null,null,null,null,null,null,null,null,null,"",{"$error":"#N/A"},{"$error":"#N/A"},null,null,null,null,null,null,null,null,null,null,null,null,null,null,null,null,null,null,null,null,125,"No",0,"","65+",0,null,null,null,{"$f":"IF($B4221 & $C4221=\"\",\"\", IF(ISBLANK(D4221),\"BLANK\",\"\"))","v":""},"","","",{"$f":"IF($B4221 & $C4221=\"\",\"\", IF(ISBLANK(I4221),\"BLANK\",\"\"))","v":""},""]
[4217,null,null,null,null,null,null,null,null,null,null,null,null,null,"",{"$error":"#N/A"},{"$error":"#N/A"},null,null,null,null,null,null,null,null,null,null,null,null,null,null,null,null,null,null,null,null,125,"No",0,"","65+",0,null,null,null,{"$f":"IF($B4236 & $C4236=\"\",\"\", IF(ISBLANK(D4236),\"BLANK\",\"\"))","v":""},"","","",{"$f":"IF($B4236 & $C4236=\"\",\"\", IF(ISBLANK(I4236),\"BLANK\",\"\"))","v":""},""]
[4229,null,null,null,null,null,null,null,null,null,null,null,null,null,"",{"$error":"#N/A"},{"$error":"#N/A"},null,null,null,null,null,null,null,null,null,null,null,null,null,null,null,null,null,null,null,null,125,"No",0,"","65+",0,null,null,null,{"$f":"IF($B4248 & $C4248=\"\",\"\", IF(ISBLANK(D4248),\"BLANK\",\"\"))","v":""},"","","",{"$f":"IF($B4248 & $C4248=\"\",\"\", IF(ISBLANK(I4248),\"BLANK\",\"\"))","v":""},""]
[4232,null,null,null,null,null,null,null,null,null,null,null,null,null,"",{"$error":"#N/A"},{"$error":"#N/A"},null,null,null,null,null,null,null,null,null,null,null,null,null,null,null,null,null,null,null,null,125,"No",0,"","65+",0,null,null,null,{"$f":"IF($B4251 & $C4251=\"\",\"\", IF(ISBLANK(D4251),\"BLANK\",\"\"))","v":""},"","","",{"$f":"IF($B4251 & $C4251=\"\",\"\", IF(ISBLANK(I4251),\"BLANK\",\"\"))","v":""},""]
[4247,null,null,null,null,null,null,null,null,null,null,null,null,null,"",{"$error":"#N/A"},{"$error":"#N/A"},null,null,null,null,null,null,null,null,null,null,null,null,null,null,null,null,null,null,null,null,125,"No",0,"","65+",0,null,null,null,{"$f":"IF($B4266 & $C4266=\"\",\"\", IF(ISBLANK(D4266),\"BLANK\",\"\"))","v":""},"","","",{"$f":"IF($B4266 & $C4266=\"\",\"\", IF(ISBLANK(I4266),\"BLANK\",\"\"))","v":""},""]
[4258,null,null,null,null,null,null,null,null,null,null,null,null,null,"",{"$error":"#N/A"},{"$error":"#N/A"},null,null,null,null,null,null,null,null,null,null,null,null,null,null,null,null,null,null,null,null,125,"No",0,"","65+",0,null,null,null,{"$f":"IF($B4277 & $C4277=\"\",\"\", IF(ISBLANK(D4277),\"BLANK\",\"\"))","v":""},"","","",{"$f":"IF($B4277 & $C4277=\"\",\"\", IF(ISBLANK(I4277),\"BLANK\",\"\"))","v":""},""]
[4261,null,null,null,null,null,null,null,null,null,null,null,null,null,"",{"$error":"#N/A"},{"$error":"#N/A"},null,null,null,null,null,null,null,null,null,null,null,null,null,null,null,null,null,null,null,null,125,"No",0,"","65+",0,null,null,null,{"$f":"IF($B4280 & $C4280=\"\",\"\", IF(ISBLANK(D4280),\"BLANK\",\"\"))","v":""},"","","",{"$f":"IF($B4280 & $C4280=\"\",\"\", IF(ISBLANK(I4280),\"BLANK\",\"\"))","v":""},""]
[4277,null,null,null,null,null,null,null,null,null,null,null,null,null,"",{"$error":"#N/A"},{"$error":"#N/A"},null,null,null,null,null,null,null,null,null,null,null,null,null,null,null,null,null,null,null,null,125,"No",0,"","65+",0,null,null,null,{"$f":"IF($B4296 & $C4296=\"\",\"\", IF(ISBLANK(D4296),\"BLANK\",\"\"))","v":""},"","","",{"$f":"IF($B4296 & $C4296=\"\",\"\", IF(ISBLANK(I4296),\"BLANK\",\"\"))","v":""},""]
[4288,null,null,null,null,null,null,null,null,null,null,null,null,null,"",{"$error":"#N/A"},{"$error":"#N/A"},null,null,null,null,null,null,null,null,null,null,null,null,null,null,null,null,null,null,null,null,125,"No",0,"","65+",0,null,null,null,{"$f":"IF($B4307 & $C4307=\"\",\"\", IF(ISBLANK(D4307),\"BLANK\",\"\"))","v":""},"","","",{"$f":"IF($B4307 & $C4307=\"\",\"\", IF(ISBLANK(I4307),\"BLANK\",\"\"))","v":""},""]
[4293,null,null,null,null,null,null,null,null,null,null,null,null,null,"",{"$error":"#N/A"},{"$error":"#N/A"},null,null,null,null,null,null,null,null,null,null,null,null,null,null,null,null,null,null,null,null,125,"No",0,"","65+",0,null,null,null,{"$f":"IF($B4312 & $C4312=\"\",\"\", IF(ISBLANK(D4312),\"BLANK\",\"\"))","v":""},"","","",{"$f":"IF($B4312 & $C4312=\"\",\"\", IF(ISBLANK(I4312),\"BLANK\",\"\"))","v":""},""]
[4308,null,null,null,null,null,null,null,null,null,null,null,null,null,"",{"$error":"#N/A"},{"$error":"#N/A"},null,null,null,null,null,null,null,null,null,null,null,null,null,null,null,null,null,null,null,null,125,"No",0,"","65+",0,null,null,null,{"$f":"IF($B4327 & $C4327=\"\",\"\", IF(ISBLANK(D4327),\"BLANK\",\"\"))","v":""},"","","",{"$f":"IF($B4327 & $C4327=\"\",\"\", IF(ISBLANK(I4327),\"BLANK\",\"\"))","v":""},""]
[4315,null,null,null,null,null,null,null,null,null,null,null,null,null,"",{"$error":"#N/A"},{"$error":"#N/A"},null,null,null,null,null,null,null,null,null,null,null,null,null,null,null,null,null,null,null,null,125,"No",0,"","65+",0,null,null,null,{"$f":"IF($B4334 & $C4334=\"\",\"\", IF(ISBLANK(D4334),\"BLANK\",\"\"))","v":""},"","","",{"$f":"IF($B4334 & $C4334=\"\",\"\", IF(ISBLANK(I4334),\"BLANK\",\"\"))","v":""},""]
[4323,null,null,null,null,null,null,null,null,null,null,null,null,null,"",{"$error":"#N/A"},{"$error":"#N/A"},null,null,null,null,null,null,null,null,null,null,null,null,null,null,null,null,null,null,null,null,125,"No",0,"","65+",0,null,null,null,{"$f":"IF($B4342 & $C4342=\"\",\"\", IF(ISBLANK(D4342),\"BLANK\",\"\"))","v":""},"","","",{"$f":"IF($B4342 & $C4342=\"\",\"\", IF(ISBLANK(I4342),\"BLANK\",\"\"))","v":""},""]
[4334,null,null,null,null,null,null,null,null,null,null,null,null,null,"",{"$error":"#N/A"},{"$error":"#N/A"},null,null,null,null,null,null,null,null,null,null,null,null,null,null,null,null,null,null,null,null,125,"No",0,"","65+",0,null,null,null,{"$f":"IF($B4353 & $C4353=\"\",\"\", IF(ISBLANK(D4353),\"BLANK\",\"\"))","v":""},"","","",{"$f":"IF($B4353 & $C4353=\"\",\"\", IF(ISBLANK(I4353),\"BLANK\",\"\"))","v":""},""]
[4339,null,null,null,null,null,null,null,null,null,null,null,null,null,"",{"$error":"#N/A"},{"$error":"#N/A"},null,null,null,null,null,null,null,null,null,null,null,null,null,null,null,null,null,null,null,null,125,"No",0,"","65+",0,null,null,null,{"$f":"IF($B4358 & $C4358=\"\",\"\", IF(ISBLANK(D4358),\"BLANK\",\"\"))","v":""},"","","",{"$f":"IF($B4358 & $C4358=\"\",\"\", IF(ISBLANK(I4358),\"BLANK\",\"\"))","v":""},""]
[4354,null,null,null,null,null,null,null,null,null,null,null,null,null,"",{"$error":"#N/A"},{"$error":"#N/A"},null,null,null,null,null,null,null,null,null,null,null,null,null,null,null,null,null,null,null,null,125,"No",0,"","65+",0,null,null,null,{"$f":"IF($B4373 & $C4373=\"\",\"\", IF(ISBLANK(D4373),\"BLANK\",\"\"))","v":""},"","","",{"$f":"IF($B4373 & $C4373=\"\",\"\", IF(ISBLANK(I4373),\"BLANK\",\"\"))","v":""},""]
[4360,null,null,null,null,null,null,null,null,null,null,null,null,null,"",{"$error":"#N/A"},{"$error":"#N/A"},null,null,null,null,null,null,null,null,null,null,null,null,null,null,null,null,null,null,null,null,125,"No",0,"","65+",0,null,null,null,{"$f":"IF($B4379 & $C4379=\"\",\"\", IF(ISBLANK(D4379),\"BLANK\",\"\"))","v":""},"","","",{"$f":"IF($B4379 & $C4379=\"\",\"\", IF(ISBLANK(I4379),\"BLANK\",\"\"))","v":""},""]
[4369,null,null,null,null,null,null,null,null,null,null,null,null,null,"",{"$error":"#N/A"},{"$error":"#N/A"},null,null,null,null,null,null,null,null,null,null,null,null,null,null,null,null,null,null,null,null,125,"No",0,"","65+",0,null,null,null,{"$f":"IF($B4388 & $C4388=\"\",\"\", IF(ISBLANK(D4388),\"BLANK\",\"\"))","v":""},"","","",{"$f":"IF($B4388 & $C4388=\"\",\"\", IF(ISBLANK(I4388),\"BLANK\",\"\"))","v":""},""]
[4380,null,null,null,null,null,null,null,null,null,null,null,null,null,"",{"$error":"#N/A"},{"$error":"#N/A"},null,null,null,null,null,null,null,null,null,null,null,null,null,null,null,null,null,null,null,null,125,"No",0,"","65+",0,null,null,null,{"$f":"IF($B4399 & $C4399=\"\",\"\", IF(ISBLANK(D4399),\"BLANK\",\"\"))","v":""},"","","",{"$f":"IF($B4399 & $C4399=\"\",\"\", IF(ISBLANK(I4399),\"BLANK\",\"\"))","v":""},""]
[4395,null,null,null,null,null,null,null,null,null,null,null,null,null,"",{"$error":"#N/A"},{"$error":"#N/A"},null,null,null,null,null,null,null,null,null,null,null,null,null,null,null,null,null,null,null,null,125,"No",0,"","65+",0,null,null,null,{"$f":"IF($B4414 & $C4414=\"\",\"\", IF(ISBLANK(D4414),\"BLANK\",\"\"))","v":""},"","","",{"$f":"IF($B4414 & $C4414=\"\",\"\", IF(ISBLANK(I4414),\"BLANK\",\"\"))","v":""},""]
[4397,null,null,null,null,null,null,null,null,null,null,null,null,null,"",{"$error":"#N/A"},{"$error":"#N/A"},null,null,null,null,null,null,null,null,null,null,null,null,null,null,null,null,null,null,null,null,125,"No",0,"","65+",0,null,null,null,{"$f":"IF($B4416 & $C4416=\"\",\"\", IF(ISBLANK(D4416),\"BLANK\",\"\"))","v":""},"","","",{"$f":"IF($B4416 & $C4416=\"\",\"\", IF(ISBLANK(I4416),\"BLANK\",\"\"))","v":""},""]
[4410,null,null,null,null,null,null,null,null,null,null,null,null,null,"",{"$error":"#N/A"},{"$error":"#N/A"},null,null,null,null,null,null,null,null,null,null,null,null,null,null,null,null,null,null,null,null,125,"No",0,"","65+",0,null,null,null,{"$f":"IF($B4429 & $C4429=\"\",\"\", IF(ISBLANK(D4429),\"BLANK\",\"\"))","v":""},"","","",{"$f":"IF($B4429 & $C4429=\"\",\"\", IF(ISBLANK(I4429),\"BLANK\",\"\"))","v":""},""]
[4425,null,null,null,null,null,null,null,null,null,null,null,null,null,"",{"$error":"#N/A"},{"$error":"#N/A"},null,null,null,null,null,null,null,null,null,null,null,null,null,null,null,null,null,null,null,null,125,"No",0,"","65+",0,null,null,null,{"$f":"IF($B4444 & $C4444=\"\",\"\", IF(ISBLANK(D4444),\"BLANK\",\"\"))","v":""},"","","",{"$f":"IF($B4444 & $C4444=\"\",\"\", IF(ISBLANK(I4444),\"BLANK\",\"\"))","v":""},""]
[4430,null,null,null,null,null,null,null,null,null,null,null,null,null,"",{"$error":"#N/A"},{"$error":"#N/A"},null,null,null,null,null,null,null,null,null,null,null,null,null,null,null,null,null,null,null,null,125,"No",0,"","65+",0,null,null,null,{"$f":"IF($B4449 & $C4449=\"\",\"\", IF(ISBLANK(D4449),\"BLANK\",\"\"))","v":""},"","","",{"$f":"IF($B4449 & $C4449=\"\",\"\", IF(ISBLANK(I4449),\"BLANK\",\"\"))","v":""},""]
[4441,null,null,null,null,null,null,null,null,null,null,null,null,null,"",{"$error":"#N/A"},{"$error":"#N/A"},null,null,null,null,null,null,null,null,null,null,null,null,null,null,null,null,null,null,null,null,125,"No",0,"","65+",0,null,null,null,{"$f":"IF($B4460 & $C4460=\"\",\"\", IF(ISBLANK(D4460),\"BLANK\",\"\"))","v":""},"","","",{"$f":"IF($B4460 & $C4460=\"\",\"\", IF(ISBLANK(I4460),\"BLANK\",\"\"))","v":""},""]
[4451,null,null,null,null,null,null,null,null,null,null,null,null,null,"",{"$error":"#N/A"},{"$error":"#N/A"},null,null,null,null,null,null,null,null,null,null,null,null,null,null,null,null,null,null,null,null,125,"No",0,"","65+",0,null,null,null,{"$f":"IF($B4470 & $C4470=\"\",\"\", IF(ISBLANK(D4470),\"BLANK\",\"\"))","v":""},"","","",{"$f":"IF($B4470 & $C4470=\"\",\"\", IF(ISBLANK(I4470),\"BLANK\",\"\"))","v":""},""]
[4456,null,null,null,null,null,null,null,null,null,null,null,null,null,"",{"$error":"#N/A"},{"$error":"#N/A"},null,null,null,null,null,null,null,null,null,null,null,null,null,null,null,null,null,null,null,null,125,"No",0,"","65+",0,null,null,null,{"$f":"IF($B4475 & $C4475=\"\",\"\", IF(ISBLANK(D4475),\"BLANK\",\"\"))","v":""},"","","",{"$f":"IF($B4475 & $C4475=\"\",\"\", IF(ISBLANK(I4475),\"BLANK\",\"\"))","v":""},""]
[4471,null,null,null,null,null,null,null,null,null,null,null,null,null,"",{"$error":"#N/A"},{"$error":"#N/A"},null,null,null,null,null,null,null,null,null,null,null,null,null,null,null,null,null,null,null,null,125,"No",0,"","65+",0,null,null,null,{"$f":"IF($B4490 & $C4490=\"\",\"\", IF(ISBLANK(D4490),\"BLANK\",\"\"))","v":""},"","","",{"$f":"IF($B4490 & $C4490=\"\",\"\", IF(ISBLANK(I4490),\"BLANK\",\"\"))","v":""},""]
[4476,null,null,null,null,null,null,null,null,null,null,null,null,null,"",{"$error":"#N/A"},{"$error":"#N/A"},null,null,null,null,null,null,null,null,null,null,null,null,null,null,null,null,null,null,null,null,125,"No",0,"","65+",0,null,null,null,{"$f":"IF($B4495 & $C4495=\"\",\"\", IF(ISBLANK(D4495),\"BLANK\",\"\"))","v":""},"","","",{"$f":"IF($B4495 & $C4495=\"\",\"\", IF(ISBLANK(I4495),\"BLANK\",\"\"))","v":""},""]
[4487,null,null,null,null,null,null,null,null,null,null,null,null,null,"",{"$error":"#N/A"},{"$error":"#N/A"},null,null,null,null,null,null,null,null,null,null,null,null,null,null,null,null,null,null,null,null,125,"No",0,"","65+",0,null,null,null,{"$f":"IF($B4506 & $C4506=\"\",\"\", IF(ISBLANK(D4506),\"BLANK\",\"\"))","v":""},"","","",{"$f":"IF($B4506 & $C4506=\"\",\"\", IF(ISBLANK(I4506),\"BLANK\",\"\"))","v":""},""]
[4496,null,null,null,null,null,null,null,null,null,null,null,null,null,"",{"$error":"#N/A"},{"$error":"#N/A"},null,null,null,null,null,null,null,null,null,null,null,null,null,null,null,null,null,null,null,null,125,"No",0,"","65+",0,null,null,null,{"$f":"IF($B4515 & $C4515=\"\",\"\", IF(ISBLANK(D4515),\"BLANK\",\"\"))","v":""},"","","",{"$f":"IF($B4515 & $C4515=\"\",\"\", IF(ISBLANK(I4515),\"BLANK\",\"\"))","v":""},""]
[4506,null,null,null,null,null,null,null,null,null,null,null,null,null,"",{"$error":"#N/A"},{"$error":"#N/A"},null,null,null,null,null,null,null,null,null,null,null,null,null,null,null,null,null,null,null,null,125,"No",0,"","65+",0,null,null,null,{"$f":"IF($B4525 & $C4525=\"\",\"\", IF(ISBLANK(D4525),\"BLANK\",\"\"))","v":""},"","","",{"$f":"IF($B4525 & $C4525=\"\",\"\", IF(ISBLANK(I4525),\"BLANK\",\"\"))","v":""},""]
[4517,null,null,null,null,null,null,null,null,null,null,null,null,null,"",{"$error":"#N/A"},{"$error":"#N/A"},null,null,null,null,null,null,null,null,null,null,null,null,null,null,null,null,null,null,null,null,125,"No",0,"","65+",0,null,null,null,{"$f":"IF($B4536 & $C4536=\"\",\"\", IF(ISBLANK(D4536),\"BLANK\",\"\"))","v":""},"","","",{"$f":"IF($B4536 & $C4536=\"\",\"\", IF(ISBLANK(I4536),\"BLANK\",\"\"))","v":""},""]
[4532,null,null,null,null,null,null,null,null,null,null,null,null,null,"",{"$error":"#N/A"},{"$error":"#N/A"},null,null,null,null,null,null,null,null,null,null,null,null,null,null,null,null,null,null,null,null,125,"No",0,"","65+",0,null,null,null,{"$f":"IF($B4551 & $C4551=\"\",\"\", IF(ISBLANK(D4551),\"BLANK\",\"\"))","v":""},"","","",{"$f":"IF($B4551 & $C4551=\"\",\"\", IF(ISBLANK(I4551),\"BLANK\",\"\"))","v":""},""]
[4543,null,null,null,null,null,null,null,null,null,null,null,null,null,"",{"$error":"#N/A"},{"$error":"#N/A"},null,null,null,null,null,null,null,null,null,null,null,null,null,null,null,null,null,null,null,null,125,"No",0,"","65+",0,null,null,null,{"$f":"IF($B4562 & $C4562=\"\",\"\", IF(ISBLANK(D4562),\"BLANK\",\"\"))","v":""},"","","",{"$f":"IF($B4562 & $C4562=\"\",\"\", IF(ISBLANK(I4562),\"BLANK\",\"\"))","v":""},""]
[4550,null,null,null,null,null,null,null,null,null,null,null,null,null,"",{"$error":"#N/A"},{"$error":"#N/A"},null,null,null,null,null,null,null,null,null,null,null,null,null,null,null,null,null,null,null,null,125,"No",0,"","65+",0,null,null,null,{"$f":"IF($B4569 & $C4569=\"\",\"\", IF(ISBLANK(D4569),\"BLANK\",\"\"))","v":""},"","","",{"$f":"IF($B4569 & $C4569=\"\",\"\", IF(ISBLANK(I4569),\"BLANK\",\"\"))","v":""},""]
[4562,null,null,null,null,null,null,null,null,null,null,null,null,null,"",{"$error":"#N/A"},{"$error":"#N/A"},null,null,null,null,null,null,null,null,null,null,null,null,null,null,null,null,null,null,null,null,125,"No",0,"","65+",0,null,null,null,{"$f":"IF($B4581 & $C4581=\"\",\"\", IF(ISBLANK(D4581),\"BLANK\",\"\"))","v":""},"","","",{"$f":"IF($B4581 & $C4581=\"\",\"\", IF(ISBLANK(I4581),\"BLANK\",\"\"))","v":""},""]
[4563,null,null,null,null,null,null,null,null,null,null,null,null,null,"",{"$error":"#N/A"},{"$error":"#N/A"},null,null,null,null,null,null,null,null,null,null,null,null,null,null,null,null,null,null,null,null,125,"No",0,"","65+",0,null,null,null,{"$f":"IF($B4582 & $C4582=\"\",\"\", IF(ISBLANK(D4582),\"BLANK\",\"\"))","v":""},"","","",{"$f":"IF($B4582 & $C4582=\"\",\"\", IF(ISBLANK(I4582),\"BLANK\",\"\"))","v":""},""]
[4578,null,null,null,null,null,null,null,null,null,null,null,null,null,"",{"$error":"#N/A"},{"$error":"#N/A"},null,null,null,null,null,null,null,null,null,null,null,null,null,null,null,null,null,null,null,null,125,"No",0,"","65+",0,null,null,null,{"$f":"IF($B4597 & $C4597=\"\",\"\", IF(ISBLANK(D4597),\"BLANK\",\"\"))","v":""},"","","",{"$f":"IF($B4597 & $C4597=\"\",\"\", IF(ISBLANK(I4597),\"BLANK\",\"\"))","v":""},""]
[4591,null,null,null,null,null,null,null,null,null,null,null,null,null,"",{"$error":"#N/A"},{"$error":"#N/A"},null,null,null,null,null,null,null,null,null,null,null,null,null,null,null,null,null,null,null,null,125,"No",0,"","65+",0,null,null,null,{"$f":"IF($B4610 & $C4610=\"\",\"\", IF(ISBLANK(D4610),\"BLANK\",\"\"))","v":""},"","","",{"$f":"IF($B4610 & $C4610=\"\",\"\", IF(ISBLANK(I4610),\"BLANK\",\"\"))","v":""},""]
[4593,null,null,null,null,null,null,null,null,null,null,null,null,null,"",{"$error":"#N/A"},{"$error":"#N/A"},null,null,null,null,null,null,null,null,null,null,null,null,null,null,null,null,null,null,null,null,125,"No",0,"","65+",0,null,null,null,{"$f":"IF($B4612 & $C4612=\"\",\"\", IF(ISBLANK(D4612),\"BLANK\",\"\"))","v":""},"","","",{"$f":"IF($B4612 & $C4612=\"\",\"\", IF(ISBLANK(I4612),\"BLANK\",\"\"))","v":""},""]
[4608,null,null,null,null,null,null,null,null,null,null,null,null,null,"",{"$error":"#N/A"},{"$error":"#N/A"},null,null,null,null,null,null,null,null,null,null,null,null,null,null,null,null,null,null,null,null,125,"No",0,"","65+",0,null,null,null,{"$f":"IF($B4627 & $C4627=\"\",\"\", IF(ISBLANK(D4627),\"BLANK\",\"\"))","v":""},"","","",{"$f":"IF($B4627 & $C4627=\"\",\"\", IF(ISBLANK(I4627),\"BLANK\",\"\"))","v":""},""]
[4619,null,null,null,null,null,null,null,null,null,null,null,null,null,"",{"$error":"#N/A"},{"$error":"#N/A"},null,null,null,null,null,null,null,null,null,null,null,null,null,null,null,null,null,null,null,null,125,"No",0,"","65+",0,null,null,null,{"$f":"IF($B4638 & $C4638=\"\",\"\", IF(ISBLANK(D4638),\"BLANK\",\"\"))","v":""},"","","",{"$f":"IF($B4638 & $C4638=\"\",\"\", IF(ISBLANK(I4638),\"BLANK\",\"\"))","v":""},""]
[4624,null,null,null,null,null,null,null,null,null,null,null,null,null,"",{"$error":"#N/A"},{"$error":"#N/A"},null,null,null,null,null,null,null,null,null,null,null,null,null,null,null,null,null,null,null,null,125,"No",0,"","65+",0,null,null,null,{"$f":"IF($B4643 & $C4643=\"\",\"\", IF(ISBLANK(D4643),\"BLANK\",\"\"))","v":""},"","","",{"$f":"IF($B4643 & $C4643=\"\",\"\", IF(ISBLANK(I4643),\"BLANK\",\"\"))","v":""},""]
[4632,null,null,null,null,null,null,null,null,null,null,null,null,null,"",{"$error":"#N/A"},{"$error":"#N/A"},null,null,null,null,null,null,null,null,null,null,null,null,null,null,null,null,null,null,null,null,125,"No",0,"","65+",0,null,null,null,{"$f":"IF($B4651 & $C4651=\"\",\"\", IF(ISBLANK(D4651),\"BLANK\",\"\"))","v":""},"","","",{"$f":"IF($B4651 & $C4651=\"\",\"\", IF(ISBLANK(I4651),\"BLANK\",\"\"))","v":""},""]
[4649,null,null,null,null,null,null,null,null,null,null,null,null,null,"",{"$error":"#N/A"},{"$error":"#N/A"},null,null,null,null,null,null,null,null,null,null,null,null,null,null,null,null,null,null,null,null,125,"No",0,"","65+",0,null,null,null,{"$f":"IF($B4668 & $C4668=\"\",\"\", IF(ISBLANK(D4668),\"BLANK\",\"\"))","v":""},"","","",{"$f":"IF($B4668 & $C4668=\"\",\"\", IF(ISBLANK(I4668),\"BLANK\",\"\"))","v":""},""]
[4654,null,null,null,null,null,null,null,null,null,null,null,null,null,"",{"$error":"#N/A"},{"$error":"#N/A"},null,null,null,null,null,null,null,null,null,null,null,null,null,null,null,null,null,null,null,null,125,"No",0,"","65+",0,null,null,null,{"$f":"IF($B4673 & $C4673=\"\",\"\", IF(ISBLANK(D4673),\"BLANK\",\"\"))","v":""},"","","",{"$f":"IF($B4673 & $C4673=\"\",\"\", IF(ISBLANK(I4673),\"BLANK\",\"\"))","v":""},""]
[4665,null,null,null,null,null,null,null,null,null,null,null,null,null,"",{"$error":"#N/A"},{"$error":"#N/A"},null,null,null,null,null,null,null,null,null,null,null,null,null,null,null,null,null,null,null,null,125,"No",0,"","65+",0,null,null,null,{"$f":"IF($B4684 & $C4684=\"\",\"\", IF(ISBLANK(D4684),\"BLANK\",\"\"))","v":""},"","","",{"$f":"IF($B4684 & $C4684=\"\",\"\", IF(ISBLANK(I4684),\"BLANK\",\"\"))","v":""},""]
[4680,null,null,null,null,null,null,null,null,null,null,null,null,null,"",{"$error":"#N/A"},{"$error":"#N/A"},null,null,null,null,null,null,null,null,null,null,null,null,null,null,null,null,null,null,null,null,125,"No",0,"","65+",0,null,null,null,{"$f":"IF($B4699 & $C4699=\"\",\"\", IF(ISBLANK(D4699),\"BLANK\",\"\"))","v":""},"","","",{"$f":"IF($B4699 & $C4699=\"\",\"\", IF(ISBLANK(I4699),\"BLANK\",\"\"))","v":""},""]
[4686,null,null,null,null,null,null,null,null,null,null,null,null,null,"",{"$error":"#N/A"},{"$error":"#N/A"},null,null,null,null,null,null,null,null,null,null,null,null,null,null,null,null,null,null,null,null,125,"No",0,"","65+",0,null,null,null,{"$f":"IF($B4705 & $C4705=\"\",\"\", IF(ISBLANK(D4705),\"BLANK\",\"\"))","v":""},"","","",{"$f":"IF($B4705 & $C4705=\"\",\"\", IF(ISBLANK(I4705),\"BLANK\",\"\"))","v":""},""]
[4695,null,null,null,null,null,null,null,null,null,null,null,null,null,"",{"$error":"#N/A"},{"$error":"#N/A"},null,null,null,null,null,null,null,null,null,null,null,null,null,null,null,null,null,null,null,null,125,"No",0,"","65+",0,null,null,null,{"$f":"IF($B4714 & $C4714=\"\",\"\", IF(ISBLANK(D4714),\"BLANK\",\"\"))","v":""},"","","",{"$f":"IF($B4714 & $C4714=\"\",\"\", IF(ISBLANK(I4714),\"BLANK\",\"\"))","v":""},""]
[4700,null,null,null,null,null,null,null,null,null,null,null,null,null,"",{"$error":"#N/A"},{"$error":"#N/A"},null,null,null,null,null,null,null,null,null,null,null,null,null,null,null,null,null,null,null,null,125,"No",0,"","65+",0,null,null,null,{"$f":"IF($B4719 & $C4719=\"\",\"\", IF(ISBLANK(D4719),\"BLANK\",\"\"))","v":""},"","","",{"$f":"IF($B4719 & $C4719=\"\",\"\", IF(ISBLANK(I4719),\"BLANK\",\"\"))","v":""},""]
[4711,null,null,null,null,null,null,null,null,null,null,null,null,null,"",{"$error":"#N/A"},{"$error":"#N/A"},null,null,null,null,null,null,null,null,null,null,null,null,null,null,null,null,null,null,null,null,125,"No",0,"","65+",0,null,null,null,{"$f":"IF($B4730 & $C4730=\"\",\"\", IF(ISBLANK(D4730),\"BLANK\",\"\"))","v":""},"","","",{"$f":"IF($B4730 & $C4730=\"\",\"\", IF(ISBLANK(I4730),\"BLANK\",\"\"))","v":""},""]
[4727,null,null,null,null,null,null,null,null,null,null,null,null,null,"",{"$error":"#N/A"},{"$error":"#N/A"},null,null,null,null,null,null,null,null,null,null,null,null,null,null,null,null,null,null,null,null,125,"No",0,"","65+",0,null,null,null,{"$f":"IF($B4746 & $C4746=\"\",\"\", IF(ISBLANK(D4746),\"BLANK\",\"\"))","v":""},"","","",{"$f":"IF($B4746 & $C4746=\"\",\"\", IF(ISBLANK(I4746),\"BLANK\",\"\"))","v":""},""]
[4730,null,null,null,null,null,null,null,null,null,null,null,null,null,"",{"$error":"#N/A"},{"$error":"#N/A"},null,null,null,null,null,null,null,null,null,null,null,null,null,null,null,null,null,null,null,null,125,"No",0,"","65+",0,null,null,null,{"$f":"IF($B4749 & $C4749=\"\",\"\", IF(ISBLANK(D4749),\"BLANK\",\"\"))","v":""},"","","",{"$f":"IF($B4749 & $C4749=\"\",\"\", IF(ISBLANK(I4749),\"BLANK\",\"\"))","v":""},""]
[4741,null,null,null,null,null,null,null,null,null,null,null,null,null,"",{"$error":"#N/A"},{"$error":"#N/A"},null,null,null,null,null,null,null,null,null,null,null,null,null,null,null,null,null,null,null,null,125,"No",0,"","65+",0,null,null,null,{"$f":"IF($B4760 & $C4760=\"\",\"\", IF(ISBLANK(D4760),\"BLANK\",\"\"))","v":""},"","","",{"$f":"IF($B4760 & $C4760=\"\",\"\", IF(ISBLANK(I4760),\"BLANK\",\"\"))","v":""},""]
[4756,null,null,null,null,null,null,null,null,null,null,null,null,null,"",{"$error":"#N/A"},{"$error":"#N/A"},null,null,null,null,null,null,null,null,null,null,null,null,null,null,null,null,null,null,null,null,125,"No",0,"","65+",0,null,null,null,{"$f":"IF($B4775 & $C4775=\"\",\"\", IF(ISBLANK(D4775),\"BLANK\",\"\"))","v":""},"","","",{"$f":"IF($B4775 & $C4775=\"\",\"\", IF(ISBLANK(I4775),\"BLANK\",\"\"))","v":""},""]
[4761,null,null,null,null,null,null,null,null,null,null,null,null,null,"",{"$error":"#N/A"},{"$error":"#N/A"},null,null,null,null,null,null,null,null,null,null,null,null,null,null,null,null,null,null,null,null,125,"No",0,"","65+",0,null,null,null,{"$f":"IF($B4780 & $C4780=\"\",\"\", IF(ISBLANK(D4780),\"BLANK\",\"\"))","v":""},"","","",{"$f":"IF($B4780 & $C4780=\"\",\"\", IF(ISBLANK(I4780),\"BLANK\",\"\"))","v":""},""]
[4772,null,null,null,null,null,null,null,null,null,null,null,null,null,"",{"$error":"#N/A"},{"$error":"#N/A"},null,null,null,null,null,null,null,null,null,null,null,null,null,null,null,null,null,null,null,null,125,"No",0,"","65+",0,null,null,null,{"$f":"IF($B4791 & $C4791=\"\",\"\", IF(ISBLANK(D4791),\"BLANK\",\"\"))","v":""},"","","",{"$f":"IF($B4791 & $C4791=\"\",\"\", IF(ISBLANK(I4791),\"BLANK\",\"\"))","v":""},""]
[4786,null,null,null,null,null,null,null,null,null,null,null,null,null,"",{"$error":"#N/A"},{"$error":"#N/A"},null,null,null,null,null,null,null,null,null,null,null,null,null,null,null,null,null,null,null,null,125,"No",0,"","65+",0,null,null,null,{"$f":"IF($B4805 & $C4805=\"\",\"\", IF(ISBLANK(D4805),\"BLANK\",\"\"))","v":""},"","","",{"$f":"IF($B4805 & $C4805=\"\",\"\", IF(ISBLANK(I4805),\"BLANK\",\"\"))","v":""},""]
[4797,null,null,null,null,null,null,null,null,null,null,null,null,null,"",{"$error":"#N/A"},{"$error":"#N/A"},null,null,null,null,null,null,null,null,null,null,null,null,null,null,null,null,null,null,null,null,125,"No",0,"","65+",0,null,null,null,{"$f":"IF($B4816 & $C4816=\"\",\"\", IF(ISBLANK(D4816),\"BLANK\",\"\"))","v":""},"","","",{"$f":"IF($B4816 & $C4816=\"\",\"\", IF(ISBLANK(I4816),\"BLANK\",\"\"))","v":""},""]
[4802,null,null,null,null,null,null,null,null,null,null,null,null,null,"",{"$error":"#N/A"},{"$error":"#N/A"},null,null,null,null,null,null,null,null,null,null,null,null,null,null,null,null,null,null,null,null,125,"No",0,"","65+",0,null,null,null,{"$f":"IF($B4821 & $C4821=\"\",\"\", IF(ISBLANK(D4821),\"BLANK\",\"\"))","v":""},"","","",{"$f":"IF($B4821 & $C4821=\"\",\"\", IF(ISBLANK(I4821),\"BLANK\",\"\"))","v":""},""]
[4817,null,null,null,null,null,null,null,null,null,null,null,null,null,"",{"$error":"#N/A"},{"$error":"#N/A"},null,null,null,null,null,null,null,null,null,null,null,null,null,null,null,null,null,null,null,null,125,"No",0,"","65+",0,null,null,null,{"$f":"IF($B4836 & $C4836=\"\",\"\", IF(ISBLANK(D4836),\"BLANK\",\"\"))","v":""},"","","",{"$f":"IF($B4836 & $C4836=\"\",\"\", IF(ISBLANK(I4836),\"BLANK\",\"\"))","v":""},""]
[4826,null,null,null,null,null,null,null,null,null,null,null,null,null,"",{"$error":"#N/A"},{"$error":"#N/A"},null,null,null,null,null,null,null,null,null,null,null,null,null,null,null,null,null,null,null,null,125,"No",0,"","65+",0,null,null,null,{"$f":"IF($B4845 & $C4845=\"\",\"\", IF(ISBLANK(D4845),\"BLANK\",\"\"))","v":""},"","","",{"$f":"IF($B4845 & $C4845=\"\",\"\", IF(ISBLANK(I4845),\"BLANK\",\"\"))","v":""},""]
[4832,null,null,null,null,null,null,null,null,null,null,null,null,null,"",{"$error":"#N/A"},{"$error":"#N/A"},null,null,null,null,null,null,null,null,null,null,null,null,null,null,null,null,null,null,null,null,125,"No",0,"","65+",0,null,null,null,{"$f":"IF($B4851 & $C4851=\"\",\"\", IF(ISBLANK(D4851),\"BLANK\",\"\"))","v":""},"","","",{"$f":"IF($B4851 & $C4851=\"\",\"\", IF(ISBLANK(I4851),\"BLANK\",\"\"))","v":""},""]
[4837,null,null,null,null,null,null,null,null,null,null,null,null,null,"",{"$error":"#N/A"},{"$error":"#N/A"},null,null,null,null,null,null,null,null,null,null,null,null,null,null,null,null,null,null,null,null,125,"No",0,"","65+",0,null,null,null,{"$f":"IF($B4856 & $C4856=\"\",\"\", IF(ISBLANK(D4856),\"BLANK\",\"\"))","v":""},"","","",{"$f":"IF($B4856 & $C4856=\"\",\"\", IF(ISBLANK(I4856),\"BLANK\",\"\"))","v":""},""]
[4848,null,null,null,null,null,null,null,null,null,null,null,null,null,"",{"$error":"#N/A"},{"$error":"#N/A"},null,null,null,null,null,null,null,null,null,null,null,null,null,null,null,null,null,null,null,null,125,"No",0,"","65+",0,null,null,null,{"$f":"IF($B4867 & $C4867=\"\",\"\", IF(ISBLANK(D4867),\"BLANK\",\"\"))","v":""},"","","",{"$f":"IF($B4867 & $C4867=\"\",\"\", IF(ISBLANK(I4867),\"BLANK\",\"\"))","v":""},""]
[4863,null,null,null,null,null,null,null,null,null,null,null,null,null,"",{"$error":"#N/A"},{"$error":"#N/A"},null,null,null,null,null,null,null,null,null,null,null,null,null,null,null,null,null,null,null,null,125,"No",0,"","65+",0,null,null,null,{"$f":"IF($B4882 & $C4882=\"\",\"\", IF(ISBLANK(D4882),\"BLANK\",\"\"))","v":""},"","","",{"$f":"IF($B4882 & $C4882=\"\",\"\", IF(ISBLANK(I4882),\"BLANK\",\"\"))","v":""},""]
[4871,null,null,null,null,null,null,null,null,null,null,null,null,null,"",{"$error":"#N/A"},{"$error":"#N/A"},null,null,null,null,null,null,null,null,null,null,null,null,null,null,null,null,null,null,null,null,125,"No",0,"","65+",0,null,null,null,{"$f":"IF($B4890 & $C4890=\"\",\"\", IF(ISBLANK(D4890),\"BLANK\",\"\"))","v":""},"","","",{"$f":"IF($B4890 & $C4890=\"\",\"\", IF(ISBLANK(I4890),\"BLANK\",\"\"))","v":""},""]
[4878,null,null,null,null,null,null,null,null,null,null,null,null,null,"",{"$error":"#N/A"},{"$error":"#N/A"},null,null,null,null,null,null,null,null,null,null,null,null,null,null,null,null,null,null,null,null,125,"No",0,"","65+",0,null,null,null,{"$f":"IF($B4897 & $C4897=\"\",\"\", IF(ISBLANK(D4897),\"BLANK\",\"\"))","v":""},"","","",{"$f":"IF($B4897 & $C4897=\"\",\"\", IF(ISBLANK(I4897),\"BLANK\",\"\"))","v":""},""]
[4893,null,null,null,null,null,null,null,null,null,null,null,null,null,"",{"$error":"#N/A"},{"$error":"#N/A"},null,null,null,null,null,null,null,null,null,null,null,null,null,null,null,null,null,null,null,null,125,"No",0,"","65+",0,null,null,null,{"$f":"IF($B4912 & $C4912=\"\",\"\", IF(ISBLANK(D4912),\"BLANK\",\"\"))","v":""},"","","",{"$f":"IF($B4912 & $C4912=\"\",\"\", IF(ISBLANK(I4912),\"BLANK\",\"\"))","v":""},""]
[4904,null,null,null,null,null,null,null,null,null,null,null,null,null,"",{"$error":"#N/A"},{"$error":"#N/A"},null,null,null,null,null,null,null,null,null,null,null,null,null,null,null,null,null,null,null,null,125,"No",0,"","65+",0,null,null,null,{"$f":"IF($B4923 & $C4923=\"\",\"\", IF(ISBLANK(D4923),\"BLANK\",\"\"))","v":""},"","","",{"$f":"IF($B4923 & $C4923=\"\",\"\", IF(ISBLANK(I4923),\"BLANK\",\"\"))","v":""},""]
[4908,null,null,null,null,null,null,null,null,null,null,null,null,null,"",{"$error":"#N/A"},{"$error":"#N/A"},null,null,null,null,null,null,null,null,null,null,null,null,null,null,null,null,null,null,null,null,125,"No",0,"","65+",0,null,null,null,{"$f":"IF($B4927 & $C4927=\"\",\"\", IF(ISBLANK(D4927),\"BLANK\",\"\"))","v":""},"","","",{"$f":"IF($B4927 & $C4927=\"\",\"\", IF(ISBLANK(I4927),\"BLANK\",\"\"))","v":""},""]
[4919,null,null,null,null,null,null,null,null,null,null,null,null,null,"",{"$error":"#N/A"},{"$error":"#N/A"},null,null,null,null,null,null,null,null,null,null,null,null,null,null,null,null,null,null,null,null,125,"No",0,"","65+",0,null,null,null,{"$f":"IF($B4938 & $C4938=\"\",\"\", IF(ISBLANK(D4938),\"BLANK\",\"\"))","v":""},"","","",{"$f":"IF($B4938 & $C4938=\"\",\"\", IF(ISBLANK(I4938),\"BLANK\",\"\"))","v":""},""]
[4934,null,null,null,null,null,null,null,null,null,null,null,null,null,"",{"$error":"#N/A"},{"$error":"#N/A"},null,null,null,null,null,null,null,null,null,null,null,null,null,null,null,null,null,null,null,null,125,"No",0,"","65+",0,null,null,null,{"$f":"IF($B4953 & $C4953=\"\",\"\", IF(ISBLANK(D4953),\"BLANK\",\"\"))","v":""},"","","",{"$f":"IF($B4953 & $C4953=\"\",\"\", IF(ISBLANK(I4953),\"BLANK\",\"\"))","v":""},""]
[4939,null,null,null,null,null,null,null,null,null,null,null,null,null,"",{"$error":"#N/A"},{"$error":"#N/A"},null,null,null,null,null,null,null,null,null,null,null,null,null,null,null,null,null,null,null,null,125,"No",0,"","65+",0,null,null,null,{"$f":"IF($B4958 & $C4958=\"\",\"\", IF(ISBLANK(D4958),\"BLANK\",\"\"))","v":""},"","","",{"$f":"IF($B4958 & $C4958=\"\",\"\", IF(ISBLANK(I4958),\"BLANK\",\"\"))","v":""},""]
[4950,null,null,null,null,null,null,null,null,null,null,null,null,null,"",{"$error":"#N/A"},{"$error":"#N/A"},null,null,null,null,null,null,null,null,null,null,null,null,null,null,null,null,null,null,null,null,125,"No",0,"","65+",0,null,null,null,{"$f":"IF($B4969 & $C4969=\"\",\"\", IF(ISBLANK(D4969),\"BLANK\",\"\"))","v":""},"","","",{"$f":"IF($B4969 & $C4969=\"\",\"\", IF(ISBLANK(I4969),\"BLANK\",\"\"))","v":""},""]
[4962,null,null,null,null,null,null,null,null,null,null,null,null,null,"",{"$error":"#N/A"},{"$error":"#N/A"},null,null,null,null,null,null,null,null,null,null,null,null,null,null,null,null,null,null,null,null,125,"No",0,"","65+",0,null,null,null,{"$f":"IF($B4981 & $C4981=\"\",\"\", IF(ISBLANK(D4981),\"BLANK\",\"\"))","v":""},"","","",{"$f":"IF($B4981 & $C4981=\"\",\"\", IF(ISBLANK(I4981),\"BLANK\",\"\"))","v":""},""]
[4969,null,null,null,null,null,null,null,null,null,null,null,null,null,"",{"$error":"#N/A"},{"$error":"#N/A"},null,null,null,null,null,null,null,null,null,null,null,null,null,null,null,null,null,null,null,null,125,"No",0,"","65+",0,null,null,null,{"$f":"IF($B4988 & $C4988=\"\",\"\", IF(ISBLANK(D4988),\"BLANK\",\"\"))","v":""},"","","",{"$f":"IF($B4988 & $C4988=\"\",\"\", IF(ISBLANK(I4988),\"BLANK\",\"\"))","v":""},""]
[4980,null,null,null,null,null,null,null,null,null,null,null,null,null,"",{"$error":"#N/A"},{"$error":"#N/A"},null,null,null,null,null,null,null,null,null,null,null,null,null,null,null,null,null,null,null,null,125,"No",0,"","65+",0,null,null,null,{"$f":"IF($B4999 & $C4999=\"\",\"\", IF(ISBLANK(D4999),\"BLANK\",\"\"))","v":""},"","","",{"$f":"IF($B4999 & $C4999=\"\",\"\", IF(ISBLANK(I4999),\"BLANK\",\"\"))","v":""},""]
[4985,null,null,null,null,null,null,null,null,null,null,null,null,null,"",{"$error":"#N/A"},{"$error":"#N/A"},null,null,null,null,null,null,null,null,null,null,null,null,null,null,null,null,null,null,null,null,125,"No",0,"","65+",0,null,null,null,{"$f":"IF($B5004 & $C5004=\"\",\"\", IF(ISBLANK(D5004),\"BLANK\",\"\"))","v":""},"","","",{"$f":"IF($B5004 & $C5004=\"\",\"\", IF(ISBLANK(I5004),\"BLANK\",\"\"))","v":""},""]
[4996,null,null,null,null,null,null,null,null,null,null,null,null,null,"",{"$error":"#N/A"},{"$error":"#N/A"},null,null,null,null,null,null,null,null,null,null,null,null,null,null,null,null,null,null,null,null,125,"No",0,"","65+",0,null,null,null,{"$f":"IF($B5015 & $C5015=\"\",\"\", IF(ISBLANK(D5015),\"BLANK\",\"\"))","v":""},"","","",{"$f":"IF($B5015 & $C5015=\"\",\"\", IF(ISBLANK(I5015),\"BLANK\",\"\"))","v":""},""]
[5007,null,null,null,null,null,null,null,null,null,null,null,null,null,"",{"$error":"#N/A"},{"$error":"#N/A"},null,null,null,null,null,null,null,null,null,null,null,null,null,null,null,null,null,null,null,null,125,"No",0,"","65+",0,null,null,null,{"$f":"IF($B5026 & $C5026=\"\",\"\", IF(ISBLANK(D5026),\"BLANK\",\"\"))","v":""},"","","",{"$f":"IF($B5026 & $C5026=\"\",\"\", IF(ISBLANK(I5026),\"BLANK\",\"\"))","v":""},""]
[5015,null,null,null,null,null,null,null,null,null,null,null,null,null,"",{"$error":"#N/A"},{"$error":"#N/A"},null,null,null,null,null,null,null,null,null,null,null,null,null,null,null,null,null,null,null,null,125,"No",0,"","65+",0,null,null,null,{"$f":"IF($B5034 & $C5034=\"\",\"\", IF(ISBLANK(D5034),\"BLANK\",\"\"))","v":""},"","","",{"$f":"IF($B5034 & $C5034=\"\",\"\", IF(ISBLANK(I5034),\"BLANK\",\"\"))","v":""},""]
[5026,null,null,null,null,null,null,null,null,null,null,null,null,null,"",{"$error":"#N/A"},{"$error":"#N/A"},null,null,null,null,null,null,null,null,null,null,null,null,null,null,null,null,null,null,null,null,125,"No",0,"","65+",0,null,null,null,{"$f":"IF($B5045 & $C5045=\"\",\"\", IF(ISBLANK(D5045),\"BLANK\",\"\"))","v":""},"","","",{"$f":"IF($B5045 & $C5045=\"\",\"\", IF(ISBLANK(I5045),\"BLANK\",\"\"))","v":""},""]
[5041,null,null,null,null,null,null,null,null,null,null,null,null,null,"",{"$error":"#N/A"},{"$error":"#N/A"},null,null,null,null,null,null,null,null,null,null,null,null,null,null,null,null,null,null,null,null,125,"No",0,"","65+",0,null,null,null,{"$f":"IF($B5060 & $C5060=\"\",\"\", IF(ISBLANK(D5060),\"BLANK\",\"\"))","v":""},"","","",{"$f":"IF($B5060 & $C5060=\"\",\"\", IF(ISBLANK(I5060),\"BLANK\",\"\"))","v":""},""]
[5044,null,null,null,null,null,null,null,null,null,null,null,null,null,"",{"$error":"#N/A"},{"$error":"#N/A"},null,null,null,null,null,null,null,null,null,null,null,null,null,null,null,null,null,null,null,null,125,"No",0,"","65+",0,null,null,null,{"$f":"IF($B5063 & $C5063=\"\",\"\", IF(ISBLANK(D5063),\"BLANK\",\"\"))","v":""},"","","",{"$f":"IF($B5063 & $C5063=\"\",\"\", IF(ISBLANK(I5063),\"BLANK\",\"\"))","v":""},""]
[5056,null,null,null,null,null,null,null,null,null,null,null,null,null,"",{"$error":"#N/A"},{"$error":"#N/A"},null,null,null,null,null,null,null,null,null,null,null,null,null,null,null,null,null,null,null,null,125,"No",0,"","65+",0,null,null,null,{"$f":"IF($B5075 & $C5075=\"\",\"\", IF(ISBLANK(D5075),\"BLANK\",\"\"))","v":""},"","","",{"$f":"IF($B5075 & $C5075=\"\",\"\", IF(ISBLANK(I5075),\"BLANK\",\"\"))","v":""},""]
[5071,null,null,null,null,null,null,null,null,null,null,null,null,null,"",{"$error":"#N/A"},{"$error":"#N/A"},null,null,null,null,null,null,null,null,null,null,null,null,null,null,null,null,null,null,null,null,125,"No",0,"","65+",0,null,null,null,{"$f":"IF($B5090 & $C5090=\"\",\"\", IF(ISBLANK(D5090),\"BLANK\",\"\"))","v":""},"","","",{"$f":"IF($B5090 & $C5090=\"\",\"\", IF(ISBLANK(I5090),\"BLANK\",\"\"))","v":""},""]
[5072,null,null,null,null,null,null,null,null,null,null,null,null,null,"",{"$error":"#N/A"},{"$error":"#N/A"},null,null,null,null,null,null,null,null,null,null,null,null,null,null,null,null,null,null,null,null,125,"No",0,"","65+",0,null,null,null,{"$f":"IF($B5091 & $C5091=\"\",\"\", IF(ISBLANK(D5091),\"BLANK\",\"\"))","v":""},"","","",{"$f":"IF($B5091 & $C5091=\"\",\"\", IF(ISBLANK(I5091),\"BLANK\",\"\"))","v":""},""]
[5087,null,null,null,null,null,null,null,null,null,null,null,null,null,"",{"$error":"#N/A"},{"$error":"#N/A"},null,null,null,null,null,null,null,null,null,null,null,null,null,null,null,null,null,null,null,null,125,"No",0,"","65+",0,null,null,null,{"$f":"IF($B5106 & $C5106=\"\",\"\", IF(ISBLANK(D5106),\"BLANK\",\"\"))","v":""},"","","",{"$f":"IF($B5106 & $C5106=\"\",\"\", IF(ISBLANK(I5106),\"BLANK\",\"\"))","v":""},""]
[5098,null,null,null,null,null,null,null,null,null,null,null,null,null,"",{"$error":"#N/A"},{"$error":"#N/A"},null,null,null,null,null,null,null,null,null,null,null,null,null,null,null,null,null,null,null,null,125,"No",0,"","65+",0,null,null,null,{"$f":"IF($B5117 & $C5117=\"\",\"\", IF(ISBLANK(D5117),\"BLANK\",\"\"))","v":""},"","","",{"$f":"IF($B5117 & $C5117=\"\",\"\", IF(ISBLANK(I5117),\"BLANK\",\"\"))","v":""},""]
[5102,null,null,null,null,null,null,null,null,null,null,null,null,null,"",{"$error":"#N/A"},{"$error":"#N/A"},null,null,null,null,null,null,null,null,null,null,null,null,null,null,null,null,null,null,null,null,125,"No",0,"","65+",0,null,null,null,{"$f":"IF($B5121 & $C5121=\"\",\"\", IF(ISBLANK(D5121),\"BLANK\",\"\"))","v":""},"","","",{"$f":"IF($B5121 & $C5121=\"\",\"\", IF(ISBLANK(I5121),\"BLANK\",\"\"))","v":""},""]
[5117,null,null,null,null,null,null,null,null,null,null,null,null,null,"",{"$error":"#N/A"},{"$error":"#N/A"},null,null,null,null,null,null,null,null,null,null,null,null,null,null,null,null,null,null,null,null,125,"No",0,"","65+",0,null,null,null,{"$f":"IF($B5136 & $C5136=\"\",\"\", IF(ISBLANK(D5136),\"BLANK\",\"\"))","v":""},"","","",{"$f":"IF($B5136 & $C5136=\"\",\"\", IF(ISBLANK(I5136),\"BLANK\",\"\"))","v":""},""]
[5128,null,null,null,null,null,null,null,null,null,null,null,null,null,"",{"$error":"#N/A"},{"$error":"#N/A"},null,null,null,null,null,null,null,null,null,null,null,null,null,null,null,null,null,null,null,null,125,"No",0,"","65+",0,null,null,null,{"$f":"IF($B5147 & $C5147=\"\",\"\", IF(ISBLANK(D5147),\"BLANK\",\"\"))","v":""},"","","",{"$f":"IF($B5147 & $C5147=\"\",\"\", IF(ISBLANK(I5147),\"BLANK\",\"\"))","v":""},""]
[5133,null,null,null,null,null,null,null,null,null,null,null,null,null,"",{"$error":"#N/A"},{"$error":"#N/A"},null,null,null,null,null,null,null,null,null,null,null,null,null,null,null,null,null,null,null,null,125,"No",0,"","65+",0,null,null,null,{"$f":"IF($B5152 & $C5152=\"\",\"\", IF(ISBLANK(D5152),\"BLANK\",\"\"))","v":""},"","","",{"$f":"IF($B5152 & $C5152=\"\",\"\", IF(ISBLANK(I5152),\"BLANK\",\"\"))","v":""},""]
[5143,null,null,null,null,null,null,null,null,null,null,null,null,null,"",{"$error":"#N/A"},{"$error":"#N/A"},null,null,null,null,null,null,null,null,null,null,null,null,null,null,null,null,null,null,null,null,125,"No",0,"","65+",0,null,null,null,{"$f":"IF($B5162 & $C5162=\"\",\"\", IF(ISBLANK(D5162),\"BLANK\",\"\"))","v":""},"","","",{"$f":"IF($B5162 & $C5162=\"\",\"\", IF(ISBLANK(I5162),\"BLANK\",\"\"))","v":""},""]
[5158,null,null,null,null,null,null,null,null,null,null,null,null,null,"",{"$error":"#N/A"},{"$error":"#N/A"},null,null,null,null,null,null,null,null,null,null,null,null,null,null,null,null,null,null,null,null,125,"No",0,"","65+",0,null,null,null,{"$f":"IF($B5177 & $C5177=\"\",\"\", IF(ISBLANK(D5177),\"BLANK\",\"\"))","v":""},"","","",{"$f":"IF($B5177 & $C5177=\"\",\"\", IF(ISBLANK(I5177),\"BLANK\",\"\"))","v":""},""]
[5163,null,null,null,null,null,null,null,null,null,null,null,null,null,"",{"$error":"#N/A"},{"$error":"#N/A"},null,null,null,null,null,null,null,null,null,null,null,null,null,null,null,null,null,null,null,null,125,"No",0,"","65+",0,null,null,null,{"$f":"IF($B5182 & $C5182=\"\",\"\", IF(ISBLANK(D5182),\"BLANK\",\"\"))","v":""},"","","",{"$f":"IF($B5182 & $C5182=\"\",\"\", IF(ISBLANK(I5182),\"BLANK\",\"\"))","v":""},""]
[5178,null,null,null,null,null,null,null,null,null,null,null,null,null,"",{"$error":"#N/A"},{"$error":"#N/A"},null,null,null,null,null,null,null,null,null,null,null,null,null,null,null,null,null,null,null,null,125,"No",0,"","65+",0,null,null,null,{"$f":"IF($B5197 & $C5197=\"\",\"\", IF(ISBLANK(D5197),\"BLANK\",\"\"))","v":""},"","","",{"$f":"IF($B5197 & $C5197=\"\",\"\", IF(ISBLANK(I5197),\"BLANK\",\"\"))","v":""},""]
[5189,null,null,null,null,null,null,null,null,null,null,null,null,null,"",{"$error":"#N/A"},{"$error":"#N/A"},null,null,null,null,null,null,null,null,null,null,null,null,null,null,null,null,null,null,null,null,125,"No",0,"","65+",0,null,null,null,{"$f":"IF($B5208 & $C5208=\"\",\"\", IF(ISBLANK(D5208),\"BLANK\",\"\"))","v":""},"","","",{"$f":"IF($B5208 & $C5208=\"\",\"\", IF(ISBLANK(I5208),\"BLANK\",\"\"))","v":""},""]
[5197,null,null,null,null,null,null,null,null,null,null,null,null,null,"",{"$error":"#N/A"},{"$error":"#N/A"},null,null,null,null,null,null,null,null,null,null,null,null,null,null,null,null,null,null,null,null,125,"No",0,"","65+",0,null,null,null,{"$f":"IF($B5216 & $C5216=\"\",\"\", IF(ISBLANK(D5216),\"BLANK\",\"\"))","v":""},"","","",{"$f":"IF($B5216 & $C5216=\"\",\"\", IF(ISBLANK(I5216),\"BLANK\",\"\"))","v":""},""]
[5204,null,null,null,null,null,null,null,null,null,null,null,null,null,"",{"$error":"#N/A"},{"$error":"#N/A"},null,null,null,null,null,null,null,null,null,null,null,null,null,null,null,null,null,null,null,null,125,"No",0,"","65+",0,null,null,null,{"$f":"IF($B5223 & $C5223=\"\",\"\", IF(ISBLANK(D5223),\"BLANK\",\"\"))","v":""},"","","",{"$f":"IF($B5223 & $C5223=\"\",\"\", IF(ISBLANK(I5223),\"BLANK\",\"\"))","v":""},""]
[5209,null,null,null,null,null,null,null,null,null,null,null,null,null,"",{"$error":"#N/A"},{"$error":"#N/A"},null,null,null,null,null,null,null,null,null,null,null,null,null,null,null,null,null,null,null,null,125,"No",0,"","65+",0,null,null,null,{"$f":"IF($B5228 & $C5228=\"\",\"\", IF(ISBLANK(D5228),\"BLANK\",\"\"))","v":""},"","","",{"$f":"IF($B5228 & $C5228=\"\",\"\", IF(ISBLANK(I5228),\"BLANK\",\"\"))","v":""},""]
[5224,null,null,null,null,null,null,null,null,null,null,null,null,null,"",{"$error":"#N/A"},{"$error":"#N/A"},null,null,null,null,null,null,null,null,null,null,null,null,null,null,null,null,null,null,null,null,125,"No",0,"","65+",0,null,null,null,{"$f":"IF($B5243 & $C5243=\"\",\"\", IF(ISBLANK(D5243),\"BLANK\",\"\"))","v":""},"","","",{"$f":"IF($B5243 & $C5243=\"\",\"\", IF(ISBLANK(I5243),\"BLANK\",\"\"))","v":""},""]
[5229,null,null,null,null,null,null,null,null,null,null,null,null,null,"",{"$error":"#N/A"},{"$error":"#N/A"},null,null,null,null,null,null,null,null,null,null,null,null,null,null,null,null,null,null,null,null,125,"No",0,"","65+",0,null,null,null,{"$f":"IF($B5248 & $C5248=\"\",\"\", IF(ISBLANK(D5248),\"BLANK\",\"\"))","v":""},"","","",{"$f":"IF($B5248 & $C5248=\"\",\"\", IF(ISBLANK(I5248),\"BLANK\",\"\"))","v":""},""]
[5239,null,null,null,null,null,null,null,null,null,null,null,null,null,"",{"$error":"#N/A"},{"$error":"#N/A"},null,null,null,null,null,null,null,null,null,null,null,null,null,null,null,null,null,null,null,null,125,"No",0,"","65+",0,null,null,null,{"$f":"IF($B5258 & $C5258=\"\",\"\", IF(ISBLANK(D5258),\"BLANK\",\"\"))","v":""},"","","",{"$f":"IF($B5258 & $C5258=\"\",\"\", IF(ISBLANK(I5258),\"BLANK\",\"\"))","v":""},""]
[5250,null,null,null,null,null,null,null,null,null,null,null,null,null,"",{"$error":"#N/A"},{"$error":"#N/A"},null,null,null,null,null,null,null,null,null,null,null,null,null,null,null,null,null,null,null,null,125,"No",0,"","65+",0,null,null,null,{"$f":"IF($B5269 & $C5269=\"\",\"\", IF(ISBLANK(D5269),\"BLANK\",\"\"))","v":""},"","","",{"$f":"IF($B5269 & $C5269=\"\",\"\", IF(ISBLANK(I5269),\"BLANK\",\"\"))","v":""},""]
[5265,null,null,null,null,null,null,null,null,null,null,null,null,null,"",{"$error":"#N/A"},{"$error":"#N/A"},null,null,null,null,null,null,null,null,null,null,null,null,null,null,null,null,null,null,null,null,125,"No",0,"","65+",0,null,null,null,{"$f":"IF($B5284 & $C5284=\"\",\"\", IF(ISBLANK(D5284),\"BLANK\",\"\"))","v":""},"","","",{"$f":"IF($B5284 & $C5284=\"\",\"\", IF(ISBLANK(I5284),\"BLANK\",\"\"))","v":""},""]
[5270,null,null,null,null,null,null,null,null,null,null,null,null,null,"",{"$error":"#N/A"},{"$error":"#N/A"},null,null,null,null,null,null,null,null,null,null,null,null,null,null,null,null,null,null,null,null,125,"No",0,"","65+",0,null,null,null,{"$f":"IF($B5289 & $C5289=\"\",\"\", IF(ISBLANK(D5289),\"BLANK\",\"\"))","v":""},"","","",{"$f":"IF($B5289 & $C5289=\"\",\"\", IF(ISBLANK(I5289),\"BLANK\",\"\"))","v":""},""]
[5283,null,null,null,null,null,null,null,null,null,null,null,null,null,"",{"$error":"#N/A"},{"$error":"#N/A"},null,null,null,null,null,null,null,null,null,null,null,null,null,null,null,null,null,null,null,null,125,"No",0,"","65+",0,null,null,null,{"$f":"IF($B5302 & $C5302=\"\",\"\", IF(ISBLANK(D5302),\"BLANK\",\"\"))","v":""},"","","",{"$f":"IF($B5302 & $C5302=\"\",\"\", IF(ISBLANK(I5302),\"BLANK\",\"\"))","v":""},""]
[5295,null,null,null,null,null,null,null,null,null,null,null,null,null,"",{"$error":"#N/A"},{"$error":"#N/A"},null,null,null,null,null,null,null,null,null,null,null,null,null,null,null,null,null,null,null,null,125,"No",0,"","65+",0,null,null,null,{"$f":"IF($B5314 & $C5314=\"\",\"\", IF(ISBLANK(D5314),\"BLANK\",\"\"))","v":""},"","","",{"$f":"IF($B5314 & $C5314=\"\",\"\", IF(ISBLANK(I5314),\"BLANK\",\"\"))","v":""},""]
[5300,null,null,null,null,null,null,null,null,null,null,null,null,null,"",{"$error":"#N/A"},{"$error":"#N/A"},null,null,null,null,null,null,null,null,null,null,null,null,null,null,null,null,null,null,null,null,125,"No",0,"","65+",0,null,null,null,{"$f":"IF($B5319 & $C5319=\"\",\"\", IF(ISBLANK(D5319),\"BLANK\",\"\"))","v":""},"","","",{"$f":"IF($B5319 & $C5319=\"\",\"\", IF(ISBLANK(I5319),\"BLANK\",\"\"))","v":""},""]
[5311,null,null,null,null,null,null,null,null,null,null,null,null,null,"",{"$error":"#N/A"},{"$error":"#N/A"},null,null,null,null,null,null,null,null,null,null,null,null,null,null,null,null,null,null,null,null,125,"No",0,"","65+",0,null,null,null,{"$f":"IF($B5330 & $C5330=\"\",\"\", IF(ISBLANK(D5330),\"BLANK\",\"\"))","v":""},"","","",{"$f":"IF($B5330 & $C5330=\"\",\"\", IF(ISBLANK(I5330),\"BLANK\",\"\"))","v":""},""]
[5326,null,null,null,null,null,null,null,null,null,null,null,null,null,"",{"$error":"#N/A"},{"$error":"#N/A"},null,null,null,null,null,null,null,null,null,null,null,null,null,null,null,null,null,null,null,null,125,"No",0,"","65+",0,null,null,null,{"$f":"IF($B5345 & $C5345=\"\",\"\", IF(ISBLANK(D5345),\"BLANK\",\"\"))","v":""},"","","",{"$f":"IF($B5345 & $C5345=\"\",\"\", IF(ISBLANK(I5345),\"BLANK\",\"\"))","v":""},""]
[5328,null,null,null,null,null,null,null,null,null,null,null,null,null,"",{"$error":"#N/A"},{"$error":"#N/A"},null,null,null,null,null,null,null,null,null,null,null,null,null,null,null,null,null,null,null,null,125,"No",0,"","65+",0,null,null,null,{"$f":"IF($B5347 & $C5347=\"\",\"\", IF(ISBLANK(D5347),\"BLANK\",\"\"))","v":""},"","","",{"$f":"IF($B5347 & $C5347=\"\",\"\", IF(ISBLANK(I5347),\"BLANK\",\"\"))","v":""},""]
[5341,null,null,null,null,null,null,null,null,null,null,null,null,null,"",{"$error":"#N/A"},{"$error":"#N/A"},null,null,null,null,null,null,null,null,null,null,null,null,null,null,null,null,null,null,null,null,125,"No",0,"","65+",0,null,null,null,{"$f":"IF($B5360 & $C5360=\"\",\"\", IF(ISBLANK(D5360),\"BLANK\",\"\"))","v":""},"","","",{"$f":"IF($B5360 & $C5360=\"\",\"\", IF(ISBLANK(I5360),\"BLANK\",\"\"))","v":""},""]
[5346,null,null,null,null,null,null,null,null,null,null,null,null,null,"",{"$error":"#N/A"},{"$error":"#N/A"},null,null,null,null,null,null,null,null,null,null,null,null,null,null,null,null,null,null,null,null,125,"No",0,"","65+",0,null,null,null,{"$f":"IF($B5365 & $C5365=\"\",\"\", IF(ISBLANK(D5365),\"BLANK\",\"\"))","v":""},"","","",{"$f":"IF($B5365 & $C5365=\"\",\"\", IF(ISBLANK(I5365),\"BLANK\",\"\"))","v":""},""]
[5357,null,null,null,null,null,null,null,null,null,null,null,null,null,"",{"$error":"#N/A"},{"$error":"#N/A"},null,null,null,null,null,null,null,null,null,null,null,null,null,null,null,null,null,null,null,null,125,"No",0,"","65+",0,null,null,null,{"$f":"IF($B5376 & $C5376=\"\",\"\", IF(ISBLANK(D5376),\"BLANK\",\"\"))","v":""},"","","",{"$f":"IF($B5376 & $C5376=\"\",\"\", IF(ISBLANK(I5376),\"BLANK\",\"\"))","v":""},""]
[5372,null,null,null,null,null,null,null,null,null,null,null,null,null,"",{"$error":"#N/A"},{"$error":"#N/A"},null,null,null,null,null,null,null,null,null,null,null,null,null,null,null,null,null,null,null,null,125,"No",0,"","65+",0,null,null,null,{"$f":"IF($B5391 & $C5391=\"\",\"\", IF(ISBLANK(D5391),\"BLANK\",\"\"))","v":""},"","","",{"$f":"IF($B5391 & $C5391=\"\",\"\", IF(ISBLANK(I5391),\"BLANK\",\"\"))","v":""},""]
[5376,null,null,null,null,null,null,null,null,null,null,null,null,null,"",{"$error":"#N/A"},{"$error":"#N/A"},null,null,null,null,null,null,null,null,null,null,null,null,null,null,null,null,null,null,null,null,125,"No",0,"","65+",0,null,null,null,{"$f":"IF($B5395 & $C5395=\"\",\"\", IF(ISBLANK(D5395),\"BLANK\",\"\"))","v":""},"","","",{"$f":"IF($B5395 & $C5395=\"\",\"\", IF(ISBLANK(I5395),\"BLANK\",\"\"))","v":""},""]
[5377,null,null,null,null,null,null,null,null,null,null,null,null,null,"",{"$error":"#N/A"},{"$error":"#N/A"},null,null,null,null,null,null,null,null,null,null,null,null,null,null,null,null,null,null,null,null,125,"No",0,"","65+",0,null,null,null,{"$f":"IF($B5396 & $C5396=\"\",\"\", IF(ISBLANK(D5396),\"BLANK\",\"\"))","v":""},"","","",{"$f":"IF($B5396 & $C5396=\"\",\"\", IF(ISBLANK(I5396),\"BLANK\",\"\"))","v":""},""]
[5378,null,null,null,null,null,null,null,null,null,null,null,null,null,"",{"$error":"#N/A"},{"$error":"#N/A"},null,null,null,null,null,null,null,null,null,null,null,null,null,null,null,null,null,null,null,null,125,"No",0,"","65+",0,null,null,null,{"$f":"IF($B5397 & $C5397=\"\",\"\", IF(ISBLANK(D5397),\"BLANK\",\"\"))","v":""},"","","",{"$f":"IF($B5397 & $C5397=\"\",\"\", IF(ISBLANK(I5397),\"BLANK\",\"\"))","v":""},""]
[5379,null,null,null,null,null,null,null,null,null,null,null,null,null,"",{"$error":"#N/A"},{"$error":"#N/A"},null,null,null,null,null,null,null,null,null,null,null,null,null,null,null,null,null,null,null,null,125,"No",0,"","65+",0,null,null,null,{"$f":"IF($B5398 & $C5398=\"\",\"\", IF(ISBLANK(D5398),\"BLANK\",\"\"))","v":""},"","","",{"$f":"IF($B5398 & $C5398=\"\",\"\", IF(ISBLANK(I5398),\"BLANK\",\"\"))","v":""},""]
[5380,null,null,null,null,null,null,null,null,null,null,null,null,null,"",{"$error":"#N/A"},{"$error":"#N/A"},null,null,null,null,null,null,null,null,null,null,null,null,null,null,null,null,null,null,null,null,125,"No",0,"","65+",0,null,null,null,{"$f":"IF($B5399 & $C5399=\"\",\"\", IF(ISBLANK(D5399),\"BLANK\",\"\"))","v":""},"","","",{"$f":"IF($B5399 & $C5399=\"\",\"\", IF(ISBLANK(I5399),\"BLANK\",\"\"))","v":""},""]
[5381,null,null,null,null,null,null,null,null,null,null,null,null,null,"",{"$error":"#N/A"},{"$error":"#N/A"},null,null,null,null,null,null,null,null,null,null,null,null,null,null,null,null,null,null,null,null,125,"No",0,"","65+",0,null,null,null,{"$f":"IF($B5400 & $C5400=\"\",\"\", IF(ISBLANK(D5400),\"BLANK\",\"\"))","v":""},"","","",{"$f":"IF($B5400 & $C5400=\"\",\"\", IF(ISBLANK(I5400),\"BLANK\",\"\"))","v":""},""]
[5382,null,null,null,null,null,null,null,null,null,null,null,null,null,"",{"$error":"#N/A"},{"$error":"#N/A"},null,null,null,null,null,null,null,null,null,null,null,null,null,null,null,null,null,null,null,null,125,"No",0,"","65+",0,null,null,null,{"$f":"IF($B5401 & $C5401=\"\",\"\", IF(ISBLANK(D5401),\"BLANK\",\"\"))","v":""},"","","",{"$f":"IF($B5401 & $C5401=\"\",\"\", IF(ISBLANK(I5401),\"BLANK\",\"\"))","v":""},""]
[5383,null,null,null,null,null,null,null,null,null,null,null,null,null,"",{"$error":"#N/A"},{"$error":"#N/A"},null,null,null,null,null,null,null,null,null,null,null,null,null,null,null,null,null,null,null,null,125,"No",0,"","65+",0,null,null,null,{"$f":"IF($B5402 & $C5402=\"\",\"\", IF(ISBLANK(D5402),\"BLANK\",\"\"))","v":""},"","","",{"$f":"IF($B5402 & $C5402=\"\",\"\", IF(ISBLANK(I5402),\"BLANK\",\"\"))","v":""},""]
[5384,null,null,null,null,null,null,null,null,null,null,null,null,null,"",{"$error":"#N/A"},{"$error":"#N/A"},null,null,null,null,null,null,null,null,null,null,null,null,null,null,null,null,null,null,null,null,125,"No",0,"","65+",0,null,null,null,{"$f":"IF($B5403 & $C5403=\"\",\"\", IF(ISBLANK(D5403),\"BLANK\",\"\"))","v":""},"","","",{"$f":"IF($B5403 & $C5403=\"\",\"\", IF(ISBLANK(I5403),\"BLANK\",\"\"))","v":""},""]
[5385,null,null,null,null,null,null,null,null,null,null,null,null,null,"",{"$error":"#N/A"},{"$error":"#N/A"},null,null,null,null,null,null,null,null,null,null,null,null,null,null,null,null,null,null,null,null,125,"No",0,"","65+",0,null,null,null,{"$f":"IF($B5404 & $C5404=\"\",\"\", IF(ISBLANK(D5404),\"BLANK\",\"\"))","v":""},"","","",{"$f":"IF($B5404 & $C5404=\"\",\"\", IF(ISBLANK(I5404),\"BLANK\",\"\"))","v":""},""]
[5386,null,null,null,null,null,null,null,null,null,null,null,null,null,"",{"$error":"#N/A"},{"$error":"#N/A"},null,null,null,null,null,null,null,null,null,null,null,null,null,null,null,null,null,null,null,null,125,"No",0,"","65+",0,null,null,null,{"$f":"IF($B5405 & $C5405=\"\",\"\", IF(ISBLANK(D5405),\"BLANK\",\"\"))","v":""},"","","",{"$f":"IF($B5405 & $C5405=\"\",\"\", IF(ISBLANK(I5405),\"BLANK\",\"\"))","v":""},""]
[5387,null,null,null,null,null,null,null,null,null,null,null,null,null,"",{"$error":"#N/A"},{"$error":"#N/A"},null,null,null,null,null,null,null,null,null,null,null,null,null,null,null,null,null,null,null,null,125,"No",0,"","65+",0,null,null,null,{"$f":"IF($B5406 & $C5406=\"\",\"\", IF(ISBLANK(D5406),\"BLANK\",\"\"))","v":""},"","","",{"$f":"IF($B5406 & $C5406=\"\",\"\", IF(ISBLANK(I5406),\"BLANK\",\"\"))","v":""},""]
[5388,null,null,null,null,null,null,null,null,null,null,null,null,null,"",{"$error":"#N/A"},{"$error":"#N/A"},null,null,null,null,null,null,null,null,null,null,null,null,null,null,null,null,null,null,null,null,125,"No",0,"","65+",0,null,null,null,{"$f":"IF($B5407 & $C5407=\"\",\"\", IF(ISBLANK(D5407),\"BLANK\",\"\"))","v":""},"","","",{"$f":"IF($B5407 & $C5407=\"\",\"\", IF(ISBLANK(I5407),\"BLANK\",\"\"))","v":""},""]
[5389,null,null,null,null,null,null,null,null,null,null,null,null,null,"",{"$error":"#N/A"},{"$error":"#N/A"},null,null,null,null,null,null,null,null,null,null,null,null,null,null,null,null,null,null,null,null,125,"No",0,"","65+",0,null,null,null,{"$f":"IF($B5408 & $C5408=\"\",\"\", IF(ISBLANK(D5408),\"BLANK\",\"\"))","v":""},"","","",{"$f":"IF($B5408 & $C5408=\"\",\"\", IF(ISBLANK(I5408),\"BLANK\",\"\"))","v":""},""]
[5390,null,null,null,null,null,null,null,null,null,null,null,null,null,"",{"$error":"#N/A"},{"$error":"#N/A"},null,null,null,null,null,null,null,null,null,null,null,null,null,null,null,null,null,null,null,null,125,"No",0,"","65+",0,null,null,null,{"$f":"IF($B5409 & $C5409=\"\",\"\", IF(ISBLANK(D5409),\"BLANK\",\"\"))","v":""},"","","",{"$f":"IF($B5409 & $C5409=\"\",\"\", IF(ISBLANK(I5409),\"BLANK\",\"\"))","v":""},""]
[5391,null,null,null,null,null,null,null,null,null,null,null,null,null,"",{"$error":"#N/A"},{"$error":"#N/A"},null,null,null,null,null,null,null,null,null,null,null,null,null,null,null,null,null,null,null,null,125,"No",0,"","65+",0,null,null,null,{"$f":"IF($B5410 & $C5410=\"\",\"\", IF(ISBLANK(D5410),\"BLANK\",\"\"))","v":""},"","","",{"$f":"IF($B5410 & $C5410=\"\",\"\", IF(ISBLANK(I5410),\"BLANK\",\"\"))","v":""},""]
[5392,null,null,null,null,null,null,null,null,null,null,null,null,null,"",{"$error":"#N/A"},{"$error":"#N/A"},null,null,null,null,null,null,null,null,null,null,null,null,null,null,null,null,null,null,null,null,125,"No",0,"","65+",0,null,null,null,{"$f":"IF($B5411 & $C5411=\"\",\"\", IF(ISBLANK(D5411),\"BLANK\",\"\"))","v":""},"","","",{"$f":"IF($B5411 & $C5411=\"\",\"\", IF(ISBLANK(I5411),\"BLANK\",\"\"))","v":""},""]
[5393,null,null,null,null,null,null,null,null,null,null,null,null,null,"",{"$error":"#N/A"},{"$error":"#N/A"},null,null,null,null,null,null,null,null,null,null,null,null,null,null,null,null,null,null,null,null,125,"No",0,"","65+",0,null,null,null,{"$f":"IF($B5412 & $C5412=\"\",\"\", IF(ISBLANK(D5412),\"BLANK\",\"\"))","v":""},"","","",{"$f":"IF($B5412 & $C5412=\"\",\"\", IF(ISBLANK(I5412),\"BLANK\",\"\"))","v":""},""]
[5394,null,null,null,null,null,null,null,null,null,null,null,null,null,"",{"$error":"#N/A"},{"$error":"#N/A"},null,null,null,null,null,null,null,null,null,null,null,null,null,null,null,null,null,null,null,null,125,"No",0,"","65+",0,null,null,null,{"$f":"IF($B5413 & $C5413=\"\",\"\", IF(ISBLANK(D5413),\"BLANK\",\"\"))","v":""},"","","",{"$f":"IF($B5413 & $C5413=\"\",\"\", IF(ISBLANK(I5413),\"BLANK\",\"\"))","v":""},""]
[5395,null,null,null,null,null,null,null,null,null,null,null,null,null,"",{"$error":"#N/A"},{"$error":"#N/A"},null,null,null,null,null,null,null,null,null,null,null,null,null,null,null,null,null,null,null,null,125,"No",0,"","65+",0,null,null,null,{"$f":"IF($B5414 & $C5414=\"\",\"\", IF(ISBLANK(D5414),\"BLANK\",\"\"))","v":""},"","","",{"$f":"IF($B5414 & $C5414=\"\",\"\", IF(ISBLANK(I5414),\"BLANK\",\"\"))","v":""},""]
[5396,null,null,null,null,null,null,null,null,null,null,null,null,null,"",{"$error":"#N/A"},{"$error":"#N/A"},null,null,null,null,null,null,null,null,null,null,null,null,null,null,null,null,null,null,null,null,125,"No",0,"","65+",0,null,null,null,{"$f":"IF($B5415 & $C5415=\"\",\"\", IF(ISBLANK(D5415),\"BLANK\",\"\"))","v":""},"","","",{"$f":"IF($B5415 & $C5415=\"\",\"\", IF(ISBLANK(I5415),\"BLANK\",\"\"))","v":""},""]
[5397,null,null,null,null,null,null,null,null,null,null,null,null,null,"",{"$error":"#N/A"},{"$error":"#N/A"},null,null,null,null,null,null,null,null,null,null,null,null,null,null,null,null,null,null,null,null,125,"No",0,"","65+",0,null,null,null,{"$f":"IF($B5416 & $C5416=\"\",\"\", IF(ISBLANK(D5416),\"BLANK\",\"\"))","v":""},"","","",{"$f":"IF($B5416 & $C5416=\"\",\"\", IF(ISBLANK(I5416),\"BLANK\",\"\"))","v":""},""]
[5398,null,null,null,null,null,null,null,null,null,null,null,null,null,"",{"$error":"#N/A"},{"$error":"#N/A"},null,null,null,null,null,null,null,null,null,null,null,null,null,null,null,null,null,null,null,null,125,"No",0,"","65+",0,null,null,null,{"$f":"IF($B5417 & $C5417=\"\",\"\", IF(ISBLANK(D5417),\"BLANK\",\"\"))","v":""},"","","",{"$f":"IF($B5417 & $C5417=\"\",\"\", IF(ISBLANK(I5417),\"BLANK\",\"\"))","v":""},""]
[5399,null,null,null,null,null,null,null,null,null,null,null,null,null,"",{"$error":"#N/A"},{"$error":"#N/A"},null,null,null,null,null,null,null,null,null,null,null,null,null,null,null,null,null,null,null,null,125,"No",0,"","65+",0,null,null,null,{"$f":"IF($B5418 & $C5418=\"\",\"\", IF(ISBLANK(D5418),\"BLANK\",\"\"))","v":""},"","","",{"$f":"IF($B5418 & $C5418=\"\",\"\", IF(ISBLANK(I5418),\"BLANK\",\"\"))","v":""},""]
[5400,null,null,null,null,null,null,null,null,null,null,null,null,null,"",{"$error":"#N/A"},{"$error":"#N/A"},null,null,null,null,null,null,null,null,null,null,null,null,null,null,null,null,null,null,null,null,125,"No",0,"","65+",0,null,null,null,{"$f":"IF($B5419 & $C5419=\"\",\"\", IF(ISBLANK(D5419),\"BLANK\",\"\"))","v":""},"","","",{"$f":"IF($B5419 & $C5419=\"\",\"\", IF(ISBLANK(I5419),\"BLANK\",\"\"))","v":""},""]
[5401,null,null,null,null,null,null,null,null,null,null,null,null,null,"",{"$error":"#N/A"},{"$error":"#N/A"},null,null,null,null,null,null,null,null,null,null,null,null,null,null,null,null,null,null,null,null,125,"No",0,"","65+",0,null,null,null,{"$f":"IF($B5420 & $C5420=\"\",\"\", IF(ISBLANK(D5420),\"BLANK\",\"\"))","v":""},"","","",{"$f":"IF($B5420 & $C5420=\"\",\"\", IF(ISBLANK(I5420),\"BLANK\",\"\"))","v":""},""]
[5402,null,null,null,null,null,null,null,null,null,null,null,null,null,"",{"$error":"#N/A"},{"$error":"#N/A"},null,null,null,null,null,null,null,null,null,null,null,null,null,null,null,null,null,null,null,null,125,"No",0,"","65+",0,null,null,null,{"$f":"IF($B5421 & $C5421=\"\",\"\", IF(ISBLANK(D5421),\"BLANK\",\"\"))","v":""},"","","",{"$f":"IF($B5421 & $C5421=\"\",\"\", IF(ISBLANK(I5421),\"BLANK\",\"\"))","v":""},""]
[5403,null,null,null,null,null,null,null,null,null,null,null,null,null,"",{"$error":"#N/A"},{"$error":"#N/A"},null,null,null,null,null,null,null,null,null,null,null,null,null,null,null,null,null,null,null,null,125,"No",0,"","65+",0,null,null,null,{"$f":"IF($B5422 & $C5422=\"\",\"\", IF(ISBLANK(D5422),\"BLANK\",\"\"))","v":""},"","","",{"$f":"IF($B5422 & $C5422=\"\",\"\", IF(ISBLANK(I5422),\"BLANK\",\"\"))","v":""},""]
[5404,null,null,null,null,null,null,null,null,null,null,null,null,null,"",{"$error":"#N/A"},{"$error":"#N/A"},null,null,null,null,null,null,null,null,null,null,null,null,null,null,null,null,null,null,null,null,125,"No",0,"","65+",0,null,null,null,{"$f":"IF($B5423 & $C5423=\"\",\"\", IF(ISBLANK(D5423),\"BLANK\",\"\"))","v":""},"","","",{"$f":"IF($B5423 & $C5423=\"\",\"\", IF(ISBLANK(I5423),\"BLANK\",\"\"))","v":""},""]
[5405,null,null,null,null,null,null,null,null,null,null,null,null,null,"",{"$error":"#N/A"},{"$error":"#N/A"},null,null,null,null,null,null,null,null,null,null,null,null,null,null,null,null,null,null,null,null,125,"No",0,"","65+",0,null,null,null,{"$f":"IF($B5424 & $C5424=\"\",\"\", IF(ISBLANK(D5424),\"BLANK\",\"\"))","v":""},"","","",{"$f":"IF($B5424 & $C5424=\"\",\"\", IF(ISBLANK(I5424),\"BLANK\",\"\"))","v":""},""]
[5406,null,null,null,null,null,null,null,null,null,null,null,null,null,"",{"$error":"#N/A"},{"$error":"#N/A"},null,null,null,null,null,null,null,null,null,null,null,null,null,null,null,null,null,null,null,null,125,"No",0,"","65+",0,null,null,null,{"$f":"IF($B5425 & $C5425=\"\",\"\", IF(ISBLANK(D5425),\"BLANK\",\"\"))","v":""},"","","",{"$f":"IF($B5425 & $C5425=\"\",\"\", IF(ISBLANK(I5425),\"BLANK\",\"\"))","v":""},""]
[5407,null,null,null,null,null,null,null,null,null,null,null,null,null,"",{"$error":"#N/A"},{"$error":"#N/A"},null,null,null,null,null,null,null,null,null,null,null,null,null,null,null,null,null,null,null,null,125,"No",0,"","65+",0,null,null,null,{"$f":"IF($B5426 & $C5426=\"\",\"\", IF(ISBLANK(D5426),\"BLANK\",\"\"))","v":""},"","","",{"$f":"IF($B5426 & $C5426=\"\",\"\", IF(ISBLANK(I5426),\"BLANK\",\"\"))","v":""},""]
[5408,null,null,null,null,null,null,null,null,null,null,null,null,null,"",{"$error":"#N/A"},{"$error":"#N/A"},null,null,null,null,null,null,null,null,null,null,null,null,null,null,null,null,null,null,null,null,125,"No",0,"","65+",0,null,null,null,{"$f":"IF($B5427 & $C5427=\"\",\"\", IF(ISBLANK(D5427),\"BLANK\",\"\"))","v":""},"","","",{"$f":"IF($B5427 & $C5427=\"\",\"\", IF(ISBLANK(I5427),\"BLANK\",\"\"))","v":""},""]
[5409,null,null,null,null,null,null,null,null,null,null,null,null,null,"",{"$error":"#N/A"},{"$error":"#N/A"},null,null,null,null,null,null,null,null,null,null,null,null,null,null,null,null,null,null,null,null,125,"No",0,"","65+",0,null,null,null,{"$f":"IF($B5428 & $C5428=\"\",\"\", IF(ISBLANK(D5428),\"BLANK\",\"\"))","v":""},"","","",{"$f":"IF($B5428 & $C5428=\"\",\"\", IF(ISBLANK(I5428),\"BLANK\",\"\"))","v":""},""]
[5410,null,null,null,null,null,null,null,null,null,null,null,null,null,"",{"$error":"#N/A"},{"$error":"#N/A"},null,null,null,null,null,null,null,null,null,null,null,null,null,null,null,null,null,null,null,null,125,"No",0,"","65+",0,null,null,null,{"$f":"IF($B5429 & $C5429=\"\",\"\", IF(ISBLANK(D5429),\"BLANK\",\"\"))","v":""},"","","",{"$f":"IF($B5429 & $C5429=\"\",\"\", IF(ISBLANK(I5429),\"BLANK\",\"\"))","v":""},""]
[5411,null,null,null,null,null,null,null,null,null,null,null,null,null,"",{"$error":"#N/A"},{"$error":"#N/A"},null,null,null,null,null,null,null,null,null,null,null,null,null,null,null,null,null,null,null,null,125,"No",0,"","65+",0,null,null,null,{"$f":"IF($B5430 & $C5430=\"\",\"\", IF(ISBLANK(D5430),\"BLANK\",\"\"))","v":""},"","","",{"$f":"IF($B5430 & $C5430=\"\",\"\", IF(ISBLANK(I5430),\"BLANK\",\"\"))","v":""},""]
[5412,null,null,null,null,null,null,null,null,null,null,null,null,null,"",{"$error":"#N/A"},{"$error":"#N/A"},null,null,null,null,null,null,null,null,null,null,null,null,null,null,null,null,null,null,null,null,125,"No",0,"","65+",0,null,null,null,{"$f":"IF($B5431 & $C5431=\"\",\"\", IF(ISBLANK(D5431),\"BLANK\",\"\"))","v":""},"","","",{"$f":"IF($B5431 & $C5431=\"\",\"\", IF(ISBLANK(I5431),\"BLANK\",\"\"))","v":""},""]
[5413,null,null,null,null,null,null,null,null,null,null,null,null,null,"",{"$error":"#N/A"},{"$error":"#N/A"},null,null,null,null,null,null,null,null,null,null,null,null,null,null,null,null,null,null,null,null,125,"No",0,"","65+",0,null,null,null,{"$f":"IF($B5432 & $C5432=\"\",\"\", IF(ISBLANK(D5432),\"BLANK\",\"\"))","v":""},"","","",{"$f":"IF($B5432 & $C5432=\"\",\"\", IF(ISBLANK(I5432),\"BLANK\",\"\"))","v":""},""]
[5414,null,null,null,null,null,null,null,null,null,null,null,null,null,"",{"$error":"#N/A"},{"$error":"#N/A"},null,null,null,null,null,null,null,null,null,null,null,null,null,null,null,null,null,null,null,null,125,"No",0,"","65+",0,null,null,null,{"$f":"IF($B5433 & $C5433=\"\",\"\", IF(ISBLANK(D5433),\"BLANK\",\"\"))","v":""},"","","",{"$f":"IF($B5433 & $C5433=\"\",\"\", IF(ISBLANK(I5433),\"BLANK\",\"\"))","v":""},""]
[5415,null,null,null,null,null,null,null,null,null,null,null,null,null,"",{"$error":"#N/A"},{"$error":"#N/A"},null,null,null,null,null,null,null,null,null,null,null,null,null,null,null,null,null,null,null,null,125,"No",0,"","65+",0,null,null,null,{"$f":"IF($B5434 & $C5434=\"\",\"\", IF(ISBLANK(D5434),\"BLANK\",\"\"))","v":""},"","","",{"$f":"IF($B5434 & $C5434=\"\",\"\", IF(ISBLANK(I5434),\"BLANK\",\"\"))","v":""},""]
[5416,null,null,null,null,null,null,null,null,null,null,null,null,null,"",{"$error":"#N/A"},{"$error":"#N/A"},null,null,null,null,null,null,null,null,null,null,null,null,null,null,null,null,null,null,null,null,125,"No",0,"","65+",0,null,null,null,{"$f":"IF($B5435 & $C5435=\"\",\"\", IF(ISBLANK(D5435),\"BLANK\",\"\"))","v":""},"","","",{"$f":"IF($B5435 & $C5435=\"\",\"\", IF(ISBLANK(I5435),\"BLANK\",\"\"))","v":""},""]
[5417,null,null,null,null,null,null,null,null,null,null,null,null,null,"",{"$error":"#N/A"},{"$error":"#N/A"},null,null,null,null,null,null,null,null,null,null,null,null,null,null,null,null,null,null,null,null,125,"No",0,"","65+",0,null,null,null,{"$f":"IF($B5436 & $C5436=\"\",\"\", IF(ISBLANK(D5436),\"BLANK\",\"\"))","v":""},"","","",{"$f":"IF($B5436 & $C5436=\"\",\"\", IF(ISBLANK(I5436),\"BLANK\",\"\"))","v":""},""]
[5418,null,null,null,null,null,null,null,null,null,null,null,null,null,"",{"$error":"#N/A"},{"$error":"#N/A"},null,null,null,null,null,null,null,null,null,null,null,null,null,null,null,null,null,null,null,null,125,"No",0,"","65+",0,null,null,null,{"$f":"IF($B5437 & $C5437=\"\",\"\", IF(ISBLANK(D5437),\"BLANK\",\"\"))","v":""},"","","",{"$f":"IF($B5437 & $C5437=\"\",\"\", IF(ISBLANK(I5437),\"BLANK\",\"\"))","v":""},""]
[5419,null,null,null,null,null,null,null,null,null,null,null,null,null,"",{"$error":"#N/A"},{"$error":"#N/A"},null,null,null,null,null,null,null,null,null,null,null,null,null,null,null,null,null,null,null,null,125,"No",0,"","65+",0,null,null,null,{"$f":"IF($B5438 & $C5438=\"\",\"\", IF(ISBLANK(D5438),\"BLANK\",\"\"))","v":""},"","","",{"$f":"IF($B5438 & $C5438=\"\",\"\", IF(ISBLANK(I5438),\"BLANK\",\"\"))","v":""},""]
[5420,null,null,null,null,null,null,null,null,null,null,null,null,null,"",{"$error":"#N/A"},{"$error":"#N/A"},null,null,null,null,null,null,null,null,null,null,null,null,null,null,null,null,null,null,null,null,125,"No",0,"","65+",0,null,null,null,{"$f":"IF($B5439 & $C5439=\"\",\"\", IF(ISBLANK(D5439),\"BLANK\",\"\"))","v":""},"","","",{"$f":"IF($B5439 & $C5439=\"\",\"\", IF(ISBLANK(I5439),\"BLANK\",\"\"))","v":""},""]
[5421,null,null,null,null,null,null,null,null,null,null,null,null,null,"",{"$error":"#N/A"},{"$error":"#N/A"},null,null,null,null,null,null,null,null,null,null,null,null,null,null,null,null,null,null,null,null,125,"No",0,"","65+",0,null,null,null,{"$f":"IF($B5440 & $C5440=\"\",\"\", IF(ISBLANK(D5440),\"BLANK\",\"\"))","v":""},"","","",{"$f":"IF($B5440 & $C5440=\"\",\"\", IF(ISBLANK(I5440),\"BLANK\",\"\"))","v":""},""]
[5422,null,null,null,null,null,null,null,null,null,null,null,null,null,"",{"$error":"#N/A"},{"$error":"#N/A"},null,null,null,null,null,null,null,null,null,null,null,null,null,null,null,null,null,null,null,null,125,"No",0,"","65+",0,null,null,null,{"$f":"IF($B5441 & $C5441=\"\",\"\", IF(ISBLANK(D5441),\"BLANK\",\"\"))","v":""},"","","",{"$f":"IF($B5441 & $C5441=\"\",\"\", IF(ISBLANK(I5441),\"BLANK\",\"\"))","v":""},""]
[5423,null,null,null,null,null,null,null,null,null,null,null,null,null,"",{"$error":"#N/A"},{"$error":"#N/A"},null,null,null,null,null,null,null,null,null,null,null,null,null,null,null,null,null,null,null,null,125,"No",0,"","65+",0,null,null,null,{"$f":"IF($B5442 & $C5442=\"\",\"\", IF(ISBLANK(D5442),\"BLANK\",\"\"))","v":""},"","","",{"$f":"IF($B5442 & $C5442=\"\",\"\", IF(ISBLANK(I5442),\"BLANK\",\"\"))","v":""},""]
[5424,null,null,null,null,null,null,null,null,null,null,null,null,null,"",{"$error":"#N/A"},{"$error":"#N/A"},null,null,null,null,null,null,null,null,null,null,null,null,null,null,null,null,null,null,null,null,125,"No",0,"","65+",0,null,null,null,{"$f":"IF($B5443 & $C5443=\"\",\"\", IF(ISBLANK(D5443),\"BLANK\",\"\"))","v":""},"","","",{"$f":"IF($B5443 & $C5443=\"\",\"\", IF(ISBLANK(I5443),\"BLANK\",\"\"))","v":""},""]
[5425,null,null,null,null,null,null,null,null,null,null,null,null,null,"",{"$error":"#N/A"},{"$error":"#N/A"},null,null,null,null,null,null,null,null,null,null,null,null,null,null,null,null,null,null,null,null,125,"No",0,"","65+",0,null,null,null,{"$f":"IF($B5444 & $C5444=\"\",\"\", IF(ISBLANK(D5444),\"BLANK\",\"\"))","v":""},"","","",{"$f":"IF($B5444 & $C5444=\"\",\"\", IF(ISBLANK(I5444),\"BLANK\",\"\"))","v":""},""]
[5426,null,null,null,null,null,null,null,null,null,null,null,null,null,"",{"$error":"#N/A"},{"$error":"#N/A"},null,null,null,null,null,null,null,null,null,null,null,null,null,null,null,null,null,null,null,null,125,"No",0,"","65+",0,null,null,null,{"$f":"IF($B5445 & $C5445=\"\",\"\", IF(ISBLANK(D5445),\"BLANK\",\"\"))","v":""},"","","",{"$f":"IF($B5445 & $C5445=\"\",\"\", IF(ISBLANK(I5445),\"BLANK\",\"\"))","v":""},""]
[5427,null,null,null,null,null,null,null,null,null,null,null,null,null,"",{"$error":"#N/A"},{"$error":"#N/A"},null,null,null,null,null,null,null,null,null,null,null,null,null,null,null,null,null,null,null,null,125,"No",0,"","65+",0,null,null,null,{"$f":"IF($B5446 & $C5446=\"\",\"\", IF(ISBLANK(D5446),\"BLANK\",\"\"))","v":""},"","","",{"$f":"IF($B5446 & $C5446=\"\",\"\", IF(ISBLANK(I5446),\"BLANK\",\"\"))","v":""},""]
[5428,null,null,null,null,null,null,null,null,null,null,null,null,null,"",{"$error":"#N/A"},{"$error":"#N/A"},null,null,null,null,null,null,null,null,null,null,null,null,null,null,null,null,null,null,null,null,125,"No",0,"","65+",0,null,null,null,{"$f":"IF($B5447 & $C5447=\"\",\"\", IF(ISBLANK(D5447),\"BLANK\",\"\"))","v":""},"","","",{"$f":"IF($B5447 & $C5447=\"\",\"\", IF(ISBLANK(I5447),\"BLANK\",\"\"))","v":""},""]
[5429,null,null,null,null,null,null,null,null,null,null,null,null,null,"",{"$error":"#N/A"},{"$error":"#N/A"},null,null,null,null,null,null,null,null,null,null,null,null,null,null,null,null,null,null,null,null,125,"No",0,"","65+",0,null,null,null,{"$f":"IF($B5448 & $C5448=\"\",\"\", IF(ISBLANK(D5448),\"BLANK\",\"\"))","v":""},"","","",{"$f":"IF($B5448 & $C5448=\"\",\"\", IF(ISBLANK(I5448),\"BLANK\",\"\"))","v":""},""]
[5430,null,null,null,null,null,null,null,null,null,null,null,null,null,"",{"$error":"#N/A"},{"$error":"#N/A"},null,null,null,null,null,null,null,null,null,null,null,null,null,null,null,null,null,null,null,null,125,"No",0,"","65+",0,null,null,null,{"$f":"IF($B5449 & $C5449=\"\",\"\", IF(ISBLANK(D5449),\"BLANK\",\"\"))","v":""},"","","",{"$f":"IF($B5449 & $C5449=\"\",\"\", IF(ISBLANK(I5449),\"BLANK\",\"\"))","v":""},""]
[5431,null,null,null,null,null,null,null,null,null,null,null,null,null,"",{"$error":"#N/A"},{"$error":"#N/A"},null,null,null,null,null,null,null,null,null,null,null,null,null,null,null,null,null,null,null,null,125,"No",0,"","65+",0,null,null,null,{"$f":"IF($B5450 & $C5450=\"\",\"\", IF(ISBLANK(D5450),\"BLANK\",\"\"))","v":""},"","","",{"$f":"IF($B5450 & $C5450=\"\",\"\", IF(ISBLANK(I5450),\"BLANK\",\"\"))","v":""},""]
[5432,null,null,null,null,null,null,null,null,null,null,null,null,null,"",{"$error":"#N/A"},{"$error":"#N/A"},null,null,null,null,null,null,null,null,null,null,null,null,null,null,null,null,null,null,null,null,125,"No",0,"","65+",0,null,null,null,{"$f":"IF($B5451 & $C5451=\"\",\"\", IF(ISBLANK(D5451),\"BLANK\",\"\"))","v":""},"","","",{"$f":"IF($B5451 & $C5451=\"\",\"\", IF(ISBLANK(I5451),\"BLANK\",\"\"))","v":""},""]
[5433,null,null,null,null,null,null,null,null,null,null,null,null,null,"",{"$error":"#N/A"},{"$error":"#N/A"},null,null,null,null,null,null,null,null,null,null,null,null,null,null,null,null,null,null,null,null,125,"No",0,"","65+",0,null,null,null,{"$f":"IF($B5452 & $C5452=\"\",\"\", IF(ISBLANK(D5452),\"BLANK\",\"\"))","v":""},"","","",{"$f":"IF($B5452 & $C5452=\"\",\"\", IF(ISBLANK(I5452),\"BLANK\",\"\"))","v":""},""]
[5434,null,null,null,null,null,null,null,null,null,null,null,null,null,"",{"$error":"#N/A"},{"$error":"#N/A"},null,null,null,null,null,null,null,null,null,null,null,null,null,null,null,null,null,null,null,null,125,"No",0,"","65+",0,null,null,null,{"$f":"IF($B5453 & $C5453=\"\",\"\", IF(ISBLANK(D5453),\"BLANK\",\"\"))","v":""},"","","",{"$f":"IF($B5453 & $C5453=\"\",\"\", IF(ISBLANK(I5453),\"BLANK\",\"\"))","v":""},""]
[5435,null,null,null,null,null,null,null,null,null,null,null,null,null,"",{"$error":"#N/A"},{"$error":"#N/A"},null,null,null,null,null,null,null,null,null,null,null,null,null,null,null,null,null,null,null,null,125,"No",0,"","65+",0,null,null,null,{"$f":"IF($B5454 & $C5454=\"\",\"\", IF(ISBLANK(D5454),\"BLANK\",\"\"))","v":""},"","","",{"$f":"IF($B5454 & $C5454=\"\",\"\", IF(ISBLANK(I5454),\"BLANK\",\"\"))","v":""},""]
[5436,null,null,null,null,null,null,null,null,null,null,null,null,null,"",{"$error":"#N/A"},{"$error":"#N/A"},null,null,null,null,null,null,null,null,null,null,null,null,null,null,null,null,null,null,null,null,125,"No",0,"","65+",0,null,null,null,{"$f":"IF($B5455 & $C5455=\"\",\"\", IF(ISBLANK(D5455),\"BLANK\",\"\"))","v":""},"","","",{"$f":"IF($B5455 & $C5455=\"\",\"\", IF(ISBLANK(I5455),\"BLANK\",\"\"))","v":""},""]
[5437,null,null,null,null,null,null,null,null,null,null,null,null,null,"",{"$error":"#N/A"},{"$error":"#N/A"},null,null,null,null,null,null,null,null,null,null,null,null,null,null,null,null,null,null,null,null,125,"No",0,"","65+",0,null,null,null,{"$f":"IF($B5456 & $C5456=\"\",\"\", IF(ISBLANK(D5456),\"BLANK\",\"\"))","v":""},"","","",{"$f":"IF($B5456 & $C5456=\"\",\"\", IF(ISBLANK(I5456),\"BLANK\",\"\"))","v":""},""]
[5438,null,null,null,null,null,null,null,null,null,null,null,null,null,"",{"$error":"#N/A"},{"$error":"#N/A"},null,null,null,null,null,null,null,null,null,null,null,null,null,null,null,null,null,null,null,null,125,"No",0,"","65+",0,null,null,null,{"$f":"IF($B5457 & $C5457=\"\",\"\", IF(ISBLANK(D5457),\"BLANK\",\"\"))","v":""},"","","",{"$f":"IF($B5457 & $C5457=\"\",\"\", IF(ISBLANK(I5457),\"BLANK\",\"\"))","v":""},""]
[5439,null,null,null,null,null,null,null,null,null,null,null,null,null,"",{"$error":"#N/A"},{"$error":"#N/A"},null,null,null,null,null,null,null,null,null,null,null,null,null,null,null,null,null,null,null,null,125,"No",0,"","65+",0,null,null,null,{"$f":"IF($B5458 & $C5458=\"\",\"\", IF(ISBLANK(D5458),\"BLANK\",\"\"))","v":""},"","","",{"$f":"IF($B5458 & $C5458=\"\",\"\", IF(ISBLANK(I5458),\"BLANK\",\"\"))","v":""},""]
[5440,null,null,null,null,null,null,null,null,null,null,null,null,null,"",{"$error":"#N/A"},{"$error":"#N/A"},null,null,null,null,null,null,null,null,null,null,null,null,null,null,null,null,null,null,null,null,125,"No",0,"","65+",0,null,null,null,{"$f":"IF($B5459 & $C5459=\"\",\"\", IF(ISBLANK(D5459),\"BLANK\",\"\"))","v":""},"","","",{"$f":"IF($B5459 & $C5459=\"\",\"\", IF(ISBLANK(I5459),\"BLANK\",\"\"))","v":""},""]
[5441,null,null,null,null,null,null,null,null,null,null,null,null,null,"",{"$error":"#N/A"},{"$error":"#N/A"},null,null,null,null,null,null,null,null,null,null,null,null,null,null,null,null,null,null,null,null,125,"No",0,"","65+",0,null,null,null,{"$f":"IF($B5460 & $C5460=\"\",\"\", IF(ISBLANK(D5460),\"BLANK\",\"\"))","v":""},"","","",{"$f":"IF($B5460 & $C5460=\"\",\"\", IF(ISBLANK(I5460),\"BLANK\",\"\"))","v":""},""]
[5442,null,null,null,null,null,null,null,null,null,null,null,null,null,"",{"$error":"#N/A"},{"$error":"#N/A"},null,null,null,null,null,null,null,null,null,null,null,null,null,null,null,null,null,null,null,null,125,"No",0,"","65+",0,null,null,null,{"$f":"IF($B5461 & $C5461=\"\",\"\", IF(ISBLANK(D5461),\"BLANK\",\"\"))","v":""},"","","",{"$f":"IF($B5461 & $C5461=\"\",\"\", IF(ISBLANK(I5461),\"BLANK\",\"\"))","v":""},""]
[5443,null,null,null,null,null,null,null,null,null,null,null,null,null,"",{"$error":"#N/A"},{"$error":"#N/A"},null,null,null,null,null,null,null,null,null,null,null,null,null,null,null,null,null,null,null,null,125,"No",0,"","65+",0,null,null,null,{"$f":"IF($B5462 & $C5462=\"\",\"\", IF(ISBLANK(D5462),\"BLANK\",\"\"))","v":""},"","","",{"$f":"IF($B5462 & $C5462=\"\",\"\", IF(ISBLANK(I5462),\"BLANK\",\"\"))","v":""},""]
[5444,null,null,null,null,null,null,null,null,null,null,null,null,null,"",{"$error":"#N/A"},{"$error":"#N/A"},null,null,null,null,null,null,null,null,null,null,null,null,null,null,null,null,null,null,null,null,125,"No",0,"","65+",0,null,null,null,{"$f":"IF($B5463 & $C5463=\"\",\"\", IF(ISBLANK(D5463),\"BLANK\",\"\"))","v":""},"","","",{"$f":"IF($B5463 & $C5463=\"\",\"\", IF(ISBLANK(I5463),\"BLANK\",\"\"))","v":""},""]
[5445,null,null,null,null,null,null,null,null,null,null,null,null,null,"",{"$error":"#N/A"},{"$error":"#N/A"},null,null,null,null,null,null,null,null,null,null,null,null,null,null,null,null,null,null,null,null,125,"No",0,"","65+",0,null,null,null,{"$f":"IF($B5464 & $C5464=\"\",\"\", IF(ISBLANK(D5464),\"BLANK\",\"\"))","v":""},"","","",{"$f":"IF($B5464 & $C5464=\"\",\"\", IF(ISBLANK(I5464),\"BLANK\",\"\"))","v":""},""]
[5446,null,null,null,null,null,null,null,null,null,null,null,null,null,"",{"$error":"#N/A"},{"$error":"#N/A"},null,null,null,null,null,null,null,null,null,null,null,null,null,null,null,null,null,null,null,null,125,"No",0,"","65+",0,null,null,null,{"$f":"IF($B5465 & $C5465=\"\",\"\", IF(ISBLANK(D5465),\"BLANK\",\"\"))","v":""},"","","",{"$f":"IF($B5465 & $C5465=\"\",\"\", IF(ISBLANK(I5465),\"BLANK\",\"\"))","v":""},""]
[5447,null,null,null,null,null,null,null,null,null,null,null,null,null,"",{"$error":"#N/A"},{"$error":"#N/A"},null,null,null,null,null,null,null,null,null,null,null,null,null,null,null,null,null,null,null,null,125,"No",0,"","65+",0,null,null,null,{"$f":"IF($B5466 & $C5466=\"\",\"\", IF(ISBLANK(D5466),\"BLANK\",\"\"))","v":""},"","","",{"$f":"IF($B5466 & $C5466=\"\",\"\", IF(ISBLANK(I5466),\"BLANK\",\"\"))","v":""},""]
[5448,null,null,null,null,null,null,null,null,null,null,null,null,null,"",{"$error":"#N/A"},{"$error":"#N/A"},null,null,null,null,null,null,null,null,null,null,null,null,null,null,null,null,null,null,null,null,125,"No",0,"","65+",0,null,null,null,{"$f":"IF($B5467 & $C5467=\"\",\"\", IF(ISBLANK(D5467),\"BLANK\",\"\"))","v":""},"","","",{"$f":"IF($B5467 & $C5467=\"\",\"\", IF(ISBLANK(I5467),\"BLANK\",\"\"))","v":""},""]
[5449,null,null,null,null,null,null,null,null,null,null,null,null,null,"",{"$error":"#N/A"},{"$error":"#N/A"},null,null,null,null,null,null,null,null,null,null,null,null,null,null,null,null,null,null,null,null,125,"No",0,"","65+",0,null,null,null,{"$f":"IF($B5468 & $C5468=\"\",\"\", IF(ISBLANK(D5468),\"BLANK\",\"\"))","v":""},"","","",{"$f":"IF($B5468 & $C5468=\"\",\"\", IF(ISBLANK(I5468),\"BLANK\",\"\"))","v":""},""]
[5450,null,null,null,null,null,null,null,null,null,null,null,null,null,"",{"$error":"#N/A"},{"$error":"#N/A"},null,null,null,null,null,null,null,null,null,null,null,null,null,null,null,null,null,null,null,null,125,"No",0,"","65+",0,null,null,null,{"$f":"IF($B5469 & $C5469=\"\",\"\", IF(ISBLANK(D5469),\"BLANK\",\"\"))","v":""},"","","",{"$f":"IF($B5469 & $C5469=\"\",\"\", IF(ISBLANK(I5469),\"BLANK\",\"\"))","v":""},""]
[5451,null,null,null,null,null,null,null,null,null,null,null,null,null,"",{"$error":"#N/A"},{"$error":"#N/A"},null,null,null,null,null,null,null,null,null,null,null,null,null,null,null,null,null,null,null,null,125,"No",0,"","65+",0,null,null,null,{"$f":"IF($B5470 & $C5470=\"\",\"\", IF(ISBLANK(D5470),\"BLANK\",\"\"))","v":""},"","","",{"$f":"IF($B5470 & $C5470=\"\",\"\", IF(ISBLANK(I5470),\"BLANK\",\"\"))","v":""},""]
[5452,null,null,null,null,null,null,null,null,null,null,null,null,null,"",{"$error":"#N/A"},{"$error":"#N/A"},null,null,null,null,null,null,null,null,null,null,null,null,null,null,null,null,null,null,null,null,125,"No",0,"","65+",0,null,null,null,{"$f":"IF($B5471 & $C5471=\"\",\"\", IF(ISBLANK(D5471),\"BLANK\",\"\"))","v":""},"","","",{"$f":"IF($B5471 & $C5471=\"\",\"\", IF(ISBLANK(I5471),\"BLANK\",\"\"))","v":""},""]
[5453,null,null,null,null,null,null,null,null,null,null,null,null,null,"",{"$error":"#N/A"},{"$error":"#N/A"},null,null,null,null,null,null,null,null,null,null,null,null,null,null,null,null,null,null,null,null,125,"No",0,"","65+",0,null,null,null,{"$f":"IF($B5472 & $C5472=\"\",\"\", IF(ISBLANK(D5472),\"BLANK\",\"\"))","v":""},"","","",{"$f":"IF($B5472 & $C5472=\"\",\"\", IF(ISBLANK(I5472),\"BLANK\",\"\"))","v":""},""]
[5454,null,null,null,null,null,null,null,null,null,null,null,null,null,"",{"$error":"#N/A"},{"$error":"#N/A"},null,null,null,null,null,null,null,null,null,null,null,null,null,null,null,null,null,null,null,null,125,"No",0,"","65+",0,null,null,null,{"$f":"IF($B5473 & $C5473=\"\",\"\", IF(ISBLANK(D5473),\"BLANK\",\"\"))","v":""},"","","",{"$f":"IF($B5473 & $C5473=\"\",\"\", IF(ISBLANK(I5473),\"BLANK\",\"\"))","v":""},""]
[5455,null,null,null,null,null,null,null,null,null,null,null,null,null,"",{"$error":"#N/A"},{"$error":"#N/A"},null,null,null,null,null,null,null,null,null,null,null,null,null,null,null,null,null,null,null,null,125,"No",0,"","65+",0,null,null,null,{"$f":"IF($B5474 & $C5474=\"\",\"\", IF(ISBLANK(D5474),\"BLANK\",\"\"))","v":""},"","","",{"$f":"IF($B5474 & $C5474=\"\",\"\", IF(ISBLANK(I5474),\"BLANK\",\"\"))","v":""},""]
[5456,null,null,null,null,null,null,null,null,null,null,null,null,null,"",{"$error":"#N/A"},{"$error":"#N/A"},null,null,null,null,null,null,null,null,null,null,null,null,null,null,null,null,null,null,null,null,125,"No",0,"","65+",0,null,null,null,{"$f":"IF($B5475 & $C5475=\"\",\"\", IF(ISBLANK(D5475),\"BLANK\",\"\"))","v":""},"","","",{"$f":"IF($B5475 & $C5475=\"\",\"\", IF(ISBLANK(I5475),\"BLANK\",\"\"))","v":""},""]
[5457,null,null,null,null,null,null,null,null,null,null,null,null,null,"",{"$error":"#N/A"},{"$error":"#N/A"},null,null,null,null,null,null,null,null,null,null,null,null,null,null,null,null,null,null,null,null,125,"No",0,"","65+",0,null,null,null,{"$f":"IF($B5476 & $C5476=\"\",\"\", IF(ISBLANK(D5476),\"BLANK\",\"\"))","v":""},"","","",{"$f":"IF($B5476 & $C5476=\"\",\"\", IF(ISBLANK(I5476),\"BLANK\",\"\"))","v":""},""]
[5458,null,null,null,null,null,null,null,null,null,null,null,null,null,"",{"$error":"#N/A"},{"$error":"#N/A"},null,null,null,null,null,null,null,null,null,null,null,null,null,null,null,null,null,null,null,null,125,"No",0,"","65+",0,null,null,null,{"$f":"IF($B5477 & $C5477=\"\",\"\", IF(ISBLANK(D5477),\"BLANK\",\"\"))","v":""},"","","",{"$f":"IF($B5477 & $C5477=\"\",\"\", IF(ISBLANK(I5477),\"BLANK\",\"\"))","v":""},""]
[5459,null,null,null,null,null,null,null,null,null,null,null,null,null,"",{"$error":"#N/A"},{"$error":"#N/A"},null,null,null,null,null,null,null,null,null,null,null,null,null,null,null,null,null,null,null,null,125,"No",0,"","65+",0,null,null,null,{"$f":"IF($B5478 & $C5478=\"\",\"\", IF(ISBLANK(D5478),\"BLANK\",\"\"))","v":""},"","","",{"$f":"IF($B5478 & $C5478=\"\",\"\", IF(ISBLANK(I5478),\"BLANK\",\"\"))","v":""},""]
[5460,null,null,null,null,null,null,null,null,null,null,null,null,null,"",{"$error":"#N/A"},{"$error":"#N/A"},null,null,null,null,null,null,null,null,null,null,null,null,null,null,null,null,null,null,null,null,125,"No",0,"","65+",0,null,null,null,{"$f":"IF($B5479 & $C5479=\"\",\"\", IF(ISBLANK(D5479),\"BLANK\",\"\"))","v":""},"","","",{"$f":"IF($B5479 & $C5479=\"\",\"\", IF(ISBLANK(I5479),\"BLANK\",\"\"))","v":""},""]
[5461,null,null,null,null,null,null,null,null,null,null,null,null,null,"",{"$error":"#N/A"},{"$error":"#N/A"},null,null,null,null,null,null,null,null,null,null,null,null,null,null,null,null,null,null,null,null,125,"No",0,"","65+",0,null,null,null,{"$f":"IF($B5480 & $C5480=\"\",\"\", IF(ISBLANK(D5480),\"BLANK\",\"\"))","v":""},"","","",{"$f":"IF($B5480 & $C5480=\"\",\"\", IF(ISBLANK(I5480),\"BLANK\",\"\"))","v":""},""]
[5462,null,null,null,null,null,null,null,null,null,null,null,null,null,"",{"$error":"#N/A"},{"$error":"#N/A"},null,null,null,null,null,null,null,null,null,null,null,null,null,null,null,null,null,null,null,null,125,"No",0,"","65+",0,null,null,null,{"$f":"IF($B5481 & $C5481=\"\",\"\", IF(ISBLANK(D5481),\"BLANK\",\"\"))","v":""},"","","",{"$f":"IF($B5481 & $C5481=\"\",\"\", IF(ISBLANK(I5481),\"BLANK\",\"\"))","v":""},""]
[5463,null,null,null,null,null,null,null,null,null,null,null,null,null,"",{"$error":"#N/A"},{"$error":"#N/A"},null,null,null,null,null,null,null,null,null,null,null,null,null,null,null,null,null,null,null,null,125,"No",0,"","65+",0,null,null,null,{"$f":"IF($B5482 & $C5482=\"\",\"\", IF(ISBLANK(D5482),\"BLANK\",\"\"))","v":""},"","","",{"$f":"IF($B5482 & $C5482=\"\",\"\", IF(ISBLANK(I5482),\"BLANK\",\"\"))","v":""},""]
[5464,null,null,null,null,null,null,null,null,null,null,null,null,null,"",{"$error":"#N/A"},{"$error":"#N/A"},null,null,null,null,null,null,null,null,null,null,null,null,null,null,null,null,null,null,null,null,125,"No",0,"","65+",0,null,null,null,{"$f":"IF($B5483 & $C5483=\"\",\"\", IF(ISBLANK(D5483),\"BLANK\",\"\"))","v":""},"","","",{"$f":"IF($B5483 & $C5483=\"\",\"\", IF(ISBLANK(I5483),\"BLANK\",\"\"))","v":""},""]
[5465,null,null,null,null,null,null,null,null,null,null,null,null,null,"",{"$error":"#N/A"},{"$error":"#N/A"},null,null,null,null,null,null,null,null,null,null,null,null,null,null,null,null,null,null,null,null,125,"No",0,"","65+",0,null,null,null,{"$f":"IF($B5484 & $C5484=\"\",\"\", IF(ISBLANK(D5484),\"BLANK\",\"\"))","v":""},"","","",{"$f":"IF($B5484 & $C5484=\"\",\"\", IF(ISBLANK(I5484),\"BLANK\",\"\"))","v":""},""]
[5466,null,null,null,null,null,null,null,null,null,null,null,null,null,"",{"$error":"#N/A"},{"$error":"#N/A"},null,null,null,null,null,null,null,null,null,null,null,null,null,null,null,null,null,null,null,null,125,"No",0,"","65+",0,null,null,null,{"$f":"IF($B5485 & $C5485=\"\",\"\", IF(ISBLANK(D5485),\"BLANK\",\"\"))","v":""},"","","",{"$f":"IF($B5485 & $C5485=\"\",\"\", IF(ISBLANK(I5485),\"BLANK\",\"\"))","v":""},""]
[5467,null,null,null,null,null,null,null,null,null,null,null,null,null,"",{"$error":"#N/A"},{"$error":"#N/A"},null,null,null,null,null,null,null,null,null,null,null,null,null,null,null,null,null,null,null,null,125,"No",0,"","65+",0,null,null,null,{"$f":"IF($B5486 & $C5486=\"\",\"\", IF(ISBLANK(D5486),\"BLANK\",\"\"))","v":""},"","","",{"$f":"IF($B5486 & $C5486=\"\",\"\", IF(ISBLANK(I5486),\"BLANK\",\"\"))","v":""},""]
[5468,null,null,null,null,null,null,null,null,null,null,null,null,null,"",{"$error":"#N/A"},{"$error":"#N/A"},null,null,null,null,null,null,null,null,null,null,null,null,null,null,null,null,null,null,null,null,125,"No",0,"","65+",0,null,null,null,{"$f":"IF($B5487 & $C5487=\"\",\"\", IF(ISBLANK(D5487),\"BLANK\",\"\"))","v":""},"","","",{"$f":"IF($B5487 & $C5487=\"\",\"\", IF(ISBLANK(I5487),\"BLANK\",\"\"))","v":""},""]
[5469,null,null,null,null,null,null,null,null,null,null,null,null,null,"",{"$error":"#N/A"},{"$error":"#N/A"},null,null,null,null,null,null,null,null,null,null,null,null,null,null,null,null,null,null,null,null,125,"No",0,"","65+",0,null,null,null,{"$f":"IF($B5488 & $C5488=\"\",\"\", IF(ISBLANK(D5488),\"BLANK\",\"\"))","v":""},"","","",{"$f":"IF($B5488 & $C5488=\"\",\"\", IF(ISBLANK(I5488),\"BLANK\",\"\"))","v":""},""]
[5470,null,null,null,null,null,null,null,null,null,null,null,null,null,"",{"$error":"#N/A"},{"$error":"#N/A"},null,null,null,null,null,null,null,null,null,null,null,null,null,null,null,null,null,null,null,null,125,"No",0,"","65+",0,null,null,null,{"$f":"IF($B5489 & $C5489=\"\",\"\", IF(ISBLANK(D5489),\"BLANK\",\"\"))","v":""},"","","",{"$f":"IF($B5489 & $C5489=\"\",\"\", IF(ISBLANK(I5489),\"BLANK\",\"\"))","v":""},""]
[5471,null,null,null,null,null,null,null,null,null,null,null,null,null,"",{"$error":"#N/A"},{"$error":"#N/A"},null,null,null,null,null,null,null,null,null,null,null,null,null,null,null,null,null,null,null,null,125,"No",0,"","65+",0,null,null,null,{"$f":"IF($B5490 & $C5490=\"\",\"\", IF(ISBLANK(D5490),\"BLANK\",\"\"))","v":""},"","","",{"$f":"IF($B5490 & $C5490=\"\",\"\", IF(ISBLANK(I5490),\"BLANK\",\"\"))","v":""},""]
[5472,null,null,null,null,null,null,null,null,null,null,null,null,null,"",{"$error":"#N/A"},{"$error":"#N/A"},null,null,null,null,null,null,null,null,null,null,null,null,null,null,null,null,null,null,null,null,125,"No",0,"","65+",0,null,null,null,{"$f":"IF($B5491 & $C5491=\"\",\"\", IF(ISBLANK(D5491),\"BLANK\",\"\"))","v":""},"","","",{"$f":"IF($B5491 & $C5491=\"\",\"\", IF(ISBLANK(I5491),\"BLANK\",\"\"))","v":""},""]
[5473,null,null,null,null,null,null,null,null,null,null,null,null,null,"",{"$error":"#N/A"},{"$error":"#N/A"},null,null,null,null,null,null,null,null,null,null,null,null,null,null,null,null,null,null,null,null,125,"No",0,"","65+",0,null,null,null,{"$f":"IF($B5492 & $C5492=\"\",\"\", IF(ISBLANK(D5492),\"BLANK\",\"\"))","v":""},"","","",{"$f":"IF($B5492 & $C5492=\"\",\"\", IF(ISBLANK(I5492),\"BLANK\",\"\"))","v":""},""]
[5474,null,null,null,null,null,null,null,null,null,null,null,null,null,"",{"$error":"#N/A"},{"$error":"#N/A"},null,null,null,null,null,null,null,null,null,null,null,null,null,null,null,null,null,null,null,null,125,"No",0,"","65+",0,null,null,null,{"$f":"IF($B5493 & $C5493=\"\",\"\", IF(ISBLANK(D5493),\"BLANK\",\"\"))","v":""},"","","",{"$f":"IF($B5493 & $C5493=\"\",\"\", IF(ISBLANK(I5493),\"BLANK\",\"\"))","v":""},""]
[5475,null,null,null,null,null,null,null,null,null,null,null,null,null,"",{"$error":"#N/A"},{"$error":"#N/A"},null,null,null,null,null,null,null,null,null,null,null,null,null,null,null,null,null,null,null,null,125,"No",0,"","65+",0,null,null,null,{"$f":"IF($B5494 & $C5494=\"\",\"\", IF(ISBLANK(D5494),\"BLANK\",\"\"))","v":""},"","","",{"$f":"IF($B5494 & $C5494=\"\",\"\", IF(ISBLANK(I5494),\"BLANK\",\"\"))","v":""},""]
[5476,null,null,null,null,null,null,null,null,null,null,null,null,null,"",{"$error":"#N/A"},{"$error":"#N/A"},null,null,null,null,null,null,null,null,null,null,null,null,null,null,null,null,null,null,null,null,125,"No",0,"","65+",0,null,null,null,{"$f":"IF($B5495 & $C5495=\"\",\"\", IF(ISBLANK(D5495),\"BLANK\",\"\"))","v":""},"","","",{"$f":"IF($B5495 & $C5495=\"\",\"\", IF(ISBLANK(I5495),\"BLANK\",\"\"))","v":""},""]
[5477,null,null,null,null,null,null,null,null,null,null,null,null,null,"",{"$error":"#N/A"},{"$error":"#N/A"},null,null,null,null,null,null,null,null,null,null,null,null,null,null,null,null,null,null,null,null,125,"No",0,"","65+",0,null,null,null,{"$f":"IF($B5496 & $C5496=\"\",\"\", IF(ISBLANK(D5496),\"BLANK\",\"\"))","v":""},"","","",{"$f":"IF($B5496 & $C5496=\"\",\"\", IF(ISBLANK(I5496),\"BLANK\",\"\"))","v":""},""]
[5478,null,null,null,null,null,null,null,null,null,null,null,null,null,"",{"$error":"#N/A"},{"$error":"#N/A"},null,null,null,null,null,null,null,null,null,null,null,null,null,null,null,null,null,null,null,null,125,"No",0,"","65+",0,null,null,null,{"$f":"IF($B5497 & $C5497=\"\",\"\", IF(ISBLANK(D5497),\"BLANK\",\"\"))","v":""},"","","",{"$f":"IF($B5497 & $C5497=\"\",\"\", IF(ISBLANK(I5497),\"BLANK\",\"\"))","v":""},""]
[5479,null,null,null,null,null,null,null,null,null,null,null,null,null,"",{"$error":"#N/A"},{"$error":"#N/A"},null,null,null,null,null,null,null,null,null,null,null,null,null,null,null,null,null,null,null,null,125,"No",0,"","65+",0,null,null,null,{"$f":"IF($B5498 & $C5498=\"\",\"\", IF(ISBLANK(D5498),\"BLANK\",\"\"))","v":""},"","","",{"$f":"IF($B5498 & $C5498=\"\",\"\", IF(ISBLANK(I5498),\"BLANK\",\"\"))","v":""},""]
[5480,null,null,null,null,null,null,null,null,null,null,null,null,null,"",{"$error":"#N/A"},{"$error":"#N/A"},null,null,null,null,null,null,null,null,null,null,null,null,null,null,null,null,null,null,null,null,125,"No",0,"","65+",0,null,null,null,{"$f":"IF($B5499 & $C5499=\"\",\"\", IF(ISBLANK(D5499),\"BLANK\",\"\"))","v":""},"","","",{"$f":"IF($B5499 & $C5499=\"\",\"\", IF(ISBLANK(I5499),\"BLANK\",\"\"))","v":""},""]
[5481,null,null,null,null,null,null,null,null,null,null,null,null,null,"",{"$error":"#N/A"},{"$error":"#N/A"},null,null,null,null,null,null,null,null,null,null,null,null,null,null,null,null,null,null,null,null,125,"No",0,"","65+",0,null,null,null,{"$f":"IF($B5500 & $C5500=\"\",\"\", IF(ISBLANK(D5500),\"BLANK\",\"\"))","v":""},"","","",{"$f":"IF($B5500 & $C5500=\"\",\"\", IF(ISBLANK(I5500),\"BLANK\",\"\"))","v":""},""]
[5482,null,null,null,null,null,null,null,null,null,null,null,null,null,"",{"$error":"#N/A"},{"$error":"#N/A"},null,null,null,null,null,null,null,null,null,null,null,null,null,null,null,null,null,null,null,null,125,"No",0,"","65+",0,null,null,null,{"$f":"IF($B5501 & $C5501=\"\",\"\", IF(ISBLANK(D5501),\"BLANK\",\"\"))","v":""},"","","",{"$f":"IF($B5501 & $C5501=\"\",\"\", IF(ISBLANK(I5501),\"BLANK\",\"\"))","v":""},""]
[5483,null,null,null,null,null,null,null,null,null,null,null,null,null,"",{"$error":"#N/A"},{"$error":"#N/A"},null,null,null,null,null,null,null,null,null,null,null,null,null,null,null,null,null,null,null,null,125,"No",0,"","65+",0,null,null,null,{"$f":"IF($B5502 & $C5502=\"\",\"\", IF(ISBLANK(D5502),\"BLANK\",\"\"))","v":""},"","","",{"$f":"IF($B5502 & $C5502=\"\",\"\", IF(ISBLANK(I5502),\"BLANK\",\"\"))","v":""},""]
[5484,null,null,null,null,null,null,null,null,null,null,null,null,null,"",{"$error":"#N/A"},{"$error":"#N/A"},null,null,null,null,null,null,null,null,null,null,null,null,null,null,null,null,null,null,null,null,125,"No",0,"","65+",0,null,null,null,{"$f":"IF($B5503 & $C5503=\"\",\"\", IF(ISBLANK(D5503),\"BLANK\",\"\"))","v":""},"","","",{"$f":"IF($B5503 & $C5503=\"\",\"\", IF(ISBLANK(I5503),\"BLANK\",\"\"))","v":""},""]
[5485,null,null,null,null,null,null,null,null,null,null,null,null,null,"",{"$error":"#N/A"},{"$error":"#N/A"},null,null,null,null,null,null,null,null,null,null,null,null,null,null,null,null,null,null,null,null,125,"No",0,"","65+",0,null,null,null,{"$f":"IF($B5504 & $C5504=\"\",\"\", IF(ISBLANK(D5504),\"BLANK\",\"\"))","v":""},"","","",{"$f":"IF($B5504 & $C5504=\"\",\"\", IF(ISBLANK(I5504),\"BLANK\",\"\"))","v":""},""]
[5486,null,null,null,null,null,null,null,null,null,null,null,null,null,"",{"$error":"#N/A"},{"$error":"#N/A"},null,null,null,null,null,null,null,null,null,null,null,null,null,null,null,null,null,null,null,null,125,"No",0,"","65+",0,null,null,null,{"$f":"IF($B5505 & $C5505=\"\",\"\", IF(ISBLANK(D5505),\"BLANK\",\"\"))","v":""},"","","",{"$f":"IF($B5505 & $C5505=\"\",\"\", IF(ISBLANK(I5505),\"BLANK\",\"\"))","v":""},""]
[5487,null,null,null,null,null,null,null,null,null,null,null,null,null,"",{"$error":"#N/A"},{"$error":"#N/A"},null,null,null,null,null,null,null,null,null,null,null,null,null,null,null,null,null,null,null,null,125,"No",0,"","65+",0,null,null,null,{"$f":"IF($B5506 & $C5506=\"\",\"\", IF(ISBLANK(D5506),\"BLANK\",\"\"))","v":""},"","","",{"$f":"IF($B5506 & $C5506=\"\",\"\", IF(ISBLANK(I5506),\"BLANK\",\"\"))","v":""},""]
[5488,null,null,null,null,null,null,null,null,null,null,null,null,null,"",{"$error":"#N/A"},{"$error":"#N/A"},null,null,null,null,null,null,null,null,null,null,null,null,null,null,null,null,null,null,null,null,125,"No",0,"","65+",0,null,null,null,{"$f":"IF($B5507 & $C5507=\"\",\"\", IF(ISBLANK(D5507),\"BLANK\",\"\"))","v":""},"","","",{"$f":"IF($B5507 & $C5507=\"\",\"\", IF(ISBLANK(I5507),\"BLANK\",\"\"))","v":""},""]
[5489,null,null,null,null,null,null,null,null,null,null,null,null,null,"",{"$error":"#N/A"},{"$error":"#N/A"},null,null,null,null,null,null,null,null,null,null,null,null,null,null,null,null,null,null,null,null,125,"No",0,"","65+",0,null,null,null,{"$f":"IF($B5508 & $C5508=\"\",\"\", IF(ISBLANK(D5508),\"BLANK\",\"\"))","v":""},"","","",{"$f":"IF($B5508 & $C5508=\"\",\"\", IF(ISBLANK(I5508),\"BLANK\",\"\"))","v":""},""]
[5490,null,null,null,null,null,null,null,null,null,null,null,null,null,"",{"$error":"#N/A"},{"$error":"#N/A"},null,null,null,null,null,null,null,null,null,null,null,null,null,null,null,null,null,null,null,null,125,"No",0,"","65+",0,null,null,null,{"$f":"IF($B5509 & $C5509=\"\",\"\", IF(ISBLANK(D5509),\"BLANK\",\"\"))","v":""},"","","",{"$f":"IF($B5509 & $C5509=\"\",\"\", IF(ISBLANK(I5509),\"BLANK\",\"\"))","v":""},""]
[5491,null,null,null,null,null,null,null,null,null,null,null,null,null,"",{"$error":"#N/A"},{"$error":"#N/A"},null,null,null,null,null,null,null,null,null,null,null,null,null,null,null,null,null,null,null,null,125,"No",0,"","65+",0,null,null,null,{"$f":"IF($B5510 & $C5510=\"\",\"\", IF(ISBLANK(D5510),\"BLANK\",\"\"))","v":""},"","","",{"$f":"IF($B5510 & $C5510=\"\",\"\", IF(ISBLANK(I5510),\"BLANK\",\"\"))","v":""},""]
[5492,null,null,null,null,null,null,null,null,null,null,null,null,null,"",{"$error":"#N/A"},{"$error":"#N/A"},null,null,null,null,null,null,null,null,null,null,null,null,null,null,null,null,null,null,null,null,125,"No",0,"","65+",0,null,null,null,{"$f":"IF($B5511 & $C5511=\"\",\"\", IF(ISBLANK(D5511),\"BLANK\",\"\"))","v":""},"","","",{"$f":"IF($B5511 & $C5511=\"\",\"\", IF(ISBLANK(I5511),\"BLANK\",\"\"))","v":""},""]
[5493,null,null,null,null,null,null,null,null,null,null,null,null,null,"",{"$error":"#N/A"},{"$error":"#N/A"},null,null,null,null,null,null,null,null,null,null,null,null,null,null,null,null,null,null,null,null,125,"No",0,"","65+",0,null,null,null,{"$f":"IF($B5512 & $C5512=\"\",\"\", IF(ISBLANK(D5512),\"BLANK\",\"\"))","v":""},"","","",{"$f":"IF($B5512 & $C5512=\"\",\"\", IF(ISBLANK(I5512),\"BLANK\",\"\"))","v":""},""]
[5494,null,null,null,null,null,null,null,null,null,null,null,null,null,"",{"$error":"#N/A"},{"$error":"#N/A"},null,null,null,null,null,null,null,null,null,null,null,null,null,null,null,null,null,null,null,null,125,"No",0,"","65+",0,null,null,null,{"$f":"IF($B5513 & $C5513=\"\",\"\", IF(ISBLANK(D5513),\"BLANK\",\"\"))","v":""},"","","",{"$f":"IF($B5513 & $C5513=\"\",\"\", IF(ISBLANK(I5513),\"BLANK\",\"\"))","v":""},""]
[5495,null,null,null,null,null,null,null,null,null,null,null,null,null,"",{"$error":"#N/A"},{"$error":"#N/A"},null,null,null,null,null,null,null,null,null,null,null,null,null,null,null,null,null,null,null,null,125,"No",0,"","65+",0,null,null,null,{"$f":"IF($B5514 & $C5514=\"\",\"\", IF(ISBLANK(D5514),\"BLANK\",\"\"))","v":""},"","","",{"$f":"IF($B5514 & $C5514=\"\",\"\", IF(ISBLANK(I5514),\"BLANK\",\"\"))","v":""},""]
[5496,null,null,null,null,null,null,null,null,null,null,null,null,null,"",{"$error":"#N/A"},{"$error":"#N/A"},null,null,null,null,null,null,null,null,null,null,null,null,null,null,null,null,null,null,null,null,125,"No",0,"","65+",0,null,null,null,{"$f":"IF($B5515 & $C5515=\"\",\"\", IF(ISBLANK(D5515),\"BLANK\",\"\"))","v":""},"","","",{"$f":"IF($B5515 & $C5515=\"\",\"\", IF(ISBLANK(I5515),\"BLANK\",\"\"))","v":""},""]
[5497,null,null,null,null,null,null,null,null,null,null,null,null,null,"",{"$error":"#N/A"},{"$error":"#N/A"},null,null,null,null,null,null,null,null,null,null,null,null,null,null,null,null,null,null,null,null,125,"No",0,"","65+",0,null,null,null,{"$f":"IF($B5516 & $C5516=\"\",\"\", IF(ISBLANK(D5516),\"BLANK\",\"\"))","v":""},"","","",{"$f":"IF($B5516 & $C5516=\"\",\"\", IF(ISBLANK(I5516),\"BLANK\",\"\"))","v":""},""]
[5498,null,null,null,null,null,null,null,null,null,null,null,null,null,"",{"$error":"#N/A"},{"$error":"#N/A"},null,null,null,null,null,null,null,null,null,null,null,null,null,null,null,null,null,null,null,null,125,"No",0,"","65+",0,null,null,null,{"$f":"IF($B5517 & $C5517=\"\",\"\", IF(ISBLANK(D5517),\"BLANK\",\"\"))","v":""},"","","",{"$f":"IF($B5517 & $C5517=\"\",\"\", IF(ISBLANK(I5517),\"BLANK\",\"\"))","v":""},""]
[5499,null,null,null,null,null,null,null,null,null,null,null,null,null,"",{"$error":"#N/A"},{"$error":"#N/A"},null,null,null,null,null,null,null,null,null,null,null,null,null,null,null,null,null,null,null,null,125,"No",0,"","65+",0,null,null,null,{"$f":"IF($B5518 & $C5518=\"\",\"\", IF(ISBLANK(D5518),\"BLANK\",\"\"))","v":""},"","","",{"$f":"IF($B5518 & $C5518=\"\",\"\", IF(ISBLANK(I5518),\"BLANK\",\"\"))","v":""},""]
[5500,null,null,null,null,null,null,null,null,null,null,null,null,null,"",{"$error":"#N/A"},{"$error":"#N/A"},null,null,null,null,null,null,null,null,null,null,null,null,null,null,null,null,null,null,null,null,125,"No",0,"","65+",0,null,null,null,{"$f":"IF($B5519 & $C5519=\"\",\"\", IF(ISBLANK(D5519),\"BLANK\",\"\"))","v":""},"","","",{"$f":"IF($B5519 & $C5519=\"\",\"\", IF(ISBLANK(I5519),\"BLANK\",\"\"))","v":""},""]

{"sheet":"PeoType","index":3,"n_rows":1,"n_cols":1,"rows_kept":1,"cut":false,"hidden":true,"merged":[]}
["Both"]

{"sheet":"NM Zips","index":4,"n_rows":426,"n_cols":1,"rows_kept":426,"cut":false,"hidden":true,"merged":[]}
[87001.0]
[87002.0]
[87004.0]
[87005.0]
[87006.0]
[87007.0]
[87008.0]
[87009.0]
[87010.0]
[87011.0]
[87012.0]
[87013.0]
[87014.0]
[87015.0]
[87016.0]
[87017.0]
[87018.0]
[87020.0]
[87021.0]
[87022.0]
[87023.0]
[87024.0]
[87025.0]
[87026.0]
[87027.0]
[87028.0]
[87029.0]
[87031.0]
[87032.0]
[87034.0]
[87035.0]
[87036.0]
[87037.0]
[87038.0]
[87040.0]
[87041.0]
[87042.0]
[87043.0]
[87044.0]
[87045.0]
[87046.0]
[87047.0]
[87048.0]
[87049.0]
[87051.0]
[87052.0]
[87053.0]
[87056.0]
[87059.0]
[87060.0]
[87061.0]
[87062.0]
[87063.0]
[87064.0]
[87068.0]
[87070.0]
[87072.0]
[87083.0]
[87101.0]
[87102.0]
[87103.0]
[87104.0]
[87105.0]
[87106.0]
[87107.0]
[87108.0]
[87109.0]
[87110.0]
[87111.0]
[87112.0]
[87113.0]
[87114.0]
[87115.0]
[87116.0]
[87117.0]
[87119.0]
[87120.0]
[87121.0]
[87122.0]
[87123.0]
[87124.0]
[87125.0]
[87131.0]
[87144.0]
[87151.0]
[87153.0]
[87154.0]
[87158.0]
[87165.0]
[87174.0]
[87176.0]
[87181.0]
[87184.0]
[87185.0]
[87187.0]
[87190.0]
[87191.0]
[87192.0]
[87193.0]
[87194.0]
[87195.0]
[87196.0]
[87197.0]
[87198.0]
[87199.0]
[87301.0]
[87302.0]
[87305.0]
[87310.0]
[87311.0]
[87312.0]
[87313.0]
[87315.0]
[87316.0]
[87317.0]
[87319.0]
[87320.0]
[87321.0]
[87322.0]
[87323.0]
[87325.0]
[87326.0]
[87327.0]
[87328.0]
[87347.0]
[87357.0]
[87364.0]
[87365.0]
[87375.0]
[87401.0]
[87402.0]
[87410.0]
[87412.0]
[87413.0]
[87415.0]
[87416.0]
[87417.0]
[87418.0]
[87419.0]
[87420.0]
[87421.0]
[87455.0]
[87461.0]
[87499.0]
[87501.0]
[87502.0]
[87503.0]
[87504.0]
[87505.0]
[87506.0]
[87507.0]
[87508.0]
[87509.0]
[87510.0]
[87511.0]
[87512.0]
[87513.0]
[87514.0]
[87515.0]
[87516.0]
[87517.0]
[87518.0]
[87519.0]
[87520.0]
[87521.0]
[87522.0]
[87523.0]
[87524.0]
[87525.0]
[87527.0]
[87528.0]
[87529.0]
[87530.0]
[87531.0]
[87532.0]
[87533.0]
[87535.0]
[87537.0]
[87538.0]
[87539.0]
[87540.0]
[87543.0]
[87544.0]
[87545.0]
[87548.0]
[87549.0]
[87551.0]
[87552.0]
[87553.0]
[87554.0]
[87556.0]
[87557.0]
[87558.0]
[87560.0]
[87562.0]
[87564.0]
[87565.0]
[87566.0]
[87567.0]
[87569.0]
[87571.0]
[87573.0]
[87574.0]
[87575.0]
[87576.0]
[87577.0]
[87578.0]
[87579.0]
[87580.0]
[87581.0]
[87582.0]
[87583.0]
[87592.0]
[87594.0]
[87701.0]
[87710.0]
[87711.0]
[87712.0]
[87713.0]
[87714.0]
[87715.0]
[87718.0]
[87722.0]
[87723.0]
[87724.0]
[87728.0]
[87729.0]
[87730.0]
[87731.0]
[87732.0]
[87733.0]
[87734.0]
[87735.0]
[87736.0]
[87740.0]
[87742.0]
[87743.0]
[87745.0]
[87746.0]
[87747.0]
[87749.0]
[87750.0]
[87752.0]
[87753.0]
[87801.0]
[87820.0]
[87821.0]
[87823.0]
[87824.0]
[87825.0]
[87827.0]
[87828.0]
[87829.0]
[87830.0]
[87831.0]
[87832.0]
[87901.0]
[87930.0]
[87931.0]
[87933.0]
[87935.0]
[87936.0]
[87937.0]
[87939.0]
[87940.0]
[87941.0]
[87942.0]
[87943.0]
[88001.0]
[88002.0]
[88003.0]
[88004.0]
[88005.0]
[88006.0]
[88007.0]
[88008.0]
[88009.0]
[88011.0]
[88012.0]
[88013.0]
[88020.0]
[88021.0]
[88022.0]
[88023.0]
[88024.0]
[88025.0]
[88026.0]
[88027.0]
[88028.0]
[88029.0]
[88030.0]
[88031.0]
[88032.0]
[88033.0]
[88034.0]
[88036.0]
[88038.0]
[88039.0]
[88040.0]
[88041.0]
[88042.0]
[88043.0]
[88044.0]
[88045.0]
[88046.0]
[88047.0]
[88048.0]
[88049.0]
[88051.0]
[88052.0]
[88053.0]
[88054.0]
[88055.0]
[88056.0]
[88058.0]
[88061.0]
[88062.0]
[88063.0]
[88065.0]
[88072.0]
[88081.0]
[88101.0]
[88102.0]
[88103.0]
[88112.0]
[88113.0]
[88114.0]
[88115.0]
[88116.0]
[88118.0]
[88119.0]
[88120.0]
[88121.0]
[88122.0]
[88123.0]
[88124.0]
[88125.0]
[88126.0]
[88130.0]
[88132.0]
[88133.0]
[88134.0]
[88135.0]
[88136.0]
[88201.0]
[88202.0]
[88203.0]
[88210.0]
[88211.0]
[88213.0]
[88220.0]
[88221.0]
[88230.0]
[88231.0]
[88232.0]
[88240.0]
[88241.0]
[88242.0]
[88244.0]
[88250.0]
[88252.0]
[88253.0]
[88254.0]
[88255.0]
[88256.0]
[88260.0]
[88262.0]
[88263.0]
[88264.0]
[88265.0]
[88267.0]
[88268.0]
[88301.0]
[88310.0]
[88311.0]
[88312.0]
[88314.0]
[88316.0]
[88317.0]
[88318.0]
[88321.0]
[88323.0]
[88324.0]
[88325.0]
[88330.0]
[88336.0]
[88337.0]
[88338.0]
[88339.0]
[88340.0]
[88341.0]
[88342.0]
[88343.0]
[88344.0]
[88345.0]
[88346.0]
[88347.0]
[88348.0]
[88349.0]
[88350.0]
[88351.0]
[88352.0]
[88353.0]
[88354.0]
[88355.0]
[88401.0]
[88410.0]
[88411.0]
[88414.0]
[88415.0]
[88416.0]
[88417.0]
[88418.0]
[88419.0]
[88421.0]
[88422.0]
[88424.0]
[88426.0]
[88427.0]
[88430.0]
[88431.0]
[88433.0]
[88434.0]
[88435.0]
[88436.0]
[88439.0]

{"sheet":"Properties","index":5,"n_rows":2,"n_cols":2,"rows_kept":2,"cut":false,"hidden":true,"merged":[]}
["IsInternalVersion",false]
["HideDependents",false]

{"sheet":"Backup1","index":6,"n_rows":0,"n_cols":0,"rows_kept":0,"cut":false,"hidden":true,"merged":[]}

{"sheet":"Backup2","index":7,"n_rows":1,"n_cols":1,"rows_kept":1,"cut":false,"hidden":true,"merged":[]}
["Backup"]

{"sheet":"shComments","index":8,"n_rows":0,"n_cols":0,"rows_kept":0,"cut":false,"hidden":true,"merged":[]}

{"sheet":"Employees","index":9,"n_rows":0,"n_cols":0,"rows_kept":0,"cut":false,"hidden":true,"merged":[]}